BEGIN:VCALENDAR
VERSION:2.0
PRODID:-//ESDCTA - ECPv6.15.20//NONSGML v1.0//EN
CALSCALE:GREGORIAN
METHOD:PUBLISH
X-ORIGINAL-URL:https://esdcta.org
X-WR-CALDESC:Events for ESDCTA
REFRESH-INTERVAL;VALUE=DURATION:PT1H
X-Robots-Tag:noindex
X-PUBLISHED-TTL:PT1H
BEGIN:VTIMEZONE
TZID:America/New_York
BEGIN:DAYLIGHT
TZOFFSETFROM:-0500
TZOFFSETTO:-0400
TZNAME:EDT
DTSTART:20200308T070000
END:DAYLIGHT
BEGIN:STANDARD
TZOFFSETFROM:-0400
TZOFFSETTO:-0500
TZNAME:EST
DTSTART:20201101T060000
END:STANDARD
BEGIN:DAYLIGHT
TZOFFSETFROM:-0500
TZOFFSETTO:-0400
TZNAME:EDT
DTSTART:20210314T070000
END:DAYLIGHT
BEGIN:STANDARD
TZOFFSETFROM:-0400
TZOFFSETTO:-0500
TZNAME:EST
DTSTART:20211107T060000
END:STANDARD
BEGIN:DAYLIGHT
TZOFFSETFROM:-0500
TZOFFSETTO:-0400
TZNAME:EDT
DTSTART:20220313T070000
END:DAYLIGHT
BEGIN:STANDARD
TZOFFSETFROM:-0400
TZOFFSETTO:-0500
TZNAME:EST
DTSTART:20221106T060000
END:STANDARD
END:VTIMEZONE
BEGIN:VEVENT
DTSTART;TZID=America/New_York:20211031T080000
DTEND;TZID=America/New_York:20211031T170000
DTSTAMP:20260421T072914
CREATED:20210905T154011Z
LAST-MODIFIED:20210905T154011Z
UID:10000630-1635667200-1635699600@esdcta.org
SUMMARY:Jersey Shore Pony Club
DESCRIPTION:Dressage Schooling \, Combined Test
URL:https://esdcta.org/event/jersey-shore-pony-club-2/
LOCATION:Tri-Brook Equestrian\, 283 Long Swamp Road\, New Egypt\, NJ\, 8533
CATEGORIES:Dressage,Eventing
END:VEVENT
BEGIN:VEVENT
DTSTART;TZID=America/New_York:20210814T080000
DTEND;TZID=America/New_York:20210814T170000
DTSTAMP:20260421T072914
CREATED:20210628T124357Z
LAST-MODIFIED:20210628T124357Z
UID:10000629-1628928000-1628960400@esdcta.org
SUMMARY:Jersey Shore Pony Club
DESCRIPTION:
URL:https://esdcta.org/event/jersey-shore-pony-club/
LOCATION:Tri-Brook Equestrian\, 283 Long Swamp Road\, New Egypt\, NJ\, 8533
CATEGORIES:Dressage,Eventing
END:VEVENT
END:VCALENDAR