BEGIN:VCALENDAR
VERSION:2.0
PRODID:-//ESDCTA - ECPv6.15.20//NONSGML v1.0//EN
CALSCALE:GREGORIAN
METHOD:PUBLISH
X-WR-CALNAME:ESDCTA
X-ORIGINAL-URL:https://esdcta.org
X-WR-CALDESC:Events for ESDCTA
REFRESH-INTERVAL;VALUE=DURATION:PT1H
X-Robots-Tag:noindex
X-PUBLISHED-TTL:PT1H
BEGIN:VTIMEZONE
TZID:America/New_York
BEGIN:DAYLIGHT
TZOFFSETFROM:-0500
TZOFFSETTO:-0400
TZNAME:EDT
DTSTART:20170312T070000
END:DAYLIGHT
BEGIN:STANDARD
TZOFFSETFROM:-0400
TZOFFSETTO:-0500
TZNAME:EST
DTSTART:20171105T060000
END:STANDARD
BEGIN:DAYLIGHT
TZOFFSETFROM:-0500
TZOFFSETTO:-0400
TZNAME:EDT
DTSTART:20180311T070000
END:DAYLIGHT
BEGIN:STANDARD
TZOFFSETFROM:-0400
TZOFFSETTO:-0500
TZNAME:EST
DTSTART:20181104T060000
END:STANDARD
BEGIN:DAYLIGHT
TZOFFSETFROM:-0500
TZOFFSETTO:-0400
TZNAME:EDT
DTSTART:20190310T070000
END:DAYLIGHT
BEGIN:STANDARD
TZOFFSETFROM:-0400
TZOFFSETTO:-0500
TZNAME:EST
DTSTART:20191103T060000
END:STANDARD
END:VTIMEZONE
BEGIN:VEVENT
DTSTART;TZID=America/New_York:20181027T080000
DTEND;TZID=America/New_York:20181027T170000
DTSTAMP:20260425T235451
CREATED:20180905T224053Z
LAST-MODIFIED:20180905T224053Z
UID:10000135-1540627200-1540659600@esdcta.org
SUMMARY:Christine Stuckelberger Clinic
DESCRIPTION:
URL:https://esdcta.org/event/christine-stuckelberger-clinicc-2/
LOCATION:PA
CATEGORIES:Dressage
ATTACH;FMTTYPE=:
END:VEVENT
BEGIN:VEVENT
DTSTART;TZID=America/New_York:20181026T080000
DTEND;TZID=America/New_York:20181026T170000
DTSTAMP:20260425T235451
CREATED:20180905T224051Z
LAST-MODIFIED:20180905T224051Z
UID:10000134-1540540800-1540573200@esdcta.org
SUMMARY:Christine Stuckelberger Clinic
DESCRIPTION:
URL:https://esdcta.org/event/christine-stuckelberger-clinicc/
LOCATION:PA
CATEGORIES:Dressage
ATTACH;FMTTYPE=:
END:VEVENT
BEGIN:VEVENT
DTSTART;TZID=America/New_York:20181021T080000
DTEND;TZID=America/New_York:20181021T170000
DTSTAMP:20260425T235451
CREATED:20180923T131953Z
LAST-MODIFIED:20180923T131953Z
UID:10000234-1540108800-1540141200@esdcta.org
SUMMARY:Free Walk Dressage
DESCRIPTION:Dressage Schooling
URL:https://esdcta.org/event/free-walk-dressage-4/
LOCATION:Free Walk Dressage\, 2522 Route 207\, Campbell Hall\, NY\, 10916\, United States
CATEGORIES:Dressage
ATTACH;FMTTYPE=:
GEO:41.457415;-74.218818
X-APPLE-STRUCTURED-LOCATION;VALUE=URI;X-ADDRESS=Free Walk Dressage 2522 Route 207 Campbell Hall NY 10916 United States;X-APPLE-RADIUS=500;X-TITLE=2522 Route 207:geo:-74.218818,41.457415
END:VEVENT
BEGIN:VEVENT
DTSTART;TZID=America/New_York:20181020T080000
DTEND;TZID=America/New_York:20181020T170000
DTSTAMP:20260425T235451
CREATED:20180723T124504Z
LAST-MODIFIED:20180723T124504Z
UID:10000129-1540022400-1540054800@esdcta.org
SUMMARY:Bucks Co Horse Park
DESCRIPTION:USEF/USDF Dressage
URL:https://esdcta.org/event/bucks-co-horse-park-20/
LOCATION:Bucks County Horse Park\, 8934 Easton Rd\, Revere\, PA\, 018953\, United States
CATEGORIES:Dressage
ATTACH;FMTTYPE=:
GEO:40.5224751;-75.1684702
X-APPLE-STRUCTURED-LOCATION;VALUE=URI;X-ADDRESS=Bucks County Horse Park 8934 Easton Rd Revere PA 018953 United States;X-APPLE-RADIUS=500;X-TITLE=8934 Easton Rd:geo:-75.1684702,40.5224751
END:VEVENT
BEGIN:VEVENT
DTSTART;TZID=America/New_York:20181010T193000
DTEND;TZID=America/New_York:20181010T213000
DTSTAMP:20260425T235451
CREATED:20171227T030926Z
LAST-MODIFIED:20171227T030926Z
UID:10000076-1539199800-1539207000@esdcta.org
SUMMARY:ESDCTA Board Meeting
DESCRIPTION:Board meetings are open to current ESDCTA members.\nContact the Secretary for detailed information on this meeting\nsecretary@esdcta.org
URL:https://esdcta.org/event/esdcta-board-meeting/2018-10-10/
LOCATION:PA
CATEGORIES:Meeting
ATTACH;FMTTYPE=:
END:VEVENT
BEGIN:VEVENT
DTSTART;TZID=America/New_York:20181007T080000
DTEND;TZID=America/New_York:20181007T170000
DTSTAMP:20260425T235451
CREATED:20171231T232350Z
LAST-MODIFIED:20171231T232350Z
UID:10000100-1538899200-1538931600@esdcta.org
SUMMARY:LVDA
DESCRIPTION:Dressage Schooling
URL:https://esdcta.org/event/lvda-6/
LOCATION:Rhythm & Blues Equestrian Center\, 2450 Steinsburg Rd\, Quakertown\, PA\, 18951\, United States
CATEGORIES:Dressage
ATTACH;FMTTYPE=:
GEO:40.4551978;-75.4324816
X-APPLE-STRUCTURED-LOCATION;VALUE=URI;X-ADDRESS=Rhythm & Blues Equestrian Center 2450 Steinsburg Rd Quakertown PA 18951 United States;X-APPLE-RADIUS=500;X-TITLE=2450 Steinsburg Rd:geo:-75.4324816,40.4551978
END:VEVENT
BEGIN:VEVENT
DTSTART;TZID=America/New_York:20181006T080000
DTEND;TZID=America/New_York:20181006T170000
DTSTAMP:20260425T235451
CREATED:20171231T232328Z
LAST-MODIFIED:20171231T232328Z
UID:10000089-1538812800-1538845200@esdcta.org
SUMMARY:ESDCTA Dressage Schooling Show
DESCRIPTION:Open Dressage Schooling Show and Youth Team competition \n(NOT a Cross Country Schooling day)
URL:https://esdcta.org/event/esdcta-open-schooling/
LOCATION:Horse Park of New Jersey\, 626 Rte 524\, Allentown\, NJ\, 08501\, United States
CATEGORIES:Dressage
ATTACH;FMTTYPE=:
GEO:40.1905006;-74.4935697
X-APPLE-STRUCTURED-LOCATION;VALUE=URI;X-ADDRESS=Horse Park of New Jersey 626 Rte 524 Allentown NJ 08501 United States;X-APPLE-RADIUS=500;X-TITLE=626 Rte 524:geo:-74.4935697,40.1905006
END:VEVENT
BEGIN:VEVENT
DTSTART;TZID=America/New_York:20180916T080000
DTEND;TZID=America/New_York:20180916T170000
DTSTAMP:20260425T235451
CREATED:20171231T232350Z
LAST-MODIFIED:20171231T232350Z
UID:10000099-1537084800-1537117200@esdcta.org
SUMMARY:LVDA
DESCRIPTION:Dressage Schooling
URL:https://esdcta.org/event/lvda-5/
LOCATION:Thunderhead Farm\, 7813 Springhouse Rd\, New Tripoli\, PA\, 18066\, United States
CATEGORIES:Dressage
ATTACH;FMTTYPE=:
GEO:40.686243;-75.808524
X-APPLE-STRUCTURED-LOCATION;VALUE=URI;X-ADDRESS=Thunderhead Farm 7813 Springhouse Rd New Tripoli PA 18066 United States;X-APPLE-RADIUS=500;X-TITLE=7813 Springhouse Rd:geo:-75.808524,40.686243
END:VEVENT
BEGIN:VEVENT
DTSTART;TZID=America/New_York:20180912T193000
DTEND;TZID=America/New_York:20180912T213000
DTSTAMP:20260425T235451
CREATED:20171227T030926Z
LAST-MODIFIED:20171227T030926Z
UID:10000075-1536780600-1536787800@esdcta.org
SUMMARY:ESDCTA Board Meeting
DESCRIPTION:Board meetings are open to current ESDCTA members.\nContact the Secretary for detailed information on this meeting\nsecretary@esdcta.org
URL:https://esdcta.org/event/esdcta-board-meeting/2018-09-12/
LOCATION:PA
CATEGORIES:Meeting
ATTACH;FMTTYPE=:
END:VEVENT
BEGIN:VEVENT
DTSTART;TZID=America/New_York:20180908T080000
DTEND;TZID=America/New_York:20180908T170000
DTSTAMP:20260425T235451
CREATED:20180729T013722Z
LAST-MODIFIED:20180729T013722Z
UID:10000133-1536393600-1536426000@esdcta.org
SUMMARY:Dressage at Stone Tavern II
DESCRIPTION:Prizelist: https://www/horseparkofnewjersey.com/event-2395826
URL:https://esdcta.org/event/dressage-at-stone-tavern-ii/
LOCATION:Horse Park of New Jersey\, 626 Rte 524\, Allentown\, NJ\, 08501\, United States
CATEGORIES:Dressage
ATTACH;FMTTYPE=:
GEO:40.1905006;-74.4935697
X-APPLE-STRUCTURED-LOCATION;VALUE=URI;X-ADDRESS=Horse Park of New Jersey 626 Rte 524 Allentown NJ 08501 United States;X-APPLE-RADIUS=500;X-TITLE=626 Rte 524:geo:-74.4935697,40.1905006
END:VEVENT
BEGIN:VEVENT
DTSTART;TZID=America/New_York:20180825T080000
DTEND;TZID=America/New_York:20180825T170000
DTSTAMP:20260425T235451
CREATED:20180204T161905Z
LAST-MODIFIED:20180204T161905Z
UID:10000109-1535184000-1535216400@esdcta.org
SUMMARY:Skip Ahead Dressage
DESCRIPTION:
URL:https://esdcta.org/event/skip-ahead-dressage-2/
LOCATION:Skip Ahead Dressage\, 235 Braddock Mill Road\, Marlton\, NJ\, 08503\, United States
CATEGORIES:Dressage
ATTACH;FMTTYPE=:
GEO:39.8511;-74.9141
X-APPLE-STRUCTURED-LOCATION;VALUE=URI;X-ADDRESS=Skip Ahead Dressage 235 Braddock Mill Road Marlton NJ 08503 United States;X-APPLE-RADIUS=500;X-TITLE=235 Braddock Mill Road:geo:-74.9141,39.8511
END:VEVENT
BEGIN:VEVENT
DTSTART;TZID=America/New_York:20180808T193000
DTEND;TZID=America/New_York:20180808T213000
DTSTAMP:20260425T235451
CREATED:20171227T030926Z
LAST-MODIFIED:20171227T030926Z
UID:10000074-1533756600-1533763800@esdcta.org
SUMMARY:ESDCTA Board Meeting
DESCRIPTION:Board meetings are open to current ESDCTA members.\nContact the Secretary for detailed information on this meeting\nsecretary@esdcta.org
URL:https://esdcta.org/event/esdcta-board-meeting/2018-08-08/
LOCATION:PA
CATEGORIES:Meeting
ATTACH;FMTTYPE=:
END:VEVENT
BEGIN:VEVENT
DTSTART;TZID=America/New_York:20180807T080000
DTEND;TZID=America/New_York:20180807T170000
DTSTAMP:20260425T235451
CREATED:20171227T015624Z
LAST-MODIFIED:20171227T015624Z
UID:10000063-1533628800-1533661200@esdcta.org
SUMMARY:Red Tail Farm V
DESCRIPTION:USDF Dressage Show
URL:https://esdcta.org/event/red-tail-farm-aug-v/
LOCATION:Red Tail Farm\, 1100 Rattlesnake Bridge Rd\, Bedminster Township\, NJ\, 07921\, United States
CATEGORIES:Dressage
ATTACH;FMTTYPE=:
GEO:40.6437934;-74.7160768
X-APPLE-STRUCTURED-LOCATION;VALUE=URI;X-ADDRESS=Red Tail Farm 1100 Rattlesnake Bridge Rd Bedminster Township NJ 07921 United States;X-APPLE-RADIUS=500;X-TITLE=1100 Rattlesnake Bridge Rd:geo:-74.7160768,40.6437934
END:VEVENT
BEGIN:VEVENT
DTSTART;TZID=America/New_York:20180805T090000
DTEND;TZID=America/New_York:20180805T140000
DTSTAMP:20260425T235451
CREATED:20180513T212444Z
LAST-MODIFIED:20180513T212444Z
UID:10000122-1533459600-1533477600@esdcta.org
SUMMARY:Cross Country Schooling at the HPNJ
DESCRIPTION:Come and school the Cross Country Course at the Horse Park of New Jersey \nFMI:  https://esdcta.org/home/eventing/cross-country-schooling/prize-list/
URL:https://esdcta.org/event/6436/2018-08-05/
LOCATION:Horse Park of New Jersey\, 626 Rte 524\, Allentown\, NJ\, 08501\, United States
CATEGORIES:Eventing
GEO:40.1905006;-74.4935697
X-APPLE-STRUCTURED-LOCATION;VALUE=URI;X-ADDRESS=Horse Park of New Jersey 626 Rte 524 Allentown NJ 08501 United States;X-APPLE-RADIUS=500;X-TITLE=626 Rte 524:geo:-74.4935697,40.1905006
END:VEVENT
BEGIN:VEVENT
DTSTART;TZID=America/New_York:20180805T080000
DTEND;TZID=America/New_York:20180805T170000
DTSTAMP:20260425T235451
CREATED:20180723T124447Z
LAST-MODIFIED:20180723T124447Z
UID:10000127-1533456000-1533488400@esdcta.org
SUMMARY:Fun Show at the Horse Park of NJ
DESCRIPTION:Dressage Schooling
URL:https://esdcta.org/event/fun-show-at-the-horse-park-of-nj/
LOCATION:Horse Park of New Jersey\, 626 Rte 524\, Allentown\, NJ\, 08501\, United States
CATEGORIES:Dressage
ATTACH;FMTTYPE=:
GEO:40.1905006;-74.4935697
X-APPLE-STRUCTURED-LOCATION;VALUE=URI;X-ADDRESS=Horse Park of New Jersey 626 Rte 524 Allentown NJ 08501 United States;X-APPLE-RADIUS=500;X-TITLE=626 Rte 524:geo:-74.4935697,40.1905006
END:VEVENT
BEGIN:VEVENT
DTSTART;TZID=America/New_York:20180805T080000
DTEND;TZID=America/New_York:20180805T170000
DTSTAMP:20260425T235451
CREATED:20180723T124445Z
LAST-MODIFIED:20180723T124445Z
UID:10000126-1533456000-1533488400@esdcta.org
SUMMARY:Bucks Co Horse Park
DESCRIPTION:USEF/USDF Dressage
URL:https://esdcta.org/event/bucks-co-horse-park-19/
LOCATION:Bucks County Horse Park\, 8934 Easton Rd\, Revere\, PA\, 018953\, United States
CATEGORIES:Dressage
ATTACH;FMTTYPE=:
GEO:40.5224751;-75.1684702
X-APPLE-STRUCTURED-LOCATION;VALUE=URI;X-ADDRESS=Bucks County Horse Park 8934 Easton Rd Revere PA 018953 United States;X-APPLE-RADIUS=500;X-TITLE=8934 Easton Rd:geo:-75.1684702,40.5224751
END:VEVENT
BEGIN:VEVENT
DTSTART;TZID=America/New_York:20180730T080000
DTEND;TZID=America/New_York:20180730T170000
DTSTAMP:20260425T235451
CREATED:20180325T181338Z
LAST-MODIFIED:20180325T181338Z
UID:10000115-1532937600-1532970000@esdcta.org
SUMMARY:Fix-A-Test with Cheryl Ash
DESCRIPTION:A Bucks County Horse Park event \nSecretary: \nMaureen Ferris\n610.847.8597\noffice@buckscountyhorsepark.org \n 
URL:https://esdcta.org/event/fix-a-test-with-cheryl-ash-2/
LOCATION:Bucks County Horse Park\, 8934 Easton Rd\, Revere\, PA\, 018953\, United States
CATEGORIES:Dressage
GEO:40.5224751;-75.1684702
X-APPLE-STRUCTURED-LOCATION;VALUE=URI;X-ADDRESS=Bucks County Horse Park 8934 Easton Rd Revere PA 018953 United States;X-APPLE-RADIUS=500;X-TITLE=8934 Easton Rd:geo:-75.1684702,40.5224751
END:VEVENT
BEGIN:VEVENT
DTSTART;TZID=America/New_York:20180725T080000
DTEND;TZID=America/New_York:20180725T170000
DTSTAMP:20260425T235451
CREATED:20180104T220759Z
LAST-MODIFIED:20180104T220759Z
UID:10000107-1532505600-1532538000@esdcta.org
SUMMARY:ESDCTA Summer Days II
DESCRIPTION:USDF Dressage Show at the \nUS Equestrian Team HQ in \nGladstone\, NJ
URL:https://esdcta.org/event/esdcta-summer-days-ii/
LOCATION:US Equestrian Team Headquarters\, 1040 Pottersville Road\, Gladstone\, NJ\, 07934-2053\, United States
CATEGORIES:Dressage
ATTACH;FMTTYPE=:
GEO:40.71896;-74.6873304
X-APPLE-STRUCTURED-LOCATION;VALUE=URI;X-ADDRESS=US Equestrian Team Headquarters 1040 Pottersville Road Gladstone NJ 07934-2053 United States;X-APPLE-RADIUS=500;X-TITLE=1040 Pottersville Road:geo:-74.6873304,40.71896
END:VEVENT
BEGIN:VEVENT
DTSTART;TZID=America/New_York:20180724T080000
DTEND;TZID=America/New_York:20180724T170000
DTSTAMP:20260425T235451
CREATED:20171231T232331Z
LAST-MODIFIED:20171231T232331Z
UID:10000092-1532419200-1532451600@esdcta.org
SUMMARY:ESDCTA Summer Days I
DESCRIPTION:USDF Dressage Show at the \nUS Equestrian Team HQ in \nGladstone\, NJ
URL:https://esdcta.org/event/esdcta-summer-days/
LOCATION:US Equestrian Team Headquarters\, 1040 Pottersville Road\, Gladstone\, NJ\, 07934-2053\, United States
CATEGORIES:Dressage
ATTACH;FMTTYPE=:
GEO:40.71896;-74.6873304
X-APPLE-STRUCTURED-LOCATION;VALUE=URI;X-ADDRESS=US Equestrian Team Headquarters 1040 Pottersville Road Gladstone NJ 07934-2053 United States;X-APPLE-RADIUS=500;X-TITLE=1040 Pottersville Road:geo:-74.6873304,40.71896
END:VEVENT
BEGIN:VEVENT
DTSTART;TZID=America/New_York:20180718T080000
DTEND;TZID=America/New_York:20180718T170000
DTSTAMP:20260425T235451
CREATED:20171231T232337Z
LAST-MODIFIED:20171231T232337Z
UID:10000095-1531900800-1531933200@esdcta.org
SUMMARY:Red Tail Farm July IV
DESCRIPTION:USDF Dressage Show
URL:https://esdcta.org/event/red-tail-farm-july-iv/
LOCATION:Red Tail Farm\, 1100 Rattlesnake Bridge Rd\, Bedminster Township\, NJ\, 07921\, United States
CATEGORIES:Dressage
ATTACH;FMTTYPE=:
GEO:40.6437934;-74.7160768
X-APPLE-STRUCTURED-LOCATION;VALUE=URI;X-ADDRESS=Red Tail Farm 1100 Rattlesnake Bridge Rd Bedminster Township NJ 07921 United States;X-APPLE-RADIUS=500;X-TITLE=1100 Rattlesnake Bridge Rd:geo:-74.7160768,40.6437934
END:VEVENT
BEGIN:VEVENT
DTSTART;TZID=America/New_York:20180717T080000
DTEND;TZID=America/New_York:20180717T170000
DTSTAMP:20260425T235451
CREATED:20180917T165356Z
LAST-MODIFIED:20180917T165356Z
UID:10000193-1531814400-1531846800@esdcta.org
SUMMARY:Red Tail Farm July III
DESCRIPTION:USDF Dressage Show
URL:https://esdcta.org/event/red-tail-farm-july-iii-2/
LOCATION:Red Tail Farm\, 1100 Rattlesnake Bridge Rd\, Bedminster Township\, NJ\, 07921\, United States
ATTACH;FMTTYPE=:
GEO:40.6437934;-74.7160768
X-APPLE-STRUCTURED-LOCATION;VALUE=URI;X-ADDRESS=Red Tail Farm 1100 Rattlesnake Bridge Rd Bedminster Township NJ 07921 United States;X-APPLE-RADIUS=500;X-TITLE=1100 Rattlesnake Bridge Rd:geo:-74.7160768,40.6437934
END:VEVENT
BEGIN:VEVENT
DTSTART;TZID=America/New_York:20180717T080000
DTEND;TZID=America/New_York:20180717T170000
DTSTAMP:20260425T235451
CREATED:20171231T232318Z
LAST-MODIFIED:20171231T232318Z
UID:10000087-1531814400-1531846800@esdcta.org
SUMMARY:Bucks Co Horse Park
DESCRIPTION:Dressage Schooling\, Tuesday Evening Dressage
URL:https://esdcta.org/event/bucks-co-horse-park-12/
LOCATION:Bucks County Horse Park\, 8934 Easton Rd\, Revere\, PA\, 018953\, United States
CATEGORIES:Dressage
ATTACH;FMTTYPE=:
GEO:40.5224751;-75.1684702
X-APPLE-STRUCTURED-LOCATION;VALUE=URI;X-ADDRESS=Bucks County Horse Park 8934 Easton Rd Revere PA 018953 United States;X-APPLE-RADIUS=500;X-TITLE=8934 Easton Rd:geo:-75.1684702,40.5224751
END:VEVENT
BEGIN:VEVENT
DTSTART;TZID=America/New_York:20180717T080000
DTEND;TZID=America/New_York:20180717T170000
DTSTAMP:20260425T235451
CREATED:20171227T015624Z
LAST-MODIFIED:20171227T015624Z
UID:10000062-1531814400-1531846800@esdcta.org
SUMMARY:Red Tail Farm III
DESCRIPTION:USDF Dressage Show
URL:https://esdcta.org/event/red-tail-farm-july-iii/
LOCATION:Red Tail Farm\, 1100 Rattlesnake Bridge Rd\, Bedminster Township\, NJ\, 07921\, United States
CATEGORIES:Dressage
ATTACH;FMTTYPE=:
GEO:40.6437934;-74.7160768
X-APPLE-STRUCTURED-LOCATION;VALUE=URI;X-ADDRESS=Red Tail Farm 1100 Rattlesnake Bridge Rd Bedminster Township NJ 07921 United States;X-APPLE-RADIUS=500;X-TITLE=1100 Rattlesnake Bridge Rd:geo:-74.7160768,40.6437934
END:VEVENT
BEGIN:VEVENT
DTSTART;TZID=America/New_York:20180715T080000
DTEND;TZID=America/New_York:20180715T170000
DTSTAMP:20260425T235451
CREATED:20171231T232340Z
LAST-MODIFIED:20171231T232340Z
UID:10000098-1531641600-1531674000@esdcta.org
SUMMARY:Phoenix Equestrian Ctr.
DESCRIPTION:Dressage\, Combined Test\, and Clear Round
URL:https://esdcta.org/event/phoenix-equestrian-ctr-4/
LOCATION:PA
CATEGORIES:Dressage,Eventing
ATTACH;FMTTYPE=:
END:VEVENT
BEGIN:VEVENT
DTSTART;TZID=America/New_York:20180715T080000
DTEND;TZID=America/New_York:20180715T170000
DTSTAMP:20260425T235451
CREATED:20171227T015606Z
LAST-MODIFIED:20171227T015606Z
UID:10000045-1531641600-1531674000@esdcta.org
SUMMARY:Bucks Co Horse Park
DESCRIPTION:Schooling Horse Trials\, Dressage\, Clear Round\, and Combined Test
URL:https://esdcta.org/event/bucks-co-horse-park-3/
LOCATION:Bucks County Horse Park\, 8934 Easton Rd\, Revere\, PA\, 018953\, United States
CATEGORIES:Dressage,Eventing
ATTACH;FMTTYPE=:
GEO:40.5224751;-75.1684702
X-APPLE-STRUCTURED-LOCATION;VALUE=URI;X-ADDRESS=Bucks County Horse Park 8934 Easton Rd Revere PA 018953 United States;X-APPLE-RADIUS=500;X-TITLE=8934 Easton Rd:geo:-75.1684702,40.5224751
END:VEVENT
BEGIN:VEVENT
DTSTART;TZID=America/New_York:20180714T080000
DTEND;TZID=America/New_York:20180714T170000
DTSTAMP:20260425T235451
CREATED:20171227T015610Z
LAST-MODIFIED:20171227T015610Z
UID:10000054-1531555200-1531587600@esdcta.org
SUMMARY:Good Times Farm
DESCRIPTION:Dressage Schooling Show
URL:https://esdcta.org/event/good-times-farm-2/
LOCATION:Good Times Farm\, 278 Jackson Mills Road\, Freehold\, NJ\, 07728\, United States
CATEGORIES:Dressage
ATTACH;FMTTYPE=:
GEO:40.1868303;-74.2885136
X-APPLE-STRUCTURED-LOCATION;VALUE=URI;X-ADDRESS=Good Times Farm 278 Jackson Mills Road Freehold NJ 07728 United States;X-APPLE-RADIUS=500;X-TITLE=278 Jackson Mills Road:geo:-74.2885136,40.1868303
END:VEVENT
BEGIN:VEVENT
DTSTART;TZID=America/New_York:20180714T080000
DTEND;TZID=America/New_York:20180714T170000
DTSTAMP:20260425T235451
CREATED:20171227T015604Z
LAST-MODIFIED:20171227T015604Z
UID:10000044-1531555200-1531587600@esdcta.org
SUMMARY:Bit O Woods Farm
DESCRIPTION:Dressage\, and Clear Round
URL:https://esdcta.org/event/bit-o-woods-farm-2/
LOCATION:Bit O Woods Farm\, 2207 Fostertown Road\, Hainesport\, NJ\, 08036\, United States
CATEGORIES:Dressage,Eventing
ATTACH;FMTTYPE=:
GEO:39.963529;-74.8435267
X-APPLE-STRUCTURED-LOCATION;VALUE=URI;X-ADDRESS=Bit O Woods Farm 2207 Fostertown Road Hainesport NJ 08036 United States;X-APPLE-RADIUS=500;X-TITLE=2207 Fostertown Road:geo:-74.8435267,39.963529
END:VEVENT
BEGIN:VEVENT
DTSTART;TZID=America/New_York:20180711T193000
DTEND;TZID=America/New_York:20180711T213000
DTSTAMP:20260425T235451
CREATED:20171227T030926Z
LAST-MODIFIED:20171227T030926Z
UID:10000073-1531337400-1531344600@esdcta.org
SUMMARY:ESDCTA Board Meeting
DESCRIPTION:Board meetings are open to current ESDCTA members.\nContact the Secretary for detailed information on this meeting\nsecretary@esdcta.org
URL:https://esdcta.org/event/esdcta-board-meeting/2018-07-11/
LOCATION:PA
CATEGORIES:Meeting
ATTACH;FMTTYPE=:
END:VEVENT
BEGIN:VEVENT
DTSTART;TZID=America/New_York:20180711T080000
DTEND;TZID=America/New_York:20180711T170000
DTSTAMP:20260425T235451
CREATED:20171227T015631Z
LAST-MODIFIED:20171227T015631Z
UID:10000066-1531296000-1531328400@esdcta.org
SUMMARY:Suddenly Farm
DESCRIPTION:USDF Dressage Show
URL:https://esdcta.org/event/suddenly-farm-7/
LOCATION:Suddenly Farm\, 325 Main Street\, Lumberton\, NJ\, 08048\, United States
CATEGORIES:Dressage
GEO:39.9387;-74.8235
X-APPLE-STRUCTURED-LOCATION;VALUE=URI;X-ADDRESS=Suddenly Farm 325 Main Street Lumberton NJ 08048 United States;X-APPLE-RADIUS=500;X-TITLE=325 Main Street:geo:-74.8235,39.9387
END:VEVENT
BEGIN:VEVENT
DTSTART;TZID=America/New_York:20180711T080000
DTEND;TZID=America/New_York:20180711T170000
DTSTAMP:20260425T235451
CREATED:20171227T015550Z
LAST-MODIFIED:20171227T015550Z
UID:10000043-1531296000-1531328400@esdcta.org
SUMMARY:Applewood Farm
DESCRIPTION:Dressage\, Combined Test\, and Clear Round
URL:https://esdcta.org/event/applewood-farm-3/
LOCATION:Applewood Farm\, 30 Fox Hill Road\, Califon\, NJ\, 07830\, United States
CATEGORIES:Dressage,Eventing
ATTACH;FMTTYPE=:
GEO:40.704441;-74.764977
X-APPLE-STRUCTURED-LOCATION;VALUE=URI;X-ADDRESS=Applewood Farm 30 Fox Hill Road Califon NJ 07830 United States;X-APPLE-RADIUS=500;X-TITLE=30 Fox Hill Road:geo:-74.764977,40.704441
END:VEVENT
END:VCALENDAR