BEGIN:VCALENDAR
VERSION:2.0
PRODID:-//ESDCTA - ECPv6.15.20//NONSGML v1.0//EN
CALSCALE:GREGORIAN
METHOD:PUBLISH
X-WR-CALNAME:ESDCTA
X-ORIGINAL-URL:https://esdcta.org
X-WR-CALDESC:Events for ESDCTA
REFRESH-INTERVAL;VALUE=DURATION:PT1H
X-Robots-Tag:noindex
X-PUBLISHED-TTL:PT1H
BEGIN:VTIMEZONE
TZID:America/New_York
BEGIN:DAYLIGHT
TZOFFSETFROM:-0500
TZOFFSETTO:-0400
TZNAME:EDT
DTSTART:20180311T070000
END:DAYLIGHT
BEGIN:STANDARD
TZOFFSETFROM:-0400
TZOFFSETTO:-0500
TZNAME:EST
DTSTART:20181104T060000
END:STANDARD
BEGIN:DAYLIGHT
TZOFFSETFROM:-0500
TZOFFSETTO:-0400
TZNAME:EDT
DTSTART:20190310T070000
END:DAYLIGHT
BEGIN:STANDARD
TZOFFSETFROM:-0400
TZOFFSETTO:-0500
TZNAME:EST
DTSTART:20191103T060000
END:STANDARD
BEGIN:DAYLIGHT
TZOFFSETFROM:-0500
TZOFFSETTO:-0400
TZNAME:EDT
DTSTART:20200308T070000
END:DAYLIGHT
BEGIN:STANDARD
TZOFFSETFROM:-0400
TZOFFSETTO:-0500
TZNAME:EST
DTSTART:20201101T060000
END:STANDARD
END:VTIMEZONE
BEGIN:VEVENT
DTSTART;TZID=America/New_York:20190511T080000
DTEND;TZID=America/New_York:20190511T170000
DTSTAMP:20260425T183528
CREATED:20190318T021049Z
LAST-MODIFIED:20190318T021049Z
UID:10000364-1557561600-1557594000@esdcta.org
SUMMARY:Saddlebrook Ridge
DESCRIPTION:Dressage Schooling\, Western Dressage
URL:https://esdcta.org/event/saddlebrook-ridge-17/
LOCATION:Saddlebrook Ridge Equestrian Center\, 10 Saddlebrook Court\, Shamong\, NJ\, 08088\, United States
CATEGORIES:Dressage
ATTACH;FMTTYPE=:
GEO:39.8205251;-74.7828144
X-APPLE-STRUCTURED-LOCATION;VALUE=URI;X-ADDRESS=Saddlebrook Ridge Equestrian Center 10 Saddlebrook Court Shamong NJ 08088 United States;X-APPLE-RADIUS=500;X-TITLE=10 Saddlebrook Court:geo:-74.7828144,39.8205251
END:VEVENT
BEGIN:VEVENT
DTSTART;TZID=America/New_York:20190511T080000
DTEND;TZID=America/New_York:20190511T170000
DTSTAMP:20260425T183528
CREATED:20190106T020120Z
LAST-MODIFIED:20190106T020120Z
UID:10000239-1557561600-1557594000@esdcta.org
SUMMARY:Carousel Farm
DESCRIPTION:Dressage Schooling
URL:https://esdcta.org/event/carousel-farm-6/
LOCATION:Level Up Equestrian/Augusta Training Center\, 8 Linn Smith Road\, Augusta\, NJ\, 07822\, United States
CATEGORIES:Dressage
ATTACH;FMTTYPE=:
GEO:41.138794;-74.7039379
X-APPLE-STRUCTURED-LOCATION;VALUE=URI;X-ADDRESS=Level Up Equestrian/Augusta Training Center 8 Linn Smith Road Augusta NJ 07822 United States;X-APPLE-RADIUS=500;X-TITLE=8 Linn Smith Road:geo:-74.7039379,41.138794
END:VEVENT
BEGIN:VEVENT
DTSTART;TZID=America/New_York:20190507T080000
DTEND;TZID=America/New_York:20190507T170000
DTSTAMP:20260425T183528
CREATED:20190228T134145Z
LAST-MODIFIED:20190228T134145Z
UID:10000274-1557216000-1557248400@esdcta.org
SUMMARY:Bucks Co Horse Park
DESCRIPTION:Dressage Schooling\, Tues Eve
URL:https://esdcta.org/event/bucks-co-horse-park-45/
LOCATION:Bucks County Horse Park\, 8934 Easton Rd\, Revere\, PA\, 018953\, United States
CATEGORIES:Dressage
GEO:40.5224751;-75.1684702
X-APPLE-STRUCTURED-LOCATION;VALUE=URI;X-ADDRESS=Bucks County Horse Park 8934 Easton Rd Revere PA 018953 United States;X-APPLE-RADIUS=500;X-TITLE=8934 Easton Rd:geo:-75.1684702,40.5224751
END:VEVENT
BEGIN:VEVENT
DTSTART;TZID=America/New_York:20190505T080000
DTEND;TZID=America/New_York:20190505T170000
DTSTAMP:20260425T183528
CREATED:20190318T021053Z
LAST-MODIFIED:20190318T021053Z
UID:10000372-1557043200-1557075600@esdcta.org
SUMMARY:Suddenly Farm
DESCRIPTION:USDF Dressage Show
URL:https://esdcta.org/event/suddenly-farm-20/
LOCATION:Suddenly Farm\, 325 Main Street\, Lumberton\, NJ\, 08048\, United States
CATEGORIES:Dressage
GEO:39.9387;-74.8235
X-APPLE-STRUCTURED-LOCATION;VALUE=URI;X-ADDRESS=Suddenly Farm 325 Main Street Lumberton NJ 08048 United States;X-APPLE-RADIUS=500;X-TITLE=325 Main Street:geo:-74.8235,39.9387
END:VEVENT
BEGIN:VEVENT
DTSTART;TZID=America/New_York:20190505T080000
DTEND;TZID=America/New_York:20190505T170000
DTSTAMP:20260425T183528
CREATED:20190228T134209Z
LAST-MODIFIED:20190228T134209Z
UID:10000300-1557043200-1557075600@esdcta.org
SUMMARY:Rhythm and Blues Eq. Ctr. (Pa)
DESCRIPTION:Dressage Schooling
URL:https://esdcta.org/event/rhythm-and-blues-eq-ctr-pa-5/
LOCATION:Rhythm & Blues Equestrian Center\, 2450 Steinsburg Rd\, Quakertown\, PA\, 18951\, United States
CATEGORIES:Dressage
GEO:40.4551978;-75.4324816
X-APPLE-STRUCTURED-LOCATION;VALUE=URI;X-ADDRESS=Rhythm & Blues Equestrian Center 2450 Steinsburg Rd Quakertown PA 18951 United States;X-APPLE-RADIUS=500;X-TITLE=2450 Steinsburg Rd:geo:-75.4324816,40.4551978
END:VEVENT
BEGIN:VEVENT
DTSTART;TZID=America/New_York:20190504T080000
DTEND;TZID=America/New_York:20190504T170000
DTSTAMP:20260425T183528
CREATED:20190318T021044Z
LAST-MODIFIED:20190318T021044Z
UID:10000353-1556956800-1556989200@esdcta.org
SUMMARY:Orange Co. Dressage Assoc
DESCRIPTION:Dressage Schooling
URL:https://esdcta.org/event/orange-co-dressage-assoc-9/
LOCATION:Thomas Bull Memorial Park\, 211 NY 416\, Montgomery\, NY\, 12549\, United States
CATEGORIES:Dressage
ATTACH;FMTTYPE=:
GEO:41.479488;-74.272769
X-APPLE-STRUCTURED-LOCATION;VALUE=URI;X-ADDRESS=Thomas Bull Memorial Park 211 NY 416 Montgomery NY 12549 United States;X-APPLE-RADIUS=500;X-TITLE=211 NY 416:geo:-74.272769,41.479488
END:VEVENT
BEGIN:VEVENT
DTSTART;TZID=America/New_York:20190504T080000
DTEND;TZID=America/New_York:20190504T170000
DTSTAMP:20260425T183528
CREATED:20190228T134145Z
LAST-MODIFIED:20190228T134145Z
UID:10000273-1556956800-1556989200@esdcta.org
SUMMARY:Bucks Co Horse Park
DESCRIPTION:USEF/USDF Dressage
URL:https://esdcta.org/event/bucks-co-horse-park-44/
LOCATION:Bucks County Horse Park\, 8934 Easton Rd\, Revere\, PA\, 018953\, United States
CATEGORIES:Dressage
GEO:40.5224751;-75.1684702
X-APPLE-STRUCTURED-LOCATION;VALUE=URI;X-ADDRESS=Bucks County Horse Park 8934 Easton Rd Revere PA 018953 United States;X-APPLE-RADIUS=500;X-TITLE=8934 Easton Rd:geo:-75.1684702,40.5224751
END:VEVENT
BEGIN:VEVENT
DTSTART;TZID=America/New_York:20190428T080000
DTEND;TZID=America/New_York:20190428T170000
DTSTAMP:20260425T183528
CREATED:20190318T021042Z
LAST-MODIFIED:20190318T021042Z
UID:10000350-1556438400-1556470800@esdcta.org
SUMMARY:Jersey Palms
DESCRIPTION:Dressage Schooling
URL:https://esdcta.org/event/jersey-palms-7/
LOCATION:Jersey Palms Farm\, 177 S. Stump Tavern Road\, Jackson\, NJ\, 08527\, United States
CATEGORIES:Dressage
ATTACH;FMTTYPE=:
GEO:40.0900691;-74.4057337
X-APPLE-STRUCTURED-LOCATION;VALUE=URI;X-ADDRESS=Jersey Palms Farm 177 S. Stump Tavern Road Jackson NJ 08527 United States;X-APPLE-RADIUS=500;X-TITLE=177 S. Stump Tavern Road:geo:-74.4057337,40.0900691
END:VEVENT
BEGIN:VEVENT
DTSTART;TZID=America/New_York:20190428T080000
DTEND;TZID=America/New_York:20190428T170000
DTSTAMP:20260425T183528
CREATED:20190303T233600Z
LAST-MODIFIED:20190303T233600Z
UID:10000319-1556438400-1556470800@esdcta.org
SUMMARY:Windy Hollow Hunt
DESCRIPTION:USEF/USDF Dressage
URL:https://esdcta.org/event/windy-hollow-hunt-2/
LOCATION:Sussex County Fairgrounds\, 37 Plains Rd\, Augusta\, NJ\, 07822\, United States
CATEGORIES:Dressage
GEO:41.1362927;-74.7164249
X-APPLE-STRUCTURED-LOCATION;VALUE=URI;X-ADDRESS=Sussex County Fairgrounds 37 Plains Rd Augusta NJ 07822 United States;X-APPLE-RADIUS=500;X-TITLE=37 Plains Rd:geo:-74.7164249,41.1362927
END:VEVENT
BEGIN:VEVENT
DTSTART;TZID=America/New_York:20190428T080000
DTEND;TZID=America/New_York:20190428T170000
DTSTAMP:20260425T183528
CREATED:20190127T203458Z
LAST-MODIFIED:20190127T203458Z
UID:10000256-1556438400-1556470800@esdcta.org
SUMMARY:Phoenix Eq. Ctr.
DESCRIPTION:Dressage\, Combined Test\, and Clear Round
URL:https://esdcta.org/event/phoenix-eq-ctr/
LOCATION:NJ
CATEGORIES:Dressage,Eventing
ATTACH;FMTTYPE=:
END:VEVENT
BEGIN:VEVENT
DTSTART;TZID=America/New_York:20190428T080000
DTEND;TZID=America/New_York:20190428T170000
DTSTAMP:20260425T183528
CREATED:20190127T203451Z
LAST-MODIFIED:20190127T203451Z
UID:10000250-1556438400-1556470800@esdcta.org
SUMMARY:LVDA
DESCRIPTION:Dressage Schooling
URL:https://esdcta.org/event/lvda-9/
LOCATION:Thunderhead Farm\, 7813 Springhouse Rd\, New Tripoli\, PA\, 18066\, United States
CATEGORIES:Dressage
ATTACH;FMTTYPE=:
GEO:40.686243;-75.808524
X-APPLE-STRUCTURED-LOCATION;VALUE=URI;X-ADDRESS=Thunderhead Farm 7813 Springhouse Rd New Tripoli PA 18066 United States;X-APPLE-RADIUS=500;X-TITLE=7813 Springhouse Rd:geo:-75.808524,40.686243
END:VEVENT
BEGIN:VEVENT
DTSTART;TZID=America/New_York:20190427T080000
DTEND;TZID=America/New_York:20190427T170000
DTSTAMP:20260425T183528
CREATED:20190303T233559Z
LAST-MODIFIED:20190303T233559Z
UID:10000318-1556352000-1556384400@esdcta.org
SUMMARY:Windy Hollow Hunt
DESCRIPTION:USEF/USDF Dressage
URL:https://esdcta.org/event/windy-hollow-hunt/
LOCATION:Sussex County Fairgrounds\, 37 Plains Rd\, Augusta\, NJ\, 07822\, United States
CATEGORIES:Dressage
GEO:41.1362927;-74.7164249
X-APPLE-STRUCTURED-LOCATION;VALUE=URI;X-ADDRESS=Sussex County Fairgrounds 37 Plains Rd Augusta NJ 07822 United States;X-APPLE-RADIUS=500;X-TITLE=37 Plains Rd:geo:-74.7164249,41.1362927
END:VEVENT
BEGIN:VEVENT
DTSTART;TZID=America/New_York:20190414T080000
DTEND;TZID=America/New_York:20190414T170000
DTSTAMP:20260425T183528
CREATED:20190303T233559Z
LAST-MODIFIED:20190303T233559Z
UID:10000317-1555228800-1555261200@esdcta.org
SUMMARY:NJ Region Pony Club
DESCRIPTION:Dressage Schooling
URL:https://esdcta.org/event/nj-region-pony-club-4/
LOCATION:US Equestrian Team Headquarters\, 1040 Pottersville Road\, Gladstone\, NJ\, 07934-2053\, United States
CATEGORIES:Dressage
GEO:40.71896;-74.6873304
X-APPLE-STRUCTURED-LOCATION;VALUE=URI;X-ADDRESS=US Equestrian Team Headquarters 1040 Pottersville Road Gladstone NJ 07934-2053 United States;X-APPLE-RADIUS=500;X-TITLE=1040 Pottersville Road:geo:-74.6873304,40.71896
END:VEVENT
BEGIN:VEVENT
DTSTART;TZID=America/New_York:20190414T080000
DTEND;TZID=America/New_York:20190414T170000
DTSTAMP:20260425T183528
CREATED:20190228T134215Z
LAST-MODIFIED:20190228T134215Z
UID:10000311-1555228800-1555261200@esdcta.org
SUMMARY:Dressage Experience
DESCRIPTION:USEF/USDF Dressage Show
URL:https://esdcta.org/event/dressage-experience-9/
LOCATION:Burlington County Fairgrounds\, Route 206 & Jacksonville-Jobstown Road\, Springfield Twp.\, NJ\, 08022\, United States
CATEGORIES:Dressage
GEO:40.5680978;-74.624505
X-APPLE-STRUCTURED-LOCATION;VALUE=URI;X-ADDRESS=Burlington County Fairgrounds Route 206 & Jacksonville-Jobstown Road Springfield Twp. NJ 08022 United States;X-APPLE-RADIUS=500;X-TITLE=Route 206 & Jacksonville-Jobstown Road:geo:-74.624505,40.5680978
END:VEVENT
BEGIN:VEVENT
DTSTART;TZID=America/New_York:20190414T080000
DTEND;TZID=America/New_York:20190414T170000
DTSTAMP:20260425T183528
CREATED:20190228T134144Z
LAST-MODIFIED:20190228T134144Z
UID:10000272-1555228800-1555261200@esdcta.org
SUMMARY:Bucks Co Horse Park
DESCRIPTION:Dressage\, Clear Round\, and Combined Test
URL:https://esdcta.org/event/bucks-co-horse-park-43/
LOCATION:Bucks County Horse Park\, 8934 Easton Rd\, Revere\, PA\, 018953\, United States
CATEGORIES:Dressage,Eventing
GEO:40.5224751;-75.1684702
X-APPLE-STRUCTURED-LOCATION;VALUE=URI;X-ADDRESS=Bucks County Horse Park 8934 Easton Rd Revere PA 018953 United States;X-APPLE-RADIUS=500;X-TITLE=8934 Easton Rd:geo:-75.1684702,40.5224751
END:VEVENT
BEGIN:VEVENT
DTSTART;TZID=America/New_York:20190413T080000
DTEND;TZID=America/New_York:20190413T170000
DTSTAMP:20260425T183528
CREATED:20190318T031030Z
LAST-MODIFIED:20190318T031030Z
UID:10000380-1555142400-1555174800@esdcta.org
SUMMARY:D4K Benefit Show
DESCRIPTION:Dressage Schooling
URL:https://esdcta.org/event/d4k-benefit-show/
LOCATION:Bucks County Horse Park\, 8934 Easton Rd\, Revere\, PA\, 018953\, United States
CATEGORIES:Dressage
GEO:40.5224751;-75.1684702
X-APPLE-STRUCTURED-LOCATION;VALUE=URI;X-ADDRESS=Bucks County Horse Park 8934 Easton Rd Revere PA 018953 United States;X-APPLE-RADIUS=500;X-TITLE=8934 Easton Rd:geo:-75.1684702,40.5224751
END:VEVENT
BEGIN:VEVENT
DTSTART;TZID=America/New_York:20190413T080000
DTEND;TZID=America/New_York:20190413T170000
DTSTAMP:20260425T183528
CREATED:20190318T021053Z
LAST-MODIFIED:20190318T021053Z
UID:10000371-1555142400-1555174800@esdcta.org
SUMMARY:Suddenly Farm
DESCRIPTION:Dressage Schooling
URL:https://esdcta.org/event/suddenly-farm-19/
LOCATION:Suddenly Farm\, 325 Main Street\, Lumberton\, NJ\, 08048\, United States
CATEGORIES:Dressage
GEO:39.9387;-74.8235
X-APPLE-STRUCTURED-LOCATION;VALUE=URI;X-ADDRESS=Suddenly Farm 325 Main Street Lumberton NJ 08048 United States;X-APPLE-RADIUS=500;X-TITLE=325 Main Street:geo:-74.8235,39.9387
END:VEVENT
BEGIN:VEVENT
DTSTART;TZID=America/New_York:20190407T080000
DTEND;TZID=America/New_York:20190407T170000
DTSTAMP:20260425T183528
CREATED:20190228T134206Z
LAST-MODIFIED:20190228T134206Z
UID:10000296-1554624000-1554656400@esdcta.org
SUMMARY:Free Walk Dressage
DESCRIPTION:Dressage Schooling
URL:https://esdcta.org/event/free-walk-dressage-5/
LOCATION:Free Walk Dressage\, 2522 Route 207\, Campbell Hall\, NY\, 10916\, United States
CATEGORIES:Dressage
GEO:41.457415;-74.218818
X-APPLE-STRUCTURED-LOCATION;VALUE=URI;X-ADDRESS=Free Walk Dressage 2522 Route 207 Campbell Hall NY 10916 United States;X-APPLE-RADIUS=500;X-TITLE=2522 Route 207:geo:-74.218818,41.457415
END:VEVENT
BEGIN:VEVENT
DTSTART;TZID=America/New_York:20190406T080000
DTEND;TZID=America/New_York:20190407T170000
DTSTAMP:20260425T183528
CREATED:20190127T203508Z
LAST-MODIFIED:20190127T203508Z
UID:10000271-1554537600-1554656400@esdcta.org
SUMMARY:Lilo Fore Symposium
DESCRIPTION:Dressage Clinic
URL:https://esdcta.org/event/lilo-fore-symposium/
LOCATION:Horse Park of New Jersey\, 626 Rte 524\, Allentown\, NJ\, 08501\, United States
CATEGORIES:Dressage
ATTACH;FMTTYPE=:
GEO:40.1905006;-74.4935697
X-APPLE-STRUCTURED-LOCATION;VALUE=URI;X-ADDRESS=Horse Park of New Jersey 626 Rte 524 Allentown NJ 08501 United States;X-APPLE-RADIUS=500;X-TITLE=626 Rte 524:geo:-74.4935697,40.1905006
END:VEVENT
BEGIN:VEVENT
DTSTART;TZID=America/New_York:20190406T080000
DTEND;TZID=America/New_York:20190406T170000
DTSTAMP:20260425T183528
CREATED:20190318T021049Z
LAST-MODIFIED:20190318T021049Z
UID:10000363-1554537600-1554570000@esdcta.org
SUMMARY:Saddlebrook Ridge
DESCRIPTION:Dressage\, Western Dressage\, Combined Test\, and Clear Round
URL:https://esdcta.org/event/saddlebrook-ridge-16/
LOCATION:Saddlebrook Ridge Equestrian Center\, 10 Saddlebrook Court\, Shamong\, NJ\, 08088\, United States
CATEGORIES:Dressage,Eventing
ATTACH;FMTTYPE=:
GEO:39.8205251;-74.7828144
X-APPLE-STRUCTURED-LOCATION;VALUE=URI;X-ADDRESS=Saddlebrook Ridge Equestrian Center 10 Saddlebrook Court Shamong NJ 08088 United States;X-APPLE-RADIUS=500;X-TITLE=10 Saddlebrook Court:geo:-74.7828144,39.8205251
END:VEVENT
BEGIN:VEVENT
DTSTART;TZID=America/New_York:20190406T080000
DTEND;TZID=America/New_York:20190406T170000
DTSTAMP:20260425T183528
CREATED:20190127T203506Z
LAST-MODIFIED:20190127T203506Z
UID:10000269-1554537600-1554570000@esdcta.org
SUMMARY:Alexandria Eq. Assoc.
DESCRIPTION:Dressage Schooling
URL:https://esdcta.org/event/alexandria-eq-assoc-9/
LOCATION:Alexandria Park\, 242 Little York-Mt. Pleasant Road\, Milford\, NJ\, 08848\, United States
CATEGORIES:Dressage
ATTACH;FMTTYPE=:
GEO:40.5877982;-75.0565806
X-APPLE-STRUCTURED-LOCATION;VALUE=URI;X-ADDRESS=Alexandria Park 242 Little York-Mt. Pleasant Road Milford NJ 08848 United States;X-APPLE-RADIUS=500;X-TITLE=242 Little York-Mt. Pleasant Road:geo:-75.0565806,40.5877982
END:VEVENT
BEGIN:VEVENT
DTSTART;TZID=America/New_York:20190331T080000
DTEND;TZID=America/New_York:20190331T170000
DTSTAMP:20260425T183528
CREATED:20190113T224825Z
LAST-MODIFIED:20190113T224825Z
UID:10000249-1554019200-1554051600@esdcta.org
SUMMARY:Horse Park NJ Winter Series
DESCRIPTION:Dressage Schooling
URL:https://esdcta.org/event/horse-park-nj-winter-series-9/
LOCATION:Horse Park of New Jersey\, 626 Rte 524\, Allentown\, NJ\, 08501\, United States
CATEGORIES:Dressage
ATTACH;FMTTYPE=:
GEO:40.1905006;-74.4935697
X-APPLE-STRUCTURED-LOCATION;VALUE=URI;X-ADDRESS=Horse Park of New Jersey 626 Rte 524 Allentown NJ 08501 United States;X-APPLE-RADIUS=500;X-TITLE=626 Rte 524:geo:-74.4935697,40.1905006
END:VEVENT
BEGIN:VEVENT
DTSTART;TZID=America/New_York:20190317T080000
DTEND;TZID=America/New_York:20190317T170000
DTSTAMP:20260425T183528
CREATED:20190106T020119Z
LAST-MODIFIED:20190106T020119Z
UID:10000235-1552809600-1552842000@esdcta.org
SUMMARY:Bit O Woods Farm
DESCRIPTION:Dressage\, and Clear Round
URL:https://esdcta.org/event/bit-o-woods-farm-6/
LOCATION:Bit O Woods Farm\, 2207 Fostertown Road\, Hainesport\, NJ\, 08036\, United States
CATEGORIES:Dressage,Eventing
ATTACH;FMTTYPE=:
GEO:39.963529;-74.8435267
X-APPLE-STRUCTURED-LOCATION;VALUE=URI;X-ADDRESS=Bit O Woods Farm 2207 Fostertown Road Hainesport NJ 08036 United States;X-APPLE-RADIUS=500;X-TITLE=2207 Fostertown Road:geo:-74.8435267,39.963529
END:VEVENT
BEGIN:VEVENT
DTSTART;TZID=America/New_York:20190316T080000
DTEND;TZID=America/New_York:20190316T170000
DTSTAMP:20260425T183528
CREATED:20190127T203506Z
LAST-MODIFIED:20190127T203506Z
UID:10000268-1552723200-1552755600@esdcta.org
SUMMARY:Alexandria Eq. Assoc.
DESCRIPTION:Dressage Schooling
URL:https://esdcta.org/event/alexandria-eq-assoc-8/
LOCATION:Alexandria Park\, 242 Little York-Mt. Pleasant Road\, Milford\, NJ\, 08848\, United States
CATEGORIES:Dressage
ATTACH;FMTTYPE=:
GEO:40.5877982;-75.0565806
X-APPLE-STRUCTURED-LOCATION;VALUE=URI;X-ADDRESS=Alexandria Park 242 Little York-Mt. Pleasant Road Milford NJ 08848 United States;X-APPLE-RADIUS=500;X-TITLE=242 Little York-Mt. Pleasant Road:geo:-75.0565806,40.5877982
END:VEVENT
BEGIN:VEVENT
DTSTART;TZID=America/New_York:20190316T080000
DTEND;TZID=America/New_York:20190316T170000
DTSTAMP:20260425T183528
CREATED:20190113T224824Z
LAST-MODIFIED:20190113T224824Z
UID:10000248-1552723200-1552755600@esdcta.org
SUMMARY:Horse Park NJ Winter Series
DESCRIPTION:Dressage Schooling
URL:https://esdcta.org/event/horse-park-nj-winter-series-8/
LOCATION:Horse Park of New Jersey\, 626 Rte 524\, Allentown\, NJ\, 08501\, United States
CATEGORIES:Dressage
ATTACH;FMTTYPE=:
GEO:40.1905006;-74.4935697
X-APPLE-STRUCTURED-LOCATION;VALUE=URI;X-ADDRESS=Horse Park of New Jersey 626 Rte 524 Allentown NJ 08501 United States;X-APPLE-RADIUS=500;X-TITLE=626 Rte 524:geo:-74.4935697,40.1905006
END:VEVENT
BEGIN:VEVENT
DTSTART;TZID=America/New_York:20190309T080000
DTEND;TZID=America/New_York:20190309T170000
DTSTAMP:20260425T183528
CREATED:20190127T203508Z
LAST-MODIFIED:20190127T203508Z
UID:10000270-1552118400-1552150800@esdcta.org
SUMMARY:Fix-a-Test with Marilyn Payne
DESCRIPTION:Register Here:  https://membership.esdcta.org/event-4651743
URL:https://esdcta.org/event/fix-a-test-with-marilyn-payne/
LOCATION:Horse Park of New Jersey\, 626 Rte 524\, Allentown\, NJ\, 08501\, United States
CATEGORIES:Dressage
ATTACH;FMTTYPE=:
GEO:40.1905006;-74.4935697
X-APPLE-STRUCTURED-LOCATION;VALUE=URI;X-ADDRESS=Horse Park of New Jersey 626 Rte 524 Allentown NJ 08501 United States;X-APPLE-RADIUS=500;X-TITLE=626 Rte 524:geo:-74.4935697,40.1905006
END:VEVENT
BEGIN:VEVENT
DTSTART;TZID=America/New_York:20190302T080000
DTEND;TZID=America/New_York:20190302T170000
DTSTAMP:20260425T183528
CREATED:20190127T203505Z
LAST-MODIFIED:20190127T203505Z
UID:10000267-1551513600-1551546000@esdcta.org
SUMMARY:Alexandria Eq. Assoc.
DESCRIPTION:Dressage Schooling
URL:https://esdcta.org/event/alexandria-eq-assoc-7/
LOCATION:Alexandria Park\, 242 Little York-Mt. Pleasant Road\, Milford\, NJ\, 08848\, United States
CATEGORIES:Dressage
ATTACH;FMTTYPE=:
GEO:40.5877982;-75.0565806
X-APPLE-STRUCTURED-LOCATION;VALUE=URI;X-ADDRESS=Alexandria Park 242 Little York-Mt. Pleasant Road Milford NJ 08848 United States;X-APPLE-RADIUS=500;X-TITLE=242 Little York-Mt. Pleasant Road:geo:-75.0565806,40.5877982
END:VEVENT
BEGIN:VEVENT
DTSTART;TZID=America/New_York:20190217T080000
DTEND;TZID=America/New_York:20190217T170000
DTSTAMP:20260425T183528
CREATED:20190113T224824Z
LAST-MODIFIED:20190113T224824Z
UID:10000247-1550390400-1550422800@esdcta.org
SUMMARY:Horse Park NJ Winter Series
DESCRIPTION:Dressage Schooling
URL:https://esdcta.org/event/horse-park-nj-winter-series-7/
LOCATION:Horse Park of New Jersey\, 626 Rte 524\, Allentown\, NJ\, 08501\, United States
CATEGORIES:Dressage
ATTACH;FMTTYPE=:
GEO:40.1905006;-74.4935697
X-APPLE-STRUCTURED-LOCATION;VALUE=URI;X-ADDRESS=Horse Park of New Jersey 626 Rte 524 Allentown NJ 08501 United States;X-APPLE-RADIUS=500;X-TITLE=626 Rte 524:geo:-74.4935697,40.1905006
END:VEVENT
BEGIN:VEVENT
DTSTART;TZID=America/New_York:20190216T080000
DTEND;TZID=America/New_York:20190216T170000
DTSTAMP:20260425T183528
CREATED:20190127T203505Z
LAST-MODIFIED:20190127T203505Z
UID:10000266-1550304000-1550336400@esdcta.org
SUMMARY:Alexandria Eq. Assoc.
DESCRIPTION:Dressage Schooling
URL:https://esdcta.org/event/alexandria-eq-assoc-6/
LOCATION:Alexandria Park\, 242 Little York-Mt. Pleasant Road\, Milford\, NJ\, 08848\, United States
CATEGORIES:Dressage
ATTACH;FMTTYPE=:
GEO:40.5877982;-75.0565806
X-APPLE-STRUCTURED-LOCATION;VALUE=URI;X-ADDRESS=Alexandria Park 242 Little York-Mt. Pleasant Road Milford NJ 08848 United States;X-APPLE-RADIUS=500;X-TITLE=242 Little York-Mt. Pleasant Road:geo:-75.0565806,40.5877982
END:VEVENT
BEGIN:VEVENT
DTSTART;TZID=America/New_York:20190202T080000
DTEND;TZID=America/New_York:20190202T170000
DTSTAMP:20260425T183528
CREATED:20190127T203504Z
LAST-MODIFIED:20190127T203504Z
UID:10000265-1549094400-1549126800@esdcta.org
SUMMARY:Alexandria Eq. Assoc.
DESCRIPTION:Dressage Schooling
URL:https://esdcta.org/event/alexandria-eq-assoc-5/
LOCATION:Alexandria Park\, 242 Little York-Mt. Pleasant Road\, Milford\, NJ\, 08848\, United States
CATEGORIES:Dressage
ATTACH;FMTTYPE=:
GEO:40.5877982;-75.0565806
X-APPLE-STRUCTURED-LOCATION;VALUE=URI;X-ADDRESS=Alexandria Park 242 Little York-Mt. Pleasant Road Milford NJ 08848 United States;X-APPLE-RADIUS=500;X-TITLE=242 Little York-Mt. Pleasant Road:geo:-75.0565806,40.5877982
END:VEVENT
END:VCALENDAR