BEGIN:VCALENDAR
VERSION:2.0
PRODID:-//ESDCTA - ECPv6.15.20//NONSGML v1.0//EN
CALSCALE:GREGORIAN
METHOD:PUBLISH
X-WR-CALNAME:ESDCTA
X-ORIGINAL-URL:https://esdcta.org
X-WR-CALDESC:Events for ESDCTA
REFRESH-INTERVAL;VALUE=DURATION:PT1H
X-Robots-Tag:noindex
X-PUBLISHED-TTL:PT1H
BEGIN:VTIMEZONE
TZID:America/New_York
BEGIN:DAYLIGHT
TZOFFSETFROM:-0500
TZOFFSETTO:-0400
TZNAME:EDT
DTSTART:20180311T070000
END:DAYLIGHT
BEGIN:STANDARD
TZOFFSETFROM:-0400
TZOFFSETTO:-0500
TZNAME:EST
DTSTART:20181104T060000
END:STANDARD
BEGIN:DAYLIGHT
TZOFFSETFROM:-0500
TZOFFSETTO:-0400
TZNAME:EDT
DTSTART:20190310T070000
END:DAYLIGHT
BEGIN:STANDARD
TZOFFSETFROM:-0400
TZOFFSETTO:-0500
TZNAME:EST
DTSTART:20191103T060000
END:STANDARD
BEGIN:DAYLIGHT
TZOFFSETFROM:-0500
TZOFFSETTO:-0400
TZNAME:EDT
DTSTART:20200308T070000
END:DAYLIGHT
BEGIN:STANDARD
TZOFFSETFROM:-0400
TZOFFSETTO:-0500
TZNAME:EST
DTSTART:20201101T060000
END:STANDARD
END:VTIMEZONE
BEGIN:VEVENT
DTSTART;TZID=America/New_York:20190609T080000
DTEND;TZID=America/New_York:20190609T170000
DTSTAMP:20260425T150003
CREATED:20190228T134217Z
LAST-MODIFIED:20190228T134217Z
UID:10000313-1560067200-1560099600@esdcta.org
SUMMARY:Dressage Experience
DESCRIPTION:Dressage Schooling
URL:https://esdcta.org/event/dressage-experience-11/
LOCATION:Burlington County Fairgrounds\, Route 206 & Jacksonville-Jobstown Road\, Springfield Twp.\, NJ\, 08022\, United States
CATEGORIES:Dressage
GEO:40.5680978;-74.624505
X-APPLE-STRUCTURED-LOCATION;VALUE=URI;X-ADDRESS=Burlington County Fairgrounds Route 206 & Jacksonville-Jobstown Road Springfield Twp. NJ 08022 United States;X-APPLE-RADIUS=500;X-TITLE=Route 206 & Jacksonville-Jobstown Road:geo:-74.624505,40.5680978
END:VEVENT
BEGIN:VEVENT
DTSTART;TZID=America/New_York:20190608T080000
DTEND;TZID=America/New_York:20190608T170000
DTSTAMP:20260425T150003
CREATED:20190318T021057Z
LAST-MODIFIED:20190318T021057Z
UID:10000379-1559980800-1560013200@esdcta.org
SUMMARY:Thunderhead Farm
DESCRIPTION:Dressage Schooling
URL:https://esdcta.org/event/thunderhead-farm-14/
LOCATION:Thunderhead Farm\, 7813 Springhouse Rd\, New Tripoli\, PA\, 18066\, United States
CATEGORIES:Dressage
ATTACH;FMTTYPE=:
GEO:40.686243;-75.808524
X-APPLE-STRUCTURED-LOCATION;VALUE=URI;X-ADDRESS=Thunderhead Farm 7813 Springhouse Rd New Tripoli PA 18066 United States;X-APPLE-RADIUS=500;X-TITLE=7813 Springhouse Rd:geo:-75.808524,40.686243
END:VEVENT
BEGIN:VEVENT
DTSTART;TZID=America/New_York:20190607T080000
DTEND;TZID=America/New_York:20190608T170000
DTSTAMP:20260425T150003
CREATED:20190303T233608Z
LAST-MODIFIED:20190303T233608Z
UID:10000320-1559894400-1560013200@esdcta.org
SUMMARY:Windy Hollow Hunt I
DESCRIPTION:USEF/USDF Dressage
URL:https://esdcta.org/event/windy-hollow-hunt-i-3/
LOCATION:Sussex County Fairgrounds\, 37 Plains Rd\, Augusta\, NJ\, 07822\, United States
CATEGORIES:Dressage
GEO:41.1362927;-74.7164249
X-APPLE-STRUCTURED-LOCATION;VALUE=URI;X-ADDRESS=Sussex County Fairgrounds 37 Plains Rd Augusta NJ 07822 United States;X-APPLE-RADIUS=500;X-TITLE=37 Plains Rd:geo:-74.7164249,41.1362927
END:VEVENT
BEGIN:VEVENT
DTSTART;TZID=America/New_York:20190604T080000
DTEND;TZID=America/New_York:20190604T170000
DTSTAMP:20260425T150003
CREATED:20190228T134152Z
LAST-MODIFIED:20190228T134152Z
UID:10000279-1559635200-1559667600@esdcta.org
SUMMARY:Bucks Co Horse Park
DESCRIPTION:Dressage Schooling\, Tues Eve
URL:https://esdcta.org/event/bucks-co-horse-park-50/
LOCATION:Bucks County Horse Park\, 8934 Easton Rd\, Revere\, PA\, 018953\, United States
CATEGORIES:Dressage
GEO:40.5224751;-75.1684702
X-APPLE-STRUCTURED-LOCATION;VALUE=URI;X-ADDRESS=Bucks County Horse Park 8934 Easton Rd Revere PA 018953 United States;X-APPLE-RADIUS=500;X-TITLE=8934 Easton Rd:geo:-75.1684702,40.5224751
END:VEVENT
BEGIN:VEVENT
DTSTART;TZID=America/New_York:20190602T080000
DTEND;TZID=America/New_York:20190602T170000
DTSTAMP:20260425T150003
CREATED:20190228T134151Z
LAST-MODIFIED:20190228T134151Z
UID:10000278-1559462400-1559494800@esdcta.org
SUMMARY:Bucks Co Horse Park
DESCRIPTION:USEF/USDF Dressage
URL:https://esdcta.org/event/bucks-co-horse-park-49/
LOCATION:Bucks County Horse Park\, 8934 Easton Rd\, Revere\, PA\, 018953\, United States
CATEGORIES:Dressage
GEO:40.5224751;-75.1684702
X-APPLE-STRUCTURED-LOCATION;VALUE=URI;X-ADDRESS=Bucks County Horse Park 8934 Easton Rd Revere PA 018953 United States;X-APPLE-RADIUS=500;X-TITLE=8934 Easton Rd:geo:-75.1684702,40.5224751
END:VEVENT
BEGIN:VEVENT
DTSTART;TZID=America/New_York:20190601T080000
DTEND;TZID=America/New_York:20190601T170000
DTSTAMP:20260425T150003
CREATED:20190318T021050Z
LAST-MODIFIED:20190318T021050Z
UID:10000365-1559376000-1559408400@esdcta.org
SUMMARY:Saddlebrook Ridge
DESCRIPTION:Dressage\, Western Dressage\, Combined Test\, and Clear Round
URL:https://esdcta.org/event/saddlebrook-ridge-18/
LOCATION:Saddlebrook Ridge Equestrian Center\, 10 Saddlebrook Court\, Shamong\, NJ\, 08088\, United States
CATEGORIES:Dressage,Eventing
ATTACH;FMTTYPE=:
GEO:39.8205251;-74.7828144
X-APPLE-STRUCTURED-LOCATION;VALUE=URI;X-ADDRESS=Saddlebrook Ridge Equestrian Center 10 Saddlebrook Court Shamong NJ 08088 United States;X-APPLE-RADIUS=500;X-TITLE=10 Saddlebrook Court:geo:-74.7828144,39.8205251
END:VEVENT
BEGIN:VEVENT
DTSTART;TZID=America/New_York:20190601T080000
DTEND;TZID=America/New_York:20190601T170000
DTSTAMP:20260425T150003
CREATED:20190228T134151Z
LAST-MODIFIED:20190228T134151Z
UID:10000277-1559376000-1559408400@esdcta.org
SUMMARY:Bucks Co Horse Park
DESCRIPTION:Dressage Schooling
URL:https://esdcta.org/event/bucks-co-horse-park-48/
LOCATION:Bucks County Horse Park\, 8934 Easton Rd\, Revere\, PA\, 018953\, United States
CATEGORIES:Dressage
GEO:40.5224751;-75.1684702
X-APPLE-STRUCTURED-LOCATION;VALUE=URI;X-ADDRESS=Bucks County Horse Park 8934 Easton Rd Revere PA 018953 United States;X-APPLE-RADIUS=500;X-TITLE=8934 Easton Rd:geo:-75.1684702,40.5224751
END:VEVENT
BEGIN:VEVENT
DTSTART;TZID=America/New_York:20190601T080000
DTEND;TZID=America/New_York:20190601T170000
DTSTAMP:20260425T150003
CREATED:20190113T224818Z
LAST-MODIFIED:20190113T224818Z
UID:10000243-1559376000-1559408400@esdcta.org
SUMMARY:Good Times Farm I
DESCRIPTION:USDF Dressage Show
URL:https://esdcta.org/event/good-times-farm-i-3/
LOCATION:Good Times Farm\, 278 Jackson Mills Road\, Freehold\, NJ\, 07728\, United States
CATEGORIES:Dressage
ATTACH;FMTTYPE=:
GEO:40.1868303;-74.2885136
X-APPLE-STRUCTURED-LOCATION;VALUE=URI;X-ADDRESS=Good Times Farm 278 Jackson Mills Road Freehold NJ 07728 United States;X-APPLE-RADIUS=500;X-TITLE=278 Jackson Mills Road:geo:-74.2885136,40.1868303
END:VEVENT
BEGIN:VEVENT
DTSTART;TZID=America/New_York:20190601T080000
DTEND;TZID=America/New_York:20190601T170000
DTSTAMP:20260425T150003
CREATED:20190106T020123Z
LAST-MODIFIED:20190106T020123Z
UID:10000240-1559376000-1559408400@esdcta.org
SUMMARY:Carousel Farm
DESCRIPTION:Dressage Schooling
URL:https://esdcta.org/event/carousel-farm-7/
LOCATION:Level Up Equestrian/Augusta Training Center\, 8 Linn Smith Road\, Augusta\, NJ\, 07822\, United States
CATEGORIES:Dressage
ATTACH;FMTTYPE=:
GEO:41.138794;-74.7039379
X-APPLE-STRUCTURED-LOCATION;VALUE=URI;X-ADDRESS=Level Up Equestrian/Augusta Training Center 8 Linn Smith Road Augusta NJ 07822 United States;X-APPLE-RADIUS=500;X-TITLE=8 Linn Smith Road:geo:-74.7039379,41.138794
END:VEVENT
BEGIN:VEVENT
DTSTART;TZID=America/New_York:20190526T080000
DTEND;TZID=America/New_York:20190526T170000
DTSTAMP:20260425T150003
CREATED:20190318T021036Z
LAST-MODIFIED:20190318T021036Z
UID:10000341-1558857600-1558890000@esdcta.org
SUMMARY:ESDCTA Memorial W/E II Dressage
DESCRIPTION:USDF Dressage Show
URL:https://esdcta.org/event/esdcta-memorial-w-e-ii-dressage-4/
LOCATION:Horse Park of New Jersey\, 626 Rte 524\, Allentown\, NJ\, 08501\, United States
CATEGORIES:Dressage
ATTACH;FMTTYPE=:
GEO:40.1905006;-74.4935697
X-APPLE-STRUCTURED-LOCATION;VALUE=URI;X-ADDRESS=Horse Park of New Jersey 626 Rte 524 Allentown NJ 08501 United States;X-APPLE-RADIUS=500;X-TITLE=626 Rte 524:geo:-74.4935697,40.1905006
END:VEVENT
BEGIN:VEVENT
DTSTART;TZID=America/New_York:20190526T080000
DTEND;TZID=America/New_York:20190526T170000
DTSTAMP:20260425T150003
CREATED:20190318T021035Z
LAST-MODIFIED:20190318T021035Z
UID:10000340-1558857600-1558890000@esdcta.org
SUMMARY:ESDCTA Memorial W/E II Breed
DESCRIPTION:Breed Show
URL:https://esdcta.org/event/esdcta-memorial-w-e-ii-breed-3/
LOCATION:Horse Park of New Jersey\, 626 Rte 524\, Allentown\, NJ\, 08501\, United States
CATEGORIES:Dressage
ATTACH;FMTTYPE=:
GEO:40.1905006;-74.4935697
X-APPLE-STRUCTURED-LOCATION;VALUE=URI;X-ADDRESS=Horse Park of New Jersey 626 Rte 524 Allentown NJ 08501 United States;X-APPLE-RADIUS=500;X-TITLE=626 Rte 524:geo:-74.4935697,40.1905006
END:VEVENT
BEGIN:VEVENT
DTSTART;TZID=America/New_York:20190526T080000
DTEND;TZID=America/New_York:20190526T170000
DTSTAMP:20260425T150003
CREATED:20190127T203459Z
LAST-MODIFIED:20190127T203459Z
UID:10000257-1558857600-1558890000@esdcta.org
SUMMARY:Phoenix Eq. Ctr.
DESCRIPTION:Dressage\, Combined Test\, and Clear Round
URL:https://esdcta.org/event/phoenix-eq-ctr-2/
LOCATION:PA
CATEGORIES:Dressage,Eventing
ATTACH;FMTTYPE=:
END:VEVENT
BEGIN:VEVENT
DTSTART;TZID=America/New_York:20190525T080000
DTEND;TZID=America/New_York:20190525T170000
DTSTAMP:20260425T150003
CREATED:20190318T021052Z
LAST-MODIFIED:20190318T021052Z
UID:10000369-1558771200-1558803600@esdcta.org
SUMMARY:Skip Ahead Dressage
DESCRIPTION:Dressage Schooling
URL:https://esdcta.org/event/skip-ahead-dressage-6/
LOCATION:Skip Ahead Dressage\, 235 Braddock Mill Road\, Marlton\, NJ\, 08503\, United States
CATEGORIES:Dressage
ATTACH;FMTTYPE=:
GEO:39.8511;-74.9141
X-APPLE-STRUCTURED-LOCATION;VALUE=URI;X-ADDRESS=Skip Ahead Dressage 235 Braddock Mill Road Marlton NJ 08503 United States;X-APPLE-RADIUS=500;X-TITLE=235 Braddock Mill Road:geo:-74.9141,39.8511
END:VEVENT
BEGIN:VEVENT
DTSTART;TZID=America/New_York:20190525T080000
DTEND;TZID=America/New_York:20190525T170000
DTSTAMP:20260425T150003
CREATED:20190318T021034Z
LAST-MODIFIED:20190318T021034Z
UID:10000338-1558771200-1558803600@esdcta.org
SUMMARY:ESDCTA Memorial W/E I Breed
DESCRIPTION:Breed Show
URL:https://esdcta.org/event/esdcta-memorial-w-e-i-breed-3/
LOCATION:Horse Park of New Jersey\, 626 Rte 524\, Allentown\, NJ\, 08501\, United States
CATEGORIES:Dressage
ATTACH;FMTTYPE=:
GEO:40.1905006;-74.4935697
X-APPLE-STRUCTURED-LOCATION;VALUE=URI;X-ADDRESS=Horse Park of New Jersey 626 Rte 524 Allentown NJ 08501 United States;X-APPLE-RADIUS=500;X-TITLE=626 Rte 524:geo:-74.4935697,40.1905006
END:VEVENT
BEGIN:VEVENT
DTSTART;TZID=America/New_York:20190525T080000
DTEND;TZID=America/New_York:20190525T170000
DTSTAMP:20260425T150003
CREATED:20190318T021034Z
LAST-MODIFIED:20190318T021034Z
UID:10000339-1558771200-1558803600@esdcta.org
SUMMARY:ESDCTA Memorial W/E I Dressage
DESCRIPTION:USDF Dressage Show
URL:https://esdcta.org/event/esdcta-memorial-w-e-i-dressage-4/
LOCATION:Horse Park of New Jersey\, 626 Rte 524\, Allentown\, NJ\, 08501\, United States
CATEGORIES:Dressage
ATTACH;FMTTYPE=:
GEO:40.1905006;-74.4935697
X-APPLE-STRUCTURED-LOCATION;VALUE=URI;X-ADDRESS=Horse Park of New Jersey 626 Rte 524 Allentown NJ 08501 United States;X-APPLE-RADIUS=500;X-TITLE=626 Rte 524:geo:-74.4935697,40.1905006
END:VEVENT
BEGIN:VEVENT
DTSTART;TZID=America/New_York:20190521T080000
DTEND;TZID=America/New_York:20190521T170000
DTSTAMP:20260425T150003
CREATED:20190228T134146Z
LAST-MODIFIED:20190228T134146Z
UID:10000276-1558425600-1558458000@esdcta.org
SUMMARY:Bucks Co Horse Park
DESCRIPTION:Dressage Schooling\, Tues Eve
URL:https://esdcta.org/event/bucks-co-horse-park-47/
LOCATION:Bucks County Horse Park\, 8934 Easton Rd\, Revere\, PA\, 018953\, United States
CATEGORIES:Dressage
GEO:40.5224751;-75.1684702
X-APPLE-STRUCTURED-LOCATION;VALUE=URI;X-ADDRESS=Bucks County Horse Park 8934 Easton Rd Revere PA 018953 United States;X-APPLE-RADIUS=500;X-TITLE=8934 Easton Rd:geo:-75.1684702,40.5224751
END:VEVENT
BEGIN:VEVENT
DTSTART;TZID=America/New_York:20190519T080000
DTEND;TZID=America/New_York:20190519T170000
DTSTAMP:20260425T150003
CREATED:20190228T134212Z
LAST-MODIFIED:20190228T134212Z
UID:10000305-1558252800-1558285200@esdcta.org
SUMMARY:Square One
DESCRIPTION:2019 Fix A Test Jacquelyn Stapels “r\,” “R” Candidate
URL:https://esdcta.org/event/square-one-8/
LOCATION:Square One\, 315 Mattison Reservoir Avenue\, Branchville\, NJ\, 07826\, United States
CATEGORIES:Dressage
GEO:41.200032;-74.680259
X-APPLE-STRUCTURED-LOCATION;VALUE=URI;X-ADDRESS=Square One 315 Mattison Reservoir Avenue Branchville NJ 07826 United States;X-APPLE-RADIUS=500;X-TITLE=315 Mattison Reservoir Avenue:geo:-74.680259,41.200032
END:VEVENT
BEGIN:VEVENT
DTSTART;TZID=America/New_York:20190519T080000
DTEND;TZID=America/New_York:20190519T170000
DTSTAMP:20260425T150003
CREATED:20190228T134146Z
LAST-MODIFIED:20190228T134146Z
UID:10000275-1558252800-1558285200@esdcta.org
SUMMARY:Bucks Co Horse Park
DESCRIPTION:Schooling Horse Trials\, Dressage\, Clear Round\, and Combined Test
URL:https://esdcta.org/event/bucks-co-horse-park-46/
LOCATION:Bucks County Horse Park\, 8934 Easton Rd\, Revere\, PA\, 018953\, United States
CATEGORIES:Dressage,Eventing
GEO:40.5224751;-75.1684702
X-APPLE-STRUCTURED-LOCATION;VALUE=URI;X-ADDRESS=Bucks County Horse Park 8934 Easton Rd Revere PA 018953 United States;X-APPLE-RADIUS=500;X-TITLE=8934 Easton Rd:geo:-75.1684702,40.5224751
END:VEVENT
BEGIN:VEVENT
DTSTART;TZID=America/New_York:20190518T080000
DTEND;TZID=America/New_York:20190518T170000
DTSTAMP:20260425T150003
CREATED:20190318T021045Z
LAST-MODIFIED:20190318T021045Z
UID:10000356-1558166400-1558198800@esdcta.org
SUMMARY:Red Tail Farm
DESCRIPTION:Dressage Schooling\, Combined Test
URL:https://esdcta.org/event/red-tail-farm-4/
LOCATION:Red Tail Farm\, 1100 Rattlesnake Bridge Rd\, Bedminster Township\, NJ\, 07921\, United States
CATEGORIES:Dressage,Eventing
ATTACH;FMTTYPE=:
GEO:40.6437934;-74.7160768
X-APPLE-STRUCTURED-LOCATION;VALUE=URI;X-ADDRESS=Red Tail Farm 1100 Rattlesnake Bridge Rd Bedminster Township NJ 07921 United States;X-APPLE-RADIUS=500;X-TITLE=1100 Rattlesnake Bridge Rd:geo:-74.7160768,40.6437934
END:VEVENT
BEGIN:VEVENT
DTSTART;TZID=America/New_York:20190518T080000
DTEND;TZID=America/New_York:20190518T170000
DTSTAMP:20260425T150003
CREATED:20190127T203451Z
LAST-MODIFIED:20190127T203451Z
UID:10000251-1558166400-1558198800@esdcta.org
SUMMARY:LVDA
DESCRIPTION:Dressage Schooling \, Combined Test
URL:https://esdcta.org/event/lvda-10/
LOCATION:Hearts Journey Stables\, 425 Kromer Road\, Wind Gap\, PA\, 18091\, United States
CATEGORIES:Dressage,Eventing
ATTACH;FMTTYPE=:
GEO:40.8204999;-75.3000835
X-APPLE-STRUCTURED-LOCATION;VALUE=URI;X-ADDRESS=Hearts Journey Stables 425 Kromer Road Wind Gap PA 18091 United States;X-APPLE-RADIUS=500;X-TITLE=425 Kromer Road:geo:-75.3000835,40.8204999
END:VEVENT
BEGIN:VEVENT
DTSTART;TZID=America/New_York:20190515T080000
DTEND;TZID=America/New_York:20190515T170000
DTSTAMP:20260425T150003
CREATED:20190318T021027Z
LAST-MODIFIED:20190318T021027Z
UID:10000331-1557907200-1557939600@esdcta.org
SUMMARY:Applewood Farm
DESCRIPTION:Dressage\, Combined Test\, and Clear Round
URL:https://esdcta.org/event/applewood-farm-13/
LOCATION:Applewood Farm\, 30 Fox Hill Road\, Califon\, NJ\, 07830\, United States
CATEGORIES:Dressage,Eventing
ATTACH;FMTTYPE=:
GEO:40.704441;-74.764977
X-APPLE-STRUCTURED-LOCATION;VALUE=URI;X-ADDRESS=Applewood Farm 30 Fox Hill Road Califon NJ 07830 United States;X-APPLE-RADIUS=500;X-TITLE=30 Fox Hill Road:geo:-74.764977,40.704441
END:VEVENT
BEGIN:VEVENT
DTSTART;TZID=America/New_York:20190512T080000
DTEND;TZID=America/New_York:20190512T170000
DTSTAMP:20260425T150003
CREATED:20190228T134217Z
LAST-MODIFIED:20190228T134217Z
UID:10000312-1557648000-1557680400@esdcta.org
SUMMARY:Dressage Experience
DESCRIPTION:Dressage Schooling
URL:https://esdcta.org/event/dressage-experience-10/
LOCATION:Burlington County Fairgrounds\, Route 206 & Jacksonville-Jobstown Road\, Springfield Twp.\, NJ\, 08022\, United States
CATEGORIES:Dressage
GEO:40.5680978;-74.624505
X-APPLE-STRUCTURED-LOCATION;VALUE=URI;X-ADDRESS=Burlington County Fairgrounds Route 206 & Jacksonville-Jobstown Road Springfield Twp. NJ 08022 United States;X-APPLE-RADIUS=500;X-TITLE=Route 206 & Jacksonville-Jobstown Road:geo:-74.624505,40.5680978
END:VEVENT
BEGIN:VEVENT
DTSTART;TZID=America/New_York:20190511T080000
DTEND;TZID=America/New_York:20190511T170000
DTSTAMP:20260425T150003
CREATED:20190318T021056Z
LAST-MODIFIED:20190318T021056Z
UID:10000378-1557561600-1557594000@esdcta.org
SUMMARY:Thunderhead Farm
DESCRIPTION:Dressage Schooling
URL:https://esdcta.org/event/thunderhead-farm-13/
LOCATION:Thunderhead Farm\, 7813 Springhouse Rd\, New Tripoli\, PA\, 18066\, United States
CATEGORIES:Dressage
ATTACH;FMTTYPE=:
GEO:40.686243;-75.808524
X-APPLE-STRUCTURED-LOCATION;VALUE=URI;X-ADDRESS=Thunderhead Farm 7813 Springhouse Rd New Tripoli PA 18066 United States;X-APPLE-RADIUS=500;X-TITLE=7813 Springhouse Rd:geo:-75.808524,40.686243
END:VEVENT
BEGIN:VEVENT
DTSTART;TZID=America/New_York:20190511T080000
DTEND;TZID=America/New_York:20190511T170000
DTSTAMP:20260425T150003
CREATED:20190318T021049Z
LAST-MODIFIED:20190318T021049Z
UID:10000364-1557561600-1557594000@esdcta.org
SUMMARY:Saddlebrook Ridge
DESCRIPTION:Dressage Schooling\, Western Dressage
URL:https://esdcta.org/event/saddlebrook-ridge-17/
LOCATION:Saddlebrook Ridge Equestrian Center\, 10 Saddlebrook Court\, Shamong\, NJ\, 08088\, United States
CATEGORIES:Dressage
ATTACH;FMTTYPE=:
GEO:39.8205251;-74.7828144
X-APPLE-STRUCTURED-LOCATION;VALUE=URI;X-ADDRESS=Saddlebrook Ridge Equestrian Center 10 Saddlebrook Court Shamong NJ 08088 United States;X-APPLE-RADIUS=500;X-TITLE=10 Saddlebrook Court:geo:-74.7828144,39.8205251
END:VEVENT
BEGIN:VEVENT
DTSTART;TZID=America/New_York:20190511T080000
DTEND;TZID=America/New_York:20190511T170000
DTSTAMP:20260425T150003
CREATED:20190106T020120Z
LAST-MODIFIED:20190106T020120Z
UID:10000239-1557561600-1557594000@esdcta.org
SUMMARY:Carousel Farm
DESCRIPTION:Dressage Schooling
URL:https://esdcta.org/event/carousel-farm-6/
LOCATION:Level Up Equestrian/Augusta Training Center\, 8 Linn Smith Road\, Augusta\, NJ\, 07822\, United States
CATEGORIES:Dressage
ATTACH;FMTTYPE=:
GEO:41.138794;-74.7039379
X-APPLE-STRUCTURED-LOCATION;VALUE=URI;X-ADDRESS=Level Up Equestrian/Augusta Training Center 8 Linn Smith Road Augusta NJ 07822 United States;X-APPLE-RADIUS=500;X-TITLE=8 Linn Smith Road:geo:-74.7039379,41.138794
END:VEVENT
BEGIN:VEVENT
DTSTART;TZID=America/New_York:20190507T080000
DTEND;TZID=America/New_York:20190507T170000
DTSTAMP:20260425T150003
CREATED:20190228T134145Z
LAST-MODIFIED:20190228T134145Z
UID:10000274-1557216000-1557248400@esdcta.org
SUMMARY:Bucks Co Horse Park
DESCRIPTION:Dressage Schooling\, Tues Eve
URL:https://esdcta.org/event/bucks-co-horse-park-45/
LOCATION:Bucks County Horse Park\, 8934 Easton Rd\, Revere\, PA\, 018953\, United States
CATEGORIES:Dressage
GEO:40.5224751;-75.1684702
X-APPLE-STRUCTURED-LOCATION;VALUE=URI;X-ADDRESS=Bucks County Horse Park 8934 Easton Rd Revere PA 018953 United States;X-APPLE-RADIUS=500;X-TITLE=8934 Easton Rd:geo:-75.1684702,40.5224751
END:VEVENT
BEGIN:VEVENT
DTSTART;TZID=America/New_York:20190505T080000
DTEND;TZID=America/New_York:20190505T170000
DTSTAMP:20260425T150003
CREATED:20190318T021053Z
LAST-MODIFIED:20190318T021053Z
UID:10000372-1557043200-1557075600@esdcta.org
SUMMARY:Suddenly Farm
DESCRIPTION:USDF Dressage Show
URL:https://esdcta.org/event/suddenly-farm-20/
LOCATION:Suddenly Farm\, 325 Main Street\, Lumberton\, NJ\, 08048\, United States
CATEGORIES:Dressage
GEO:39.9387;-74.8235
X-APPLE-STRUCTURED-LOCATION;VALUE=URI;X-ADDRESS=Suddenly Farm 325 Main Street Lumberton NJ 08048 United States;X-APPLE-RADIUS=500;X-TITLE=325 Main Street:geo:-74.8235,39.9387
END:VEVENT
BEGIN:VEVENT
DTSTART;TZID=America/New_York:20190505T080000
DTEND;TZID=America/New_York:20190505T170000
DTSTAMP:20260425T150003
CREATED:20190228T134209Z
LAST-MODIFIED:20190228T134209Z
UID:10000300-1557043200-1557075600@esdcta.org
SUMMARY:Rhythm and Blues Eq. Ctr. (Pa)
DESCRIPTION:Dressage Schooling
URL:https://esdcta.org/event/rhythm-and-blues-eq-ctr-pa-5/
LOCATION:Rhythm & Blues Equestrian Center\, 2450 Steinsburg Rd\, Quakertown\, PA\, 18951\, United States
CATEGORIES:Dressage
GEO:40.4551978;-75.4324816
X-APPLE-STRUCTURED-LOCATION;VALUE=URI;X-ADDRESS=Rhythm & Blues Equestrian Center 2450 Steinsburg Rd Quakertown PA 18951 United States;X-APPLE-RADIUS=500;X-TITLE=2450 Steinsburg Rd:geo:-75.4324816,40.4551978
END:VEVENT
BEGIN:VEVENT
DTSTART;TZID=America/New_York:20190504T080000
DTEND;TZID=America/New_York:20190504T170000
DTSTAMP:20260425T150003
CREATED:20190318T021044Z
LAST-MODIFIED:20190318T021044Z
UID:10000353-1556956800-1556989200@esdcta.org
SUMMARY:Orange Co. Dressage Assoc
DESCRIPTION:Dressage Schooling
URL:https://esdcta.org/event/orange-co-dressage-assoc-9/
LOCATION:Thomas Bull Memorial Park\, 211 NY 416\, Montgomery\, NY\, 12549\, United States
CATEGORIES:Dressage
ATTACH;FMTTYPE=:
GEO:41.479488;-74.272769
X-APPLE-STRUCTURED-LOCATION;VALUE=URI;X-ADDRESS=Thomas Bull Memorial Park 211 NY 416 Montgomery NY 12549 United States;X-APPLE-RADIUS=500;X-TITLE=211 NY 416:geo:-74.272769,41.479488
END:VEVENT
BEGIN:VEVENT
DTSTART;TZID=America/New_York:20190504T080000
DTEND;TZID=America/New_York:20190504T170000
DTSTAMP:20260425T150003
CREATED:20190228T134145Z
LAST-MODIFIED:20190228T134145Z
UID:10000273-1556956800-1556989200@esdcta.org
SUMMARY:Bucks Co Horse Park
DESCRIPTION:USEF/USDF Dressage
URL:https://esdcta.org/event/bucks-co-horse-park-44/
LOCATION:Bucks County Horse Park\, 8934 Easton Rd\, Revere\, PA\, 018953\, United States
CATEGORIES:Dressage
GEO:40.5224751;-75.1684702
X-APPLE-STRUCTURED-LOCATION;VALUE=URI;X-ADDRESS=Bucks County Horse Park 8934 Easton Rd Revere PA 018953 United States;X-APPLE-RADIUS=500;X-TITLE=8934 Easton Rd:geo:-75.1684702,40.5224751
END:VEVENT
END:VCALENDAR