BEGIN:VCALENDAR
VERSION:2.0
PRODID:-//ESDCTA - ECPv6.15.20//NONSGML v1.0//EN
CALSCALE:GREGORIAN
METHOD:PUBLISH
X-ORIGINAL-URL:https://esdcta.org
X-WR-CALDESC:Events for ESDCTA
REFRESH-INTERVAL;VALUE=DURATION:PT1H
X-Robots-Tag:noindex
X-PUBLISHED-TTL:PT1H
BEGIN:VTIMEZONE
TZID:America/New_York
BEGIN:DAYLIGHT
TZOFFSETFROM:-0500
TZOFFSETTO:-0400
TZNAME:EDT
DTSTART:20180311T070000
END:DAYLIGHT
BEGIN:STANDARD
TZOFFSETFROM:-0400
TZOFFSETTO:-0500
TZNAME:EST
DTSTART:20181104T060000
END:STANDARD
BEGIN:DAYLIGHT
TZOFFSETFROM:-0500
TZOFFSETTO:-0400
TZNAME:EDT
DTSTART:20190310T070000
END:DAYLIGHT
BEGIN:STANDARD
TZOFFSETFROM:-0400
TZOFFSETTO:-0500
TZNAME:EST
DTSTART:20191103T060000
END:STANDARD
BEGIN:DAYLIGHT
TZOFFSETFROM:-0500
TZOFFSETTO:-0400
TZNAME:EDT
DTSTART:20200308T070000
END:DAYLIGHT
BEGIN:STANDARD
TZOFFSETFROM:-0400
TZOFFSETTO:-0500
TZNAME:EST
DTSTART:20201101T060000
END:STANDARD
END:VTIMEZONE
BEGIN:VEVENT
DTSTART;TZID=America/New_York:20190718T080000
DTEND;TZID=America/New_York:20190718T170000
DTSTAMP:20260425T102126
CREATED:20190228T134218Z
LAST-MODIFIED:20190228T134218Z
UID:10000314-1563436800-1563469200@esdcta.org
SUMMARY:Dressage Experience
DESCRIPTION:Dressage Schooling
URL:https://esdcta.org/event/dressage-experience-12/
LOCATION:Burlington County Fairgrounds\, Route 206 & Jacksonville-Jobstown Road\, Springfield Twp.\, NJ\, 08022\, United States
CATEGORIES:Dressage
GEO:40.5680978;-74.624505
X-APPLE-STRUCTURED-LOCATION;VALUE=URI;X-ADDRESS=Burlington County Fairgrounds Route 206 & Jacksonville-Jobstown Road Springfield Twp. NJ 08022 United States;X-APPLE-RADIUS=500;X-TITLE=Route 206 & Jacksonville-Jobstown Road:geo:-74.624505,40.5680978
END:VEVENT
BEGIN:VEVENT
DTSTART;TZID=America/New_York:20190717T080000
DTEND;TZID=America/New_York:20190717T170000
DTSTAMP:20260425T102126
CREATED:20190318T021048Z
LAST-MODIFIED:20190318T021048Z
UID:10000360-1563350400-1563382800@esdcta.org
SUMMARY:Red Tail Farm July IV
DESCRIPTION:USDF Dressage Show
URL:https://esdcta.org/event/red-tail-farm-july-iv-3/
LOCATION:Red Tail Farm\, 1100 Rattlesnake Bridge Rd\, Bedminster Township\, NJ\, 07921\, United States
CATEGORIES:Dressage
ATTACH;FMTTYPE=:
GEO:40.6437934;-74.7160768
X-APPLE-STRUCTURED-LOCATION;VALUE=URI;X-ADDRESS=Red Tail Farm 1100 Rattlesnake Bridge Rd Bedminster Township NJ 07921 United States;X-APPLE-RADIUS=500;X-TITLE=1100 Rattlesnake Bridge Rd:geo:-74.7160768,40.6437934
END:VEVENT
BEGIN:VEVENT
DTSTART;TZID=America/New_York:20190716T080000
DTEND;TZID=America/New_York:20190716T170000
DTSTAMP:20260425T102126
CREATED:20190318T021046Z
LAST-MODIFIED:20190318T021046Z
UID:10000359-1563264000-1563296400@esdcta.org
SUMMARY:Red Tail Farm July III
DESCRIPTION:USDF Dressage Show
URL:https://esdcta.org/event/red-tail-farm-july-iii-4/
LOCATION:Red Tail Farm\, 1100 Rattlesnake Bridge Rd\, Bedminster Township\, NJ\, 07921\, United States
CATEGORIES:Dressage
ATTACH;FMTTYPE=:
GEO:40.6437934;-74.7160768
X-APPLE-STRUCTURED-LOCATION;VALUE=URI;X-ADDRESS=Red Tail Farm 1100 Rattlesnake Bridge Rd Bedminster Township NJ 07921 United States;X-APPLE-RADIUS=500;X-TITLE=1100 Rattlesnake Bridge Rd:geo:-74.7160768,40.6437934
END:VEVENT
BEGIN:VEVENT
DTSTART;TZID=America/New_York:20190716T080000
DTEND;TZID=America/New_York:20190716T170000
DTSTAMP:20260425T102126
CREATED:20190228T134156Z
LAST-MODIFIED:20190228T134156Z
UID:10000286-1563264000-1563296400@esdcta.org
SUMMARY:Bucks Co Horse Park
DESCRIPTION:Dressage Schooling\, Tues Eve
URL:https://esdcta.org/event/bucks-co-horse-park-56/
LOCATION:Bucks County Horse Park\, 8934 Easton Rd\, Revere\, PA\, 018953\, United States
CATEGORIES:Dressage
GEO:40.5224751;-75.1684702
X-APPLE-STRUCTURED-LOCATION;VALUE=URI;X-ADDRESS=Bucks County Horse Park 8934 Easton Rd Revere PA 018953 United States;X-APPLE-RADIUS=500;X-TITLE=8934 Easton Rd:geo:-75.1684702,40.5224751
END:VEVENT
BEGIN:VEVENT
DTSTART;TZID=America/New_York:20190714T080000
DTEND;TZID=America/New_York:20190714T170000
DTSTAMP:20260425T102126
CREATED:20190228T134211Z
LAST-MODIFIED:20190228T134211Z
UID:10000302-1563091200-1563123600@esdcta.org
SUMMARY:Rhythm and Blues Eq. Ctr. (Pa)
DESCRIPTION:Dressage Schooling
URL:https://esdcta.org/event/rhythm-and-blues-eq-ctr-pa-7/
LOCATION:Rhythm & Blues Equestrian Center\, 2450 Steinsburg Rd\, Quakertown\, PA\, 18951\, United States
CATEGORIES:Dressage
GEO:40.4551978;-75.4324816
X-APPLE-STRUCTURED-LOCATION;VALUE=URI;X-ADDRESS=Rhythm & Blues Equestrian Center 2450 Steinsburg Rd Quakertown PA 18951 United States;X-APPLE-RADIUS=500;X-TITLE=2450 Steinsburg Rd:geo:-75.4324816,40.4551978
END:VEVENT
BEGIN:VEVENT
DTSTART;TZID=America/New_York:20190714T080000
DTEND;TZID=America/New_York:20190714T170000
DTSTAMP:20260425T102126
CREATED:20190228T134208Z
LAST-MODIFIED:20190228T134208Z
UID:10000298-1563091200-1563123600@esdcta.org
SUMMARY:Fun Show at the Horse Park of NJ
DESCRIPTION:Dressage Schooling
URL:https://esdcta.org/event/fun-show-at-the-horse-park-of-nj-4/
LOCATION:Horse Park of New Jersey\, 626 Rte 524\, Allentown\, NJ\, 08501\, United States
CATEGORIES:Dressage
GEO:40.1905006;-74.4935697
X-APPLE-STRUCTURED-LOCATION;VALUE=URI;X-ADDRESS=Horse Park of New Jersey 626 Rte 524 Allentown NJ 08501 United States;X-APPLE-RADIUS=500;X-TITLE=626 Rte 524:geo:-74.4935697,40.1905006
END:VEVENT
BEGIN:VEVENT
DTSTART;TZID=America/New_York:20190714T080000
DTEND;TZID=America/New_York:20190714T170000
DTSTAMP:20260425T102126
CREATED:20190228T134156Z
LAST-MODIFIED:20190228T134156Z
UID:10000285-1563091200-1563123600@esdcta.org
SUMMARY:Bucks Co Horse Park
DESCRIPTION:Schooling Horse Trials\, Dressage\, Clear Round\, and Combined Test
URL:https://esdcta.org/event/bucks-co-horse-park-55/
LOCATION:Bucks County Horse Park\, 8934 Easton Rd\, Revere\, PA\, 018953\, United States
CATEGORIES:Dressage,Eventing
GEO:40.5224751;-75.1684702
X-APPLE-STRUCTURED-LOCATION;VALUE=URI;X-ADDRESS=Bucks County Horse Park 8934 Easton Rd Revere PA 018953 United States;X-APPLE-RADIUS=500;X-TITLE=8934 Easton Rd:geo:-75.1684702,40.5224751
END:VEVENT
BEGIN:VEVENT
DTSTART;TZID=America/New_York:20190714T080000
DTEND;TZID=America/New_York:20190714T170000
DTSTAMP:20260425T102126
CREATED:20190127T203459Z
LAST-MODIFIED:20190127T203459Z
UID:10000259-1563091200-1563123600@esdcta.org
SUMMARY:Phoenix Eq. Ctr.
DESCRIPTION:Dressage\, Combined Test\, and Clear Round
URL:https://esdcta.org/event/phoenix-eq-ctr-4/
LOCATION:NJ
CATEGORIES:Dressage,Eventing
ATTACH;FMTTYPE=:
END:VEVENT
BEGIN:VEVENT
DTSTART;TZID=America/New_York:20190713T080000
DTEND;TZID=America/New_York:20190713T170000
DTSTAMP:20260425T102126
CREATED:20190318T021040Z
LAST-MODIFIED:20190318T021040Z
UID:10000348-1563004800-1563037200@esdcta.org
SUMMARY:Hidden Creek Eq. Ctr
DESCRIPTION:Dressage Schooling\, Combined Test
URL:https://esdcta.org/event/hidden-creek-eq-ctr-5/
LOCATION:Hidden Creek Equestrian Ctr\, Mountainview Drive\, Kunkletown\, PA\, 18058\, United States
CATEGORIES:Dressage,Eventing
ATTACH;FMTTYPE=:
GEO:40.896775;-75.470304
X-APPLE-STRUCTURED-LOCATION;VALUE=URI;X-ADDRESS=Hidden Creek Equestrian Ctr Mountainview Drive Kunkletown PA 18058 United States;X-APPLE-RADIUS=500;X-TITLE=Mountainview Drive:geo:-75.470304,40.896775
END:VEVENT
BEGIN:VEVENT
DTSTART;TZID=America/New_York:20190713T080000
DTEND;TZID=America/New_York:20190713T170000
DTSTAMP:20260425T102126
CREATED:20190318T021033Z
LAST-MODIFIED:20190318T021033Z
UID:10000336-1563004800-1563037200@esdcta.org
SUMMARY:Applewood Farm YEH\, FEH
DESCRIPTION:USEA Young Event Horse\, Future Event Horse Mini Event
URL:https://esdcta.org/event/applewood-farm-yeh-feh-3/
LOCATION:Applewood Farm\, 30 Fox Hill Road\, Califon\, NJ\, 07830\, United States
CATEGORIES:Eventing
ATTACH;FMTTYPE=:
GEO:40.704441;-74.764977
X-APPLE-STRUCTURED-LOCATION;VALUE=URI;X-ADDRESS=Applewood Farm 30 Fox Hill Road Califon NJ 07830 United States;X-APPLE-RADIUS=500;X-TITLE=30 Fox Hill Road:geo:-74.764977,40.704441
END:VEVENT
BEGIN:VEVENT
DTSTART;TZID=America/New_York:20190713T080000
DTEND;TZID=America/New_York:20190713T170000
DTSTAMP:20260425T102126
CREATED:20190303T233609Z
LAST-MODIFIED:20190303T233609Z
UID:10000324-1563004800-1563037200@esdcta.org
SUMMARY:ESDCTA Cross Country Schooling
DESCRIPTION:Cross Country Schooling at the Horse Park of New Jersey
URL:https://esdcta.org/event/esdcta-cross-country-schooling-3/
LOCATION:Horse Park of New Jersey\, 626 Rte 524\, Allentown\, NJ\, 08501\, United States
CATEGORIES:Eventing
ATTACH;FMTTYPE=:
GEO:40.1905006;-74.4935697
X-APPLE-STRUCTURED-LOCATION;VALUE=URI;X-ADDRESS=Horse Park of New Jersey 626 Rte 524 Allentown NJ 08501 United States;X-APPLE-RADIUS=500;X-TITLE=626 Rte 524:geo:-74.4935697,40.1905006
END:VEVENT
BEGIN:VEVENT
DTSTART;TZID=America/New_York:20190713T080000
DTEND;TZID=America/New_York:20190713T170000
DTSTAMP:20260425T102126
CREATED:20190106T020119Z
LAST-MODIFIED:20190106T020119Z
UID:10000236-1563004800-1563037200@esdcta.org
SUMMARY:Bit O Woods Farm
DESCRIPTION:Dressage\, and Clear Round
URL:https://esdcta.org/event/bit-o-woods-farm-7/
LOCATION:Bit O Woods Farm\, 2207 Fostertown Road\, Hainesport\, NJ\, 08036\, United States
CATEGORIES:Dressage,Eventing
ATTACH;FMTTYPE=:
GEO:39.963529;-74.8435267
X-APPLE-STRUCTURED-LOCATION;VALUE=URI;X-ADDRESS=Bit O Woods Farm 2207 Fostertown Road Hainesport NJ 08036 United States;X-APPLE-RADIUS=500;X-TITLE=2207 Fostertown Road:geo:-74.8435267,39.963529
END:VEVENT
BEGIN:VEVENT
DTSTART;TZID=America/New_York:20190710T080000
DTEND;TZID=America/New_York:20190710T170000
DTSTAMP:20260425T102126
CREATED:20190318T021055Z
LAST-MODIFIED:20190318T021055Z
UID:10000375-1562745600-1562778000@esdcta.org
SUMMARY:Suddenly Farm
DESCRIPTION:USDF Dressage Show
URL:https://esdcta.org/event/suddenly-farm-23/
LOCATION:Suddenly Farm\, 325 Main Street\, Lumberton\, NJ\, 08048\, United States
CATEGORIES:Dressage
GEO:39.9387;-74.8235
X-APPLE-STRUCTURED-LOCATION;VALUE=URI;X-ADDRESS=Suddenly Farm 325 Main Street Lumberton NJ 08048 United States;X-APPLE-RADIUS=500;X-TITLE=325 Main Street:geo:-74.8235,39.9387
END:VEVENT
BEGIN:VEVENT
DTSTART;TZID=America/New_York:20190710T080000
DTEND;TZID=America/New_York:20190710T170000
DTSTAMP:20260425T102126
CREATED:20190318T021028Z
LAST-MODIFIED:20190318T021028Z
UID:10000333-1562745600-1562778000@esdcta.org
SUMMARY:Applewood Farm
DESCRIPTION:Dressage\, Combined Test\, and Clear Round
URL:https://esdcta.org/event/applewood-farm-15/
LOCATION:Applewood Farm\, 30 Fox Hill Road\, Califon\, NJ\, 07830\, United States
CATEGORIES:Dressage,Eventing
ATTACH;FMTTYPE=:
GEO:40.704441;-74.764977
X-APPLE-STRUCTURED-LOCATION;VALUE=URI;X-ADDRESS=Applewood Farm 30 Fox Hill Road Califon NJ 07830 United States;X-APPLE-RADIUS=500;X-TITLE=30 Fox Hill Road:geo:-74.764977,40.704441
END:VEVENT
BEGIN:VEVENT
DTSTART;TZID=America/New_York:20190707T080000
DTEND;TZID=America/New_York:20190707T170000
DTSTAMP:20260425T102126
CREATED:20190228T134214Z
LAST-MODIFIED:20190228T134214Z
UID:10000307-1562486400-1562518800@esdcta.org
SUMMARY:Square One
DESCRIPTION:Dressage Schooling
URL:https://esdcta.org/event/square-one-10/
LOCATION:Square One\, 315 Mattison Reservoir Avenue\, Branchville\, NJ\, 07826\, United States
CATEGORIES:Dressage
GEO:41.200032;-74.680259
X-APPLE-STRUCTURED-LOCATION;VALUE=URI;X-ADDRESS=Square One 315 Mattison Reservoir Avenue Branchville NJ 07826 United States;X-APPLE-RADIUS=500;X-TITLE=315 Mattison Reservoir Avenue:geo:-74.680259,41.200032
END:VEVENT
BEGIN:VEVENT
DTSTART;TZID=America/New_York:20190706T080000
DTEND;TZID=America/New_York:20190707T170000
DTSTAMP:20260425T102126
CREATED:20190303T233609Z
LAST-MODIFIED:20190303T233609Z
UID:10000323-1562400000-1562518800@esdcta.org
SUMMARY:Dressage at the Park
DESCRIPTION:USEF/USDF Dressage
URL:https://esdcta.org/event/dressage-at-the-park-2/
LOCATION:Horse Park of New Jersey\, 626 Rte 524\, Allentown\, NJ\, 08501\, United States
CATEGORIES:Dressage
GEO:40.1905006;-74.4935697
X-APPLE-STRUCTURED-LOCATION;VALUE=URI;X-ADDRESS=Horse Park of New Jersey 626 Rte 524 Allentown NJ 08501 United States;X-APPLE-RADIUS=500;X-TITLE=626 Rte 524:geo:-74.4935697,40.1905006
END:VEVENT
BEGIN:VEVENT
DTSTART;TZID=America/New_York:20190706T080000
DTEND;TZID=America/New_York:20190706T170000
DTSTAMP:20260425T102126
CREATED:20190318T021039Z
LAST-MODIFIED:20190318T021039Z
UID:10000345-1562400000-1562432400@esdcta.org
SUMMARY:Hearts Journey Stables
DESCRIPTION:Dressage Schooling \, Combined Test
URL:https://esdcta.org/event/hearts-journey-stables-14/
LOCATION:Hearts Journey Stables\, 425 Kromer Road\, Wind Gap\, PA\, 18091\, United States
CATEGORIES:Dressage,Eventing
ATTACH;FMTTYPE=:
GEO:40.8204999;-75.3000835
X-APPLE-STRUCTURED-LOCATION;VALUE=URI;X-ADDRESS=Hearts Journey Stables 425 Kromer Road Wind Gap PA 18091 United States;X-APPLE-RADIUS=500;X-TITLE=425 Kromer Road:geo:-75.3000835,40.8204999
END:VEVENT
BEGIN:VEVENT
DTSTART;TZID=America/New_York:20190702T080000
DTEND;TZID=America/New_York:20190702T170000
DTSTAMP:20260425T102126
CREATED:20190228T134155Z
LAST-MODIFIED:20190228T134155Z
UID:10000284-1562054400-1562086800@esdcta.org
SUMMARY:Bucks Co Horse Park
DESCRIPTION:Dressage Schooling\, Tues Eve
URL:https://esdcta.org/event/bucks-co-horse-park-54/
LOCATION:Bucks County Horse Park\, 8934 Easton Rd\, Revere\, PA\, 018953\, United States
CATEGORIES:Dressage
GEO:40.5224751;-75.1684702
X-APPLE-STRUCTURED-LOCATION;VALUE=URI;X-ADDRESS=Bucks County Horse Park 8934 Easton Rd Revere PA 018953 United States;X-APPLE-RADIUS=500;X-TITLE=8934 Easton Rd:geo:-75.1684702,40.5224751
END:VEVENT
BEGIN:VEVENT
DTSTART;TZID=America/New_York:20190630T080000
DTEND;TZID=America/New_York:20190630T170000
DTSTAMP:20260425T102126
CREATED:20190228T134155Z
LAST-MODIFIED:20190228T134155Z
UID:10000283-1561881600-1561914000@esdcta.org
SUMMARY:Bucks Co Horse Park
DESCRIPTION:USEF/USDF Dressage
URL:https://esdcta.org/event/bucks-co-horse-park-53/
LOCATION:Bucks County Horse Park\, 8934 Easton Rd\, Revere\, PA\, 018953\, United States
CATEGORIES:Dressage
GEO:40.5224751;-75.1684702
X-APPLE-STRUCTURED-LOCATION;VALUE=URI;X-ADDRESS=Bucks County Horse Park 8934 Easton Rd Revere PA 018953 United States;X-APPLE-RADIUS=500;X-TITLE=8934 Easton Rd:geo:-75.1684702,40.5224751
END:VEVENT
BEGIN:VEVENT
DTSTART;TZID=America/New_York:20190629T080000
DTEND;TZID=America/New_York:20190629T170000
DTSTAMP:20260425T102126
CREATED:20190228T134154Z
LAST-MODIFIED:20190228T134154Z
UID:10000282-1561795200-1561827600@esdcta.org
SUMMARY:Bucks Co Horse Park
DESCRIPTION:Dressage Schooling
URL:https://esdcta.org/event/bucks-co-horse-park-52/
LOCATION:Bucks County Horse Park\, 8934 Easton Rd\, Revere\, PA\, 018953\, United States
CATEGORIES:Dressage
GEO:40.5224751;-75.1684702
X-APPLE-STRUCTURED-LOCATION;VALUE=URI;X-ADDRESS=Bucks County Horse Park 8934 Easton Rd Revere PA 018953 United States;X-APPLE-RADIUS=500;X-TITLE=8934 Easton Rd:geo:-75.1684702,40.5224751
END:VEVENT
BEGIN:VEVENT
DTSTART;TZID=America/New_York:20190628T080000
DTEND;TZID=America/New_York:20190630T170000
DTSTAMP:20260425T102126
CREATED:20190303T233608Z
LAST-MODIFIED:20190303T233608Z
UID:10000322-1561708800-1561914000@esdcta.org
SUMMARY:HP HT I
DESCRIPTION:USEA Horse Trials
URL:https://esdcta.org/event/hp-ht-i-3/
LOCATION:Horse Park of New Jersey\, 626 Rte 524\, Allentown\, NJ\, 08501\, United States
CATEGORIES:Eventing
GEO:40.1905006;-74.4935697
X-APPLE-STRUCTURED-LOCATION;VALUE=URI;X-ADDRESS=Horse Park of New Jersey 626 Rte 524 Allentown NJ 08501 United States;X-APPLE-RADIUS=500;X-TITLE=626 Rte 524:geo:-74.4935697,40.1905006
END:VEVENT
BEGIN:VEVENT
DTSTART;TZID=America/New_York:20190626T080000
DTEND;TZID=America/New_York:20190626T170000
DTSTAMP:20260425T102126
CREATED:20190228T134209Z
LAST-MODIFIED:20190228T134209Z
UID:10000301-1561536000-1561568400@esdcta.org
SUMMARY:Rhythm and Blues Eq. Ctr. (Pa)
DESCRIPTION:USEF/USDF Dressage
URL:https://esdcta.org/event/rhythm-and-blues-eq-ctr-pa-6/
LOCATION:Rhythm & Blues Equestrian Center\, 2450 Steinsburg Rd\, Quakertown\, PA\, 18951\, United States
CATEGORIES:Dressage
GEO:40.4551978;-75.4324816
X-APPLE-STRUCTURED-LOCATION;VALUE=URI;X-ADDRESS=Rhythm & Blues Equestrian Center 2450 Steinsburg Rd Quakertown PA 18951 United States;X-APPLE-RADIUS=500;X-TITLE=2450 Steinsburg Rd:geo:-75.4324816,40.4551978
END:VEVENT
BEGIN:VEVENT
DTSTART;TZID=America/New_York:20190623T080000
DTEND;TZID=America/New_York:20190623T170000
DTSTAMP:20260425T102126
CREATED:20190318T021048Z
LAST-MODIFIED:20190318T021048Z
UID:10000362-1561276800-1561309200@esdcta.org
SUMMARY:Red Tail Farm June II
DESCRIPTION:USDF Dressage Show
URL:https://esdcta.org/event/red-tail-farm-june-ii-4/
LOCATION:Red Tail Farm\, 1100 Rattlesnake Bridge Rd\, Bedminster Township\, NJ\, 07921\, United States
CATEGORIES:Dressage
ATTACH;FMTTYPE=:
GEO:40.6437934;-74.7160768
X-APPLE-STRUCTURED-LOCATION;VALUE=URI;X-ADDRESS=Red Tail Farm 1100 Rattlesnake Bridge Rd Bedminster Township NJ 07921 United States;X-APPLE-RADIUS=500;X-TITLE=1100 Rattlesnake Bridge Rd:geo:-74.7160768,40.6437934
END:VEVENT
BEGIN:VEVENT
DTSTART;TZID=America/New_York:20190623T080000
DTEND;TZID=America/New_York:20190623T170000
DTSTAMP:20260425T102126
CREATED:20190127T203459Z
LAST-MODIFIED:20190127T203459Z
UID:10000258-1561276800-1561309200@esdcta.org
SUMMARY:Phoenix Eq. Ctr.
DESCRIPTION:Dressage\, Combined Test\, and Clear Round
URL:https://esdcta.org/event/phoenix-eq-ctr-3/
LOCATION:NJ
CATEGORIES:Dressage,Eventing
ATTACH;FMTTYPE=:
END:VEVENT
BEGIN:VEVENT
DTSTART;TZID=America/New_York:20190623T080000
DTEND;TZID=America/New_York:20190623T170000
DTSTAMP:20260425T102126
CREATED:20190127T203452Z
LAST-MODIFIED:20190127T203452Z
UID:10000252-1561276800-1561309200@esdcta.org
SUMMARY:LVDA
DESCRIPTION:Dressage Schooling
URL:https://esdcta.org/event/lvda-11/
LOCATION:Spring Fields\, 1883 Pleasant View Rd\, Coopersburg\, PA\, 18036\, United States
CATEGORIES:Dressage
ATTACH;FMTTYPE=:
GEO:40.5229596;-75.3064785
X-APPLE-STRUCTURED-LOCATION;VALUE=URI;X-ADDRESS=Spring Fields 1883 Pleasant View Rd Coopersburg PA 18036 United States;X-APPLE-RADIUS=500;X-TITLE=1883 Pleasant View Rd:geo:-75.3064785,40.5229596
END:VEVENT
BEGIN:VEVENT
DTSTART;TZID=America/New_York:20190622T080000
DTEND;TZID=America/New_York:20190622T170000
DTSTAMP:20260425T102126
CREATED:20190318T021048Z
LAST-MODIFIED:20190318T021048Z
UID:10000361-1561190400-1561222800@esdcta.org
SUMMARY:Red Tail Farm June I
DESCRIPTION:USDF Dressage Show
URL:https://esdcta.org/event/red-tail-farm-june-i-4/
LOCATION:Red Tail Farm\, 1100 Rattlesnake Bridge Rd\, Bedminster Township\, NJ\, 07921\, United States
CATEGORIES:Dressage
ATTACH;FMTTYPE=:
GEO:40.6437934;-74.7160768
X-APPLE-STRUCTURED-LOCATION;VALUE=URI;X-ADDRESS=Red Tail Farm 1100 Rattlesnake Bridge Rd Bedminster Township NJ 07921 United States;X-APPLE-RADIUS=500;X-TITLE=1100 Rattlesnake Bridge Rd:geo:-74.7160768,40.6437934
END:VEVENT
BEGIN:VEVENT
DTSTART;TZID=America/New_York:20190622T080000
DTEND;TZID=America/New_York:20190622T170000
DTSTAMP:20260425T102126
CREATED:20190318T021044Z
LAST-MODIFIED:20190318T021044Z
UID:10000354-1561190400-1561222800@esdcta.org
SUMMARY:Orange Co. Dressage Assoc
DESCRIPTION:Dressage Schooling
URL:https://esdcta.org/event/orange-co-dressage-assoc-10/
LOCATION:Thomas Bull Memorial Park\, 211 NY 416\, Montgomery\, NY\, 12549\, United States
CATEGORIES:Dressage
ATTACH;FMTTYPE=:
GEO:41.479488;-74.272769
X-APPLE-STRUCTURED-LOCATION;VALUE=URI;X-ADDRESS=Thomas Bull Memorial Park 211 NY 416 Montgomery NY 12549 United States;X-APPLE-RADIUS=500;X-TITLE=211 NY 416:geo:-74.272769,41.479488
END:VEVENT
BEGIN:VEVENT
DTSTART;TZID=America/New_York:20190622T080000
DTEND;TZID=America/New_York:20190622T170000
DTSTAMP:20260425T102126
CREATED:20190113T224818Z
LAST-MODIFIED:20190113T224818Z
UID:10000242-1561190400-1561222800@esdcta.org
SUMMARY:Good Times Farm
DESCRIPTION:Dressage Schooling Show
URL:https://esdcta.org/event/good-times-farm-4/
LOCATION:Good Times Farm\, 278 Jackson Mills Road\, Freehold\, NJ\, 07728\, United States
CATEGORIES:Dressage
ATTACH;FMTTYPE=:
GEO:40.1868303;-74.2885136
X-APPLE-STRUCTURED-LOCATION;VALUE=URI;X-ADDRESS=Good Times Farm 278 Jackson Mills Road Freehold NJ 07728 United States;X-APPLE-RADIUS=500;X-TITLE=278 Jackson Mills Road:geo:-74.2885136,40.1868303
END:VEVENT
BEGIN:VEVENT
DTSTART;TZID=America/New_York:20190618T080000
DTEND;TZID=America/New_York:20190618T170000
DTSTAMP:20260425T102126
CREATED:20190228T134153Z
LAST-MODIFIED:20190228T134153Z
UID:10000281-1560844800-1560877200@esdcta.org
SUMMARY:Bucks Co Horse Park
DESCRIPTION:Dressage Schooling\, Tues Eve
URL:https://esdcta.org/event/bucks-co-horse-park-51/
LOCATION:Bucks County Horse Park\, 8934 Easton Rd\, Revere\, PA\, 018953\, United States
CATEGORIES:Dressage
GEO:40.5224751;-75.1684702
X-APPLE-STRUCTURED-LOCATION;VALUE=URI;X-ADDRESS=Bucks County Horse Park 8934 Easton Rd Revere PA 018953 United States;X-APPLE-RADIUS=500;X-TITLE=8934 Easton Rd:geo:-75.1684702,40.5224751
END:VEVENT
BEGIN:VEVENT
DTSTART;TZID=America/New_York:20190616T080000
DTEND;TZID=America/New_York:20190616T170000
DTSTAMP:20260425T102126
CREATED:20190318T021054Z
LAST-MODIFIED:20190318T021054Z
UID:10000374-1560672000-1560704400@esdcta.org
SUMMARY:Suddenly Farm
DESCRIPTION:Dressage Schooling
URL:https://esdcta.org/event/suddenly-farm-22/
LOCATION:Suddenly Farm\, 325 Main Street\, Lumberton\, NJ\, 08048\, United States
CATEGORIES:Dressage
GEO:39.9387;-74.8235
X-APPLE-STRUCTURED-LOCATION;VALUE=URI;X-ADDRESS=Suddenly Farm 325 Main Street Lumberton NJ 08048 United States;X-APPLE-RADIUS=500;X-TITLE=325 Main Street:geo:-74.8235,39.9387
END:VEVENT
END:VCALENDAR