BEGIN:VCALENDAR
VERSION:2.0
PRODID:-//ESDCTA - ECPv6.15.20//NONSGML v1.0//EN
CALSCALE:GREGORIAN
METHOD:PUBLISH
X-ORIGINAL-URL:https://esdcta.org
X-WR-CALDESC:Events for ESDCTA
REFRESH-INTERVAL;VALUE=DURATION:PT1H
X-Robots-Tag:noindex
X-PUBLISHED-TTL:PT1H
BEGIN:VTIMEZONE
TZID:America/New_York
BEGIN:DAYLIGHT
TZOFFSETFROM:-0500
TZOFFSETTO:-0400
TZNAME:EDT
DTSTART:20190310T070000
END:DAYLIGHT
BEGIN:STANDARD
TZOFFSETFROM:-0400
TZOFFSETTO:-0500
TZNAME:EST
DTSTART:20191103T060000
END:STANDARD
BEGIN:DAYLIGHT
TZOFFSETFROM:-0500
TZOFFSETTO:-0400
TZNAME:EDT
DTSTART:20200308T070000
END:DAYLIGHT
BEGIN:STANDARD
TZOFFSETFROM:-0400
TZOFFSETTO:-0500
TZNAME:EST
DTSTART:20201101T060000
END:STANDARD
BEGIN:DAYLIGHT
TZOFFSETFROM:-0500
TZOFFSETTO:-0400
TZNAME:EDT
DTSTART:20210314T070000
END:DAYLIGHT
BEGIN:STANDARD
TZOFFSETFROM:-0400
TZOFFSETTO:-0500
TZNAME:EST
DTSTART:20211107T060000
END:STANDARD
END:VTIMEZONE
BEGIN:VEVENT
DTSTART;TZID=America/New_York:20200712T080000
DTEND;TZID=America/New_York:20200712T170000
DTSTAMP:20260424T211923
CREATED:20200209T191052Z
LAST-MODIFIED:20200209T191052Z
UID:10000438-1594540800-1594573200@esdcta.org
SUMMARY:Schooling Fun Show at the Horse Park of NJ
DESCRIPTION:Dressage Schooling
URL:https://esdcta.org/event/schooling-fun-show-at-the-horse-park-of-nj/
LOCATION:Horse Park of New Jersey\, 626 Rte 524\, Allentown\, NJ\, 08501\, United States
CATEGORIES:Dressage
ATTACH;FMTTYPE=:
GEO:40.1905006;-74.4935697
X-APPLE-STRUCTURED-LOCATION;VALUE=URI;X-ADDRESS=Horse Park of New Jersey 626 Rte 524 Allentown NJ 08501 United States;X-APPLE-RADIUS=500;X-TITLE=626 Rte 524:geo:-74.4935697,40.1905006
END:VEVENT
BEGIN:VEVENT
DTSTART;TZID=America/New_York:20200712T080000
DTEND;TZID=America/New_York:20200712T170000
DTSTAMP:20260424T211923
CREATED:20200209T191041Z
LAST-MODIFIED:20200209T191041Z
UID:10000410-1594540800-1594573200@esdcta.org
SUMMARY:Bucks Co Horse Park
DESCRIPTION:Schooling Horse Trials\, Dressage\, Clear Round\, and Combined Test
URL:https://esdcta.org/event/bucks-co-horse-park-77/
LOCATION:Bucks County Horse Park\, 8934 Easton Rd\, Revere\, PA\, 018953\, United States
CATEGORIES:Dressage,Eventing
ATTACH;FMTTYPE=:
GEO:40.5224751;-75.1684702
X-APPLE-STRUCTURED-LOCATION;VALUE=URI;X-ADDRESS=Bucks County Horse Park 8934 Easton Rd Revere PA 018953 United States;X-APPLE-RADIUS=500;X-TITLE=8934 Easton Rd:geo:-75.1684702,40.5224751
END:VEVENT
BEGIN:VEVENT
DTSTART;TZID=America/New_York:20200711T080000
DTEND;TZID=America/New_York:20200711T170000
DTSTAMP:20260424T211923
CREATED:20200209T191049Z
LAST-MODIFIED:20200209T191049Z
UID:10000431-1594454400-1594486800@esdcta.org
SUMMARY:ESDCTA Cross Country Schooling
DESCRIPTION:Cross Country Schooling at the Horse Park of New Jersey
URL:https://esdcta.org/event/esdcta-cross-country-schooling-6/
LOCATION:Horse Park of New Jersey\, 626 Rte 524\, Allentown\, NJ\, 08501\, United States
CATEGORIES:Eventing
ATTACH;FMTTYPE=:
GEO:40.1905006;-74.4935697
X-APPLE-STRUCTURED-LOCATION;VALUE=URI;X-ADDRESS=Horse Park of New Jersey 626 Rte 524 Allentown NJ 08501 United States;X-APPLE-RADIUS=500;X-TITLE=626 Rte 524:geo:-74.4935697,40.1905006
END:VEVENT
BEGIN:VEVENT
DTSTART;TZID=America/New_York:20200711T080000
DTEND;TZID=America/New_York:20200711T170000
DTSTAMP:20260424T211923
CREATED:20200209T191041Z
LAST-MODIFIED:20200209T191041Z
UID:10000409-1594454400-1594486800@esdcta.org
SUMMARY:Bucks Co Horse Park
DESCRIPTION:USEF/USDF Dressage
URL:https://esdcta.org/event/bucks-co-horse-park-76/
LOCATION:Bucks County Horse Park\, 8934 Easton Rd\, Revere\, PA\, 018953\, United States
CATEGORIES:Dressage
ATTACH;FMTTYPE=:
GEO:40.5224751;-75.1684702
X-APPLE-STRUCTURED-LOCATION;VALUE=URI;X-ADDRESS=Bucks County Horse Park 8934 Easton Rd Revere PA 018953 United States;X-APPLE-RADIUS=500;X-TITLE=8934 Easton Rd:geo:-75.1684702,40.5224751
END:VEVENT
BEGIN:VEVENT
DTSTART;TZID=America/New_York:20200711T080000
DTEND;TZID=America/New_York:20200711T170000
DTSTAMP:20260424T211923
CREATED:20200202T192647Z
LAST-MODIFIED:20200202T192647Z
UID:10000386-1594454400-1594486800@esdcta.org
SUMMARY:Hidden Creek Eq. Ctr
DESCRIPTION:Dressage Schooling\, Combined Test
URL:https://esdcta.org/event/hidden-creek-eq-ctr-8/
LOCATION:Hidden Creek Equestrian Ctr\, Mountainview Drive\, Kunkletown\, PA\, 18058\, United States
CATEGORIES:Dressage,Eventing
ATTACH;FMTTYPE=:
GEO:40.896775;-75.470304
X-APPLE-STRUCTURED-LOCATION;VALUE=URI;X-ADDRESS=Hidden Creek Equestrian Ctr Mountainview Drive Kunkletown PA 18058 United States;X-APPLE-RADIUS=500;X-TITLE=Mountainview Drive:geo:-75.470304,40.896775
END:VEVENT
BEGIN:VEVENT
DTSTART;TZID=America/New_York:20200709T080000
DTEND;TZID=America/New_York:20200709T170000
DTSTAMP:20260424T211923
CREATED:20200209T191037Z
LAST-MODIFIED:20200209T191037Z
UID:10000402-1594281600-1594314000@esdcta.org
SUMMARY:Applewood Farm YEH\, FEH
DESCRIPTION:USEA Young Event Horse\, Future Event Horse Mini Event
URL:https://esdcta.org/event/applewood-farm-yeh-feh-4/
LOCATION:Applewood Farm\, 30 Fox Hill Road\, Califon\, NJ\, 07830\, United States
CATEGORIES:Eventing
ATTACH;FMTTYPE=:
GEO:40.704441;-74.764977
X-APPLE-STRUCTURED-LOCATION;VALUE=URI;X-ADDRESS=Applewood Farm 30 Fox Hill Road Califon NJ 07830 United States;X-APPLE-RADIUS=500;X-TITLE=30 Fox Hill Road:geo:-74.764977,40.704441
END:VEVENT
BEGIN:VEVENT
DTSTART;TZID=America/New_York:20200705T080000
DTEND;TZID=America/New_York:20200705T170000
DTSTAMP:20260424T211923
CREATED:20200209T191054Z
LAST-MODIFIED:20200209T191054Z
UID:10000441-1593936000-1593968400@esdcta.org
SUMMARY:Hearts Journey Stables
DESCRIPTION:Dressage Schooling \, Combined Test
URL:https://esdcta.org/event/hearts-journey-stables-16/
LOCATION:Hearts Journey Stables\, 425 Kromer Road\, Wind Gap\, PA\, 18091\, United States
CATEGORIES:Dressage,Eventing
ATTACH;FMTTYPE=:
GEO:40.8204999;-75.3000835
X-APPLE-STRUCTURED-LOCATION;VALUE=URI;X-ADDRESS=Hearts Journey Stables 425 Kromer Road Wind Gap PA 18091 United States;X-APPLE-RADIUS=500;X-TITLE=425 Kromer Road:geo:-75.3000835,40.8204999
END:VEVENT
BEGIN:VEVENT
DTSTART;TZID=America/New_York:20200704T080000
DTEND;TZID=America/New_York:20200705T170000
DTSTAMP:20260424T211923
CREATED:20200209T191046Z
LAST-MODIFIED:20200209T191046Z
UID:10000424-1593849600-1593968400@esdcta.org
SUMMARY:Dressage at the Park
DESCRIPTION:USEF/USDF Dressage
URL:https://esdcta.org/event/dressage-at-the-park-3/
LOCATION:Horse Park of New Jersey\, 626 Rte 524\, Allentown\, NJ\, 08501\, United States
CATEGORIES:Dressage
ATTACH;FMTTYPE=:
GEO:40.1905006;-74.4935697
X-APPLE-STRUCTURED-LOCATION;VALUE=URI;X-ADDRESS=Horse Park of New Jersey 626 Rte 524 Allentown NJ 08501 United States;X-APPLE-RADIUS=500;X-TITLE=626 Rte 524:geo:-74.4935697,40.1905006
END:VEVENT
BEGIN:VEVENT
DTSTART;TZID=America/New_York:20200702T080000
DTEND;TZID=America/New_York:20200702T170000
DTSTAMP:20260424T211923
CREATED:20200209T191107Z
LAST-MODIFIED:20200209T191107Z
UID:10000461-1593676800-1593709200@esdcta.org
SUMMARY:Rhythm and Blues Eq. Ctr. (Pa)
DESCRIPTION:Schooling Dressage
URL:https://esdcta.org/event/rhythm-and-blues-eq-ctr-pa-11/
LOCATION:Rhythm & Blues Equestrian Center\, 2450 Steinsburg Rd\, Quakertown\, PA\, 18951\, United States
CATEGORIES:Dressage
ATTACH;FMTTYPE=:
GEO:40.4551978;-75.4324816
X-APPLE-STRUCTURED-LOCATION;VALUE=URI;X-ADDRESS=Rhythm & Blues Equestrian Center 2450 Steinsburg Rd Quakertown PA 18951 United States;X-APPLE-RADIUS=500;X-TITLE=2450 Steinsburg Rd:geo:-75.4324816,40.4551978
END:VEVENT
BEGIN:VEVENT
DTSTART;TZID=America/New_York:20200630T080000
DTEND;TZID=America/New_York:20200630T170000
DTSTAMP:20260424T211923
CREATED:20200209T191040Z
LAST-MODIFIED:20200209T191040Z
UID:10000408-1593504000-1593536400@esdcta.org
SUMMARY:Bucks Co Horse Park
DESCRIPTION:Dressage Schooling\, Tues Eve
URL:https://esdcta.org/event/bucks-co-horse-park-75/
LOCATION:Bucks County Horse Park\, 8934 Easton Rd\, Revere\, PA\, 018953\, United States
CATEGORIES:Dressage
ATTACH;FMTTYPE=:
GEO:40.5224751;-75.1684702
X-APPLE-STRUCTURED-LOCATION;VALUE=URI;X-ADDRESS=Bucks County Horse Park 8934 Easton Rd Revere PA 018953 United States;X-APPLE-RADIUS=500;X-TITLE=8934 Easton Rd:geo:-75.1684702,40.5224751
END:VEVENT
BEGIN:VEVENT
DTSTART;TZID=America/New_York:20200628T080000
DTEND;TZID=America/New_York:20200628T170000
DTSTAMP:20260424T211923
CREATED:20200315T190939Z
LAST-MODIFIED:20200315T190939Z
UID:10000471-1593331200-1593363600@esdcta.org
SUMMARY:Square One
DESCRIPTION:Dressage Schooling
URL:https://esdcta.org/event/square-one-14/
LOCATION:Square One\, 315 Mattison Reservoir Avenue\, Branchville\, NJ\, 07826\, United States
CATEGORIES:Dressage
ATTACH;FMTTYPE=:
GEO:41.200032;-74.680259
X-APPLE-STRUCTURED-LOCATION;VALUE=URI;X-ADDRESS=Square One 315 Mattison Reservoir Avenue Branchville NJ 07826 United States;X-APPLE-RADIUS=500;X-TITLE=315 Mattison Reservoir Avenue:geo:-74.680259,41.200032
END:VEVENT
BEGIN:VEVENT
DTSTART;TZID=America/New_York:20200627T080000
DTEND;TZID=America/New_York:20200628T170000
DTSTAMP:20260424T211923
CREATED:20200209T191056Z
LAST-MODIFIED:20200209T191056Z
UID:10000443-1593244800-1593363600@esdcta.org
SUMMARY:HP HT I
DESCRIPTION:USEA Horse Trials
URL:https://esdcta.org/event/hp-ht-i-4/
LOCATION:Horse Park of New Jersey\, 626 Rte 524\, Allentown\, NJ\, 08501\, United States
CATEGORIES:Eventing
ATTACH;FMTTYPE=:
GEO:40.1905006;-74.4935697
X-APPLE-STRUCTURED-LOCATION;VALUE=URI;X-ADDRESS=Horse Park of New Jersey 626 Rte 524 Allentown NJ 08501 United States;X-APPLE-RADIUS=500;X-TITLE=626 Rte 524:geo:-74.4935697,40.1905006
END:VEVENT
BEGIN:VEVENT
DTSTART;TZID=America/New_York:20200627T080000
DTEND;TZID=America/New_York:20200627T170000
DTSTAMP:20260424T211923
CREATED:20200209T191040Z
LAST-MODIFIED:20200209T191040Z
UID:10000407-1593244800-1593277200@esdcta.org
SUMMARY:Bucks Co Horse Park
DESCRIPTION:Dressage Schooling
URL:https://esdcta.org/event/bucks-co-horse-park-74/
LOCATION:Bucks County Horse Park\, 8934 Easton Rd\, Revere\, PA\, 018953\, United States
CATEGORIES:Dressage
ATTACH;FMTTYPE=:
GEO:40.5224751;-75.1684702
X-APPLE-STRUCTURED-LOCATION;VALUE=URI;X-ADDRESS=Bucks County Horse Park 8934 Easton Rd Revere PA 018953 United States;X-APPLE-RADIUS=500;X-TITLE=8934 Easton Rd:geo:-75.1684702,40.5224751
END:VEVENT
BEGIN:VEVENT
DTSTART;TZID=America/New_York:20200621T080000
DTEND;TZID=America/New_York:20200621T170000
DTSTAMP:20260424T211923
CREATED:20200209T191102Z
LAST-MODIFIED:20200209T191102Z
UID:10000456-1592726400-1592758800@esdcta.org
SUMMARY:Phoenix Eq. Ctr.
DESCRIPTION:Dressage\, Combined Test\, and Clear Round
URL:https://esdcta.org/event/phoenix-eq-ctr-10/
LOCATION:Phoenix Equestrian Center\, 39 Orts Rd\, Hamburg\, NJ\, 07419\, United States
CATEGORIES:Dressage,Eventing
ATTACH;FMTTYPE=:
END:VEVENT
BEGIN:VEVENT
DTSTART;TZID=America/New_York:20200620T080000
DTEND;TZID=America/New_York:20200620T170000
DTSTAMP:20260424T211923
CREATED:20200209T191101Z
LAST-MODIFIED:20200209T191101Z
UID:10000454-1592640000-1592672400@esdcta.org
SUMMARY:Orange Co. Dressage Assoc
DESCRIPTION:Dressage Schooling
URL:https://esdcta.org/event/orange-co-dressage-assoc-13/
LOCATION:Thomas Bull Memorial Park\, 211 NY 416\, Montgomery\, NY\, 12549\, United States
CATEGORIES:Dressage
ATTACH;FMTTYPE=:
GEO:41.479488;-74.272769
X-APPLE-STRUCTURED-LOCATION;VALUE=URI;X-ADDRESS=Thomas Bull Memorial Park 211 NY 416 Montgomery NY 12549 United States;X-APPLE-RADIUS=500;X-TITLE=211 NY 416:geo:-74.272769,41.479488
END:VEVENT
BEGIN:VEVENT
DTSTART;TZID=America/New_York:20200620T080000
DTEND;TZID=America/New_York:20200620T170000
DTSTAMP:20260424T211923
CREATED:20200209T191058Z
LAST-MODIFIED:20200209T191058Z
UID:10000449-1592640000-1592672400@esdcta.org
SUMMARY:LVDA
DESCRIPTION:Dressage Schooling
URL:https://esdcta.org/event/lvda-17/
LOCATION:Bay Ridge Stables\, 5384 Green Meadow Rd\, Northampton\, PA\, 18067\, United States
CATEGORIES:Dressage
ATTACH;FMTTYPE=:
END:VEVENT
BEGIN:VEVENT
DTSTART;TZID=America/New_York:20200620T080000
DTEND;TZID=America/New_York:20200620T170000
DTSTAMP:20260424T211923
CREATED:20200209T191036Z
LAST-MODIFIED:20200209T191036Z
UID:10000398-1592640000-1592672400@esdcta.org
SUMMARY:Applewood Farm
DESCRIPTION:Dressage\, Combined Test\, and Clear Round
URL:https://esdcta.org/event/applewood-farm-19/
LOCATION:Applewood Farm\, 30 Fox Hill Road\, Califon\, NJ\, 07830\, United States
CATEGORIES:Dressage,Eventing
ATTACH;FMTTYPE=:
GEO:40.704441;-74.764977
X-APPLE-STRUCTURED-LOCATION;VALUE=URI;X-ADDRESS=Applewood Farm 30 Fox Hill Road Califon NJ 07830 United States;X-APPLE-RADIUS=500;X-TITLE=30 Fox Hill Road:geo:-74.764977,40.704441
END:VEVENT
BEGIN:VEVENT
DTSTART;TZID=America/New_York:20200616T080000
DTEND;TZID=America/New_York:20200616T170000
DTSTAMP:20260424T211923
CREATED:20200209T191040Z
LAST-MODIFIED:20200209T191040Z
UID:10000406-1592294400-1592326800@esdcta.org
SUMMARY:Bucks Co Horse Park
DESCRIPTION:Dressage Schooling\, Tues Eve
URL:https://esdcta.org/event/bucks-co-horse-park-73/
LOCATION:Bucks County Horse Park\, 8934 Easton Rd\, Revere\, PA\, 018953\, United States
CATEGORIES:Dressage
ATTACH;FMTTYPE=:
GEO:40.5224751;-75.1684702
X-APPLE-STRUCTURED-LOCATION;VALUE=URI;X-ADDRESS=Bucks County Horse Park 8934 Easton Rd Revere PA 018953 United States;X-APPLE-RADIUS=500;X-TITLE=8934 Easton Rd:geo:-75.1684702,40.5224751
END:VEVENT
BEGIN:VEVENT
DTSTART;TZID=America/New_York:20200614T080000
DTEND;TZID=America/New_York:20200614T170000
DTSTAMP:20260424T211923
CREATED:20200315T190942Z
LAST-MODIFIED:20200315T190942Z
UID:10000476-1592121600-1592154000@esdcta.org
SUMMARY:Suddenly Farm
DESCRIPTION:Dressage Schooling
URL:https://esdcta.org/event/suddenly-farm-29/
LOCATION:Suddenly Farm\, 325 Main Street\, Lumberton\, NJ\, 08048\, United States
CATEGORIES:Dressage
GEO:39.9387;-74.8235
X-APPLE-STRUCTURED-LOCATION;VALUE=URI;X-ADDRESS=Suddenly Farm 325 Main Street Lumberton NJ 08048 United States;X-APPLE-RADIUS=500;X-TITLE=325 Main Street:geo:-74.8235,39.9387
END:VEVENT
BEGIN:VEVENT
DTSTART;TZID=America/New_York:20200614T080000
DTEND;TZID=America/New_York:20200614T170000
DTSTAMP:20260424T211923
CREATED:20200315T190919Z
LAST-MODIFIED:20200315T190919Z
UID:10000467-1592121600-1592154000@esdcta.org
SUMMARY:Dressage Experience
DESCRIPTION:Dressage Schooling
URL:https://esdcta.org/event/dressage-experience-20/
LOCATION:Horse Park of New Jersey\, 626 Rte 524\, Allentown\, NJ\, 08501\, United States
CATEGORIES:Dressage
ATTACH;FMTTYPE=:
GEO:40.1905006;-74.4935697
X-APPLE-STRUCTURED-LOCATION;VALUE=URI;X-ADDRESS=Horse Park of New Jersey 626 Rte 524 Allentown NJ 08501 United States;X-APPLE-RADIUS=500;X-TITLE=626 Rte 524:geo:-74.4935697,40.1905006
END:VEVENT
BEGIN:VEVENT
DTSTART;TZID=America/New_York:20200614T080000
DTEND;TZID=America/New_York:20200614T170000
DTSTAMP:20260424T211923
CREATED:20200209T191044Z
LAST-MODIFIED:20200209T191044Z
UID:10000420-1592121600-1592154000@esdcta.org
SUMMARY:Bucks Co Horse Park Schooling HT
DESCRIPTION:Changed to Schooling HT
URL:https://esdcta.org/event/bucks-co-horse-park-ht-20/
LOCATION:Bucks County Horse Park\, 8934 Easton Rd\, Revere\, PA\, 018953\, United States
CATEGORIES:Eventing
ATTACH;FMTTYPE=:
GEO:40.5224751;-75.1684702
X-APPLE-STRUCTURED-LOCATION;VALUE=URI;X-ADDRESS=Bucks County Horse Park 8934 Easton Rd Revere PA 018953 United States;X-APPLE-RADIUS=500;X-TITLE=8934 Easton Rd:geo:-75.1684702,40.5224751
END:VEVENT
BEGIN:VEVENT
DTSTART;TZID=America/New_York:20200613T090000
DTEND;TZID=America/New_York:20200613T160000
DTSTAMP:20260424T211923
CREATED:20200209T191048Z
LAST-MODIFIED:20200209T191048Z
UID:10000430-1592038800-1592064000@esdcta.org
SUMMARY:ESDCTA Cross Country Schooling
DESCRIPTION:Cross Country Schooling at the Horse Park of New Jersey
URL:https://esdcta.org/event/esdcta-cross-country-schooling-5/
LOCATION:Horse Park of New Jersey\, 626 Rte 524\, Allentown\, NJ\, 08501\, United States
CATEGORIES:Eventing
ATTACH;FMTTYPE=:
GEO:40.1905006;-74.4935697
X-APPLE-STRUCTURED-LOCATION;VALUE=URI;X-ADDRESS=Horse Park of New Jersey 626 Rte 524 Allentown NJ 08501 United States;X-APPLE-RADIUS=500;X-TITLE=626 Rte 524:geo:-74.4935697,40.1905006
END:VEVENT
BEGIN:VEVENT
DTSTART;TZID=America/New_York:20200606T080000
DTEND;TZID=America/New_York:20200606T170000
DTSTAMP:20260424T211923
CREATED:20200209T191108Z
LAST-MODIFIED:20200209T191108Z
UID:10000464-1591430400-1591462800@esdcta.org
SUMMARY:Saddlebrook Ridge
DESCRIPTION:Dressage\, Western Dressage\, Combined Test\, and Clear Round
URL:https://esdcta.org/event/saddlebrook-ridge-24/
LOCATION:Saddlebrook Ridge Equestrian Center\, 10 Saddlebrook Court\, Shamong\, NJ\, 08088\, United States
CATEGORIES:Dressage,Eventing
ATTACH;FMTTYPE=:
GEO:39.8205251;-74.7828144
X-APPLE-STRUCTURED-LOCATION;VALUE=URI;X-ADDRESS=Saddlebrook Ridge Equestrian Center 10 Saddlebrook Court Shamong NJ 08088 United States;X-APPLE-RADIUS=500;X-TITLE=10 Saddlebrook Court:geo:-74.7828144,39.8205251
END:VEVENT
BEGIN:VEVENT
DTSTART;TZID=America/New_York:20200606T080000
DTEND;TZID=America/New_York:20200606T170000
DTSTAMP:20260424T211923
CREATED:20200209T191059Z
LAST-MODIFIED:20200209T191059Z
UID:10000453-1591430400-1591462800@esdcta.org
SUMMARY:LVDA/BCHP D4K Benefit
DESCRIPTION:Dressage Schooling
URL:https://esdcta.org/event/lvda-bchp-d4k-benefit/
LOCATION:Bucks County Horse Park\, 8934 Easton Rd\, Revere\, PA\, 018953\, United States
CATEGORIES:Dressage,Eventing
ATTACH;FMTTYPE=:
GEO:40.5224751;-75.1684702
X-APPLE-STRUCTURED-LOCATION;VALUE=URI;X-ADDRESS=Bucks County Horse Park 8934 Easton Rd Revere PA 018953 United States;X-APPLE-RADIUS=500;X-TITLE=8934 Easton Rd:geo:-75.1684702,40.5224751
END:VEVENT
BEGIN:VEVENT
DTSTART;TZID=America/New_York:20200524T080000
DTEND;TZID=America/New_York:20200524T170000
DTSTAMP:20260424T211923
CREATED:20200209T191052Z
LAST-MODIFIED:20200209T191052Z
UID:10000436-1590307200-1590339600@esdcta.org
SUMMARY:Free Walk Dressage
DESCRIPTION:Dressage Schooling
URL:https://esdcta.org/event/free-walk-dressage-7/
LOCATION:Free Walk Dressage\, 2522 Route 207\, Campbell Hall\, NY\, 10916\, United States
CATEGORIES:Dressage
ATTACH;FMTTYPE=:
GEO:41.457415;-74.218818
X-APPLE-STRUCTURED-LOCATION;VALUE=URI;X-ADDRESS=Free Walk Dressage 2522 Route 207 Campbell Hall NY 10916 United States;X-APPLE-RADIUS=500;X-TITLE=2522 Route 207:geo:-74.218818,41.457415
END:VEVENT
BEGIN:VEVENT
DTSTART;TZID=America/New_York:20200519T080000
DTEND;TZID=America/New_York:20200519T170000
DTSTAMP:20260424T211923
CREATED:20200209T191039Z
LAST-MODIFIED:20200209T191039Z
UID:10000405-1589875200-1589907600@esdcta.org
SUMMARY:Bucks Co Horse Park
DESCRIPTION:Dressage Schooling\, Tues Eve
URL:https://esdcta.org/event/bucks-co-horse-park-69/
LOCATION:Bucks County Horse Park\, 8934 Easton Rd\, Revere\, PA\, 018953\, United States
CATEGORIES:Dressage
ATTACH;FMTTYPE=:
GEO:40.5224751;-75.1684702
X-APPLE-STRUCTURED-LOCATION;VALUE=URI;X-ADDRESS=Bucks County Horse Park 8934 Easton Rd Revere PA 018953 United States;X-APPLE-RADIUS=500;X-TITLE=8934 Easton Rd:geo:-75.1684702,40.5224751
END:VEVENT
BEGIN:VEVENT
DTSTART;TZID=America/New_York:20200517T080000
DTEND;TZID=America/New_York:20200517T170000
DTSTAMP:20260424T211923
CREATED:20200209T191047Z
LAST-MODIFIED:20200209T191047Z
UID:10000425-1589702400-1589734800@esdcta.org
SUMMARY:Dressage Experience
DESCRIPTION:Dressage Schooling
URL:https://esdcta.org/event/dressage-experience-16/
LOCATION:Burlington County Fairgrounds\, Route 206 & Jacksonville-Jobstown Road\, Springfield Twp.\, NJ\, 08022\, United States
CATEGORIES:Dressage
ATTACH;FMTTYPE=:
GEO:40.5680978;-74.624505
X-APPLE-STRUCTURED-LOCATION;VALUE=URI;X-ADDRESS=Burlington County Fairgrounds Route 206 & Jacksonville-Jobstown Road Springfield Twp. NJ 08022 United States;X-APPLE-RADIUS=500;X-TITLE=Route 206 & Jacksonville-Jobstown Road:geo:-74.624505,40.5680978
END:VEVENT
BEGIN:VEVENT
DTSTART;TZID=America/New_York:20200517T080000
DTEND;TZID=America/New_York:20200517T170000
DTSTAMP:20260424T211923
CREATED:20200209T191039Z
LAST-MODIFIED:20200209T191039Z
UID:10000404-1589702400-1589734800@esdcta.org
SUMMARY:Bucks Co Horse Park
DESCRIPTION:Schooling Horse Trials\, Dressage\, Clear Round\, and Combined Test
URL:https://esdcta.org/event/bucks-co-horse-park-68/
LOCATION:Bucks County Horse Park\, 8934 Easton Rd\, Revere\, PA\, 018953\, United States
CATEGORIES:Dressage,Eventing
ATTACH;FMTTYPE=:
GEO:40.5224751;-75.1684702
X-APPLE-STRUCTURED-LOCATION;VALUE=URI;X-ADDRESS=Bucks County Horse Park 8934 Easton Rd Revere PA 018953 United States;X-APPLE-RADIUS=500;X-TITLE=8934 Easton Rd:geo:-75.1684702,40.5224751
END:VEVENT
BEGIN:VEVENT
DTSTART;TZID=America/New_York:20200509T080000
DTEND;TZID=America/New_York:20200509T170000
DTSTAMP:20260424T211923
CREATED:20200315T190946Z
LAST-MODIFIED:20200315T190946Z
UID:10000481-1589011200-1589043600@esdcta.org
SUMMARY:Dressage at Jericho
DESCRIPTION:USEF/USDF Dressage
URL:https://esdcta.org/event/dressage-at-jericho/
LOCATION:Jericho Sport Horses\, 426 Pineville Rd.\, Newtown\, PA\, 18940\, United States
CATEGORIES:Dressage
GEO:40.2931234305;-74.9668876027
X-APPLE-STRUCTURED-LOCATION;VALUE=URI;X-ADDRESS=Jericho Sport Horses 426 Pineville Rd. Newtown PA 18940 United States;X-APPLE-RADIUS=500;X-TITLE=426 Pineville Rd.:geo:-74.9668876027,40.2931234305
END:VEVENT
BEGIN:VEVENT
DTSTART;TZID=America/New_York:20200509T080000
DTEND;TZID=America/New_York:20200509T170000
DTSTAMP:20260424T211923
CREATED:20200209T191108Z
LAST-MODIFIED:20200209T191108Z
UID:10000463-1589011200-1589043600@esdcta.org
SUMMARY:Saddlebrook Ridge
DESCRIPTION:Dressage Schooling\, Western Dressage
URL:https://esdcta.org/event/saddlebrook-ridge-23/
LOCATION:Saddlebrook Ridge Equestrian Center\, 10 Saddlebrook Court\, Shamong\, NJ\, 08088\, United States
CATEGORIES:Dressage
ATTACH;FMTTYPE=:
GEO:39.8205251;-74.7828144
X-APPLE-STRUCTURED-LOCATION;VALUE=URI;X-ADDRESS=Saddlebrook Ridge Equestrian Center 10 Saddlebrook Court Shamong NJ 08088 United States;X-APPLE-RADIUS=500;X-TITLE=10 Saddlebrook Court:geo:-74.7828144,39.8205251
END:VEVENT
END:VCALENDAR