BEGIN:VCALENDAR
VERSION:2.0
PRODID:-//ESDCTA - ECPv6.15.20//NONSGML v1.0//EN
CALSCALE:GREGORIAN
METHOD:PUBLISH
X-WR-CALNAME:ESDCTA
X-ORIGINAL-URL:https://esdcta.org
X-WR-CALDESC:Events for ESDCTA
REFRESH-INTERVAL;VALUE=DURATION:PT1H
X-Robots-Tag:noindex
X-PUBLISHED-TTL:PT1H
BEGIN:VTIMEZONE
TZID:America/New_York
BEGIN:DAYLIGHT
TZOFFSETFROM:-0500
TZOFFSETTO:-0400
TZNAME:EDT
DTSTART:20190310T070000
END:DAYLIGHT
BEGIN:STANDARD
TZOFFSETFROM:-0400
TZOFFSETTO:-0500
TZNAME:EST
DTSTART:20191103T060000
END:STANDARD
BEGIN:DAYLIGHT
TZOFFSETFROM:-0500
TZOFFSETTO:-0400
TZNAME:EDT
DTSTART:20200308T070000
END:DAYLIGHT
BEGIN:STANDARD
TZOFFSETFROM:-0400
TZOFFSETTO:-0500
TZNAME:EST
DTSTART:20201101T060000
END:STANDARD
BEGIN:DAYLIGHT
TZOFFSETFROM:-0500
TZOFFSETTO:-0400
TZNAME:EDT
DTSTART:20210314T070000
END:DAYLIGHT
BEGIN:STANDARD
TZOFFSETFROM:-0400
TZOFFSETTO:-0500
TZNAME:EST
DTSTART:20211107T060000
END:STANDARD
END:VTIMEZONE
BEGIN:VEVENT
DTSTART;TZID=America/New_York:20200809T080000
DTEND;TZID=America/New_York:20200809T170000
DTSTAMP:20260424T182226
CREATED:20200209T191047Z
LAST-MODIFIED:20200209T191047Z
UID:10000427-1596960000-1596992400@esdcta.org
SUMMARY:Dressage Experience
DESCRIPTION:USEF/USDF Dressage Show
URL:https://esdcta.org/event/dressage-experience-18/
LOCATION:Horse Park of New Jersey\, 626 Rte 524\, Allentown\, NJ\, 08501\, United States
CATEGORIES:Dressage
ATTACH;FMTTYPE=:
GEO:40.1905006;-74.4935697
X-APPLE-STRUCTURED-LOCATION;VALUE=URI;X-ADDRESS=Horse Park of New Jersey 626 Rte 524 Allentown NJ 08501 United States;X-APPLE-RADIUS=500;X-TITLE=626 Rte 524:geo:-74.4935697,40.1905006
END:VEVENT
BEGIN:VEVENT
DTSTART;TZID=America/New_York:20200809T080000
DTEND;TZID=America/New_York:20200809T170000
DTSTAMP:20260424T182226
CREATED:20200209T191042Z
LAST-MODIFIED:20200209T191042Z
UID:10000414-1596960000-1596992400@esdcta.org
SUMMARY:Bucks Co Horse Park
DESCRIPTION:Dressage\, Clear Round\, and Combined Test
URL:https://esdcta.org/event/bucks-co-horse-park-81/
LOCATION:Bucks County Horse Park\, 8934 Easton Rd\, Revere\, PA\, 018953\, United States
CATEGORIES:Dressage,Eventing
ATTACH;FMTTYPE=:
GEO:40.5224751;-75.1684702
X-APPLE-STRUCTURED-LOCATION;VALUE=URI;X-ADDRESS=Bucks County Horse Park 8934 Easton Rd Revere PA 018953 United States;X-APPLE-RADIUS=500;X-TITLE=8934 Easton Rd:geo:-75.1684702,40.5224751
END:VEVENT
BEGIN:VEVENT
DTSTART;TZID=America/New_York:20200808T080000
DTEND;TZID=America/New_York:20200808T170000
DTSTAMP:20260424T182226
CREATED:20200209T191054Z
LAST-MODIFIED:20200209T191054Z
UID:10000442-1596873600-1596906000@esdcta.org
SUMMARY:Hearts Journey Stables
DESCRIPTION:Dressage Schooling \, Combined Test
URL:https://esdcta.org/event/hearts-journey-stables-17/
LOCATION:Hearts Journey Stables\, 425 Kromer Road\, Wind Gap\, PA\, 18091\, United States
CATEGORIES:Dressage,Eventing
ATTACH;FMTTYPE=:
GEO:40.8204999;-75.3000835
X-APPLE-STRUCTURED-LOCATION;VALUE=URI;X-ADDRESS=Hearts Journey Stables 425 Kromer Road Wind Gap PA 18091 United States;X-APPLE-RADIUS=500;X-TITLE=425 Kromer Road:geo:-75.3000835,40.8204999
END:VEVENT
BEGIN:VEVENT
DTSTART;TZID=America/New_York:20200808T080000
DTEND;TZID=America/New_York:20200808T170000
DTSTAMP:20260424T182226
CREATED:20200202T192652Z
LAST-MODIFIED:20200202T192652Z
UID:10000393-1596873600-1596906000@esdcta.org
SUMMARY:Bit O Woods Farm
DESCRIPTION:Dressage\, and Clear Round
URL:https://esdcta.org/event/bit-o-woods-farm-12/
LOCATION:Bit O Woods Farm\, 2207 Fostertown Road\, Hainesport\, NJ\, 08036\, United States
CATEGORIES:Dressage,Eventing
ATTACH;FMTTYPE=:
GEO:39.963529;-74.8435267
X-APPLE-STRUCTURED-LOCATION;VALUE=URI;X-ADDRESS=Bit O Woods Farm 2207 Fostertown Road Hainesport NJ 08036 United States;X-APPLE-RADIUS=500;X-TITLE=2207 Fostertown Road:geo:-74.8435267,39.963529
END:VEVENT
BEGIN:VEVENT
DTSTART;TZID=America/New_York:20200805T080000
DTEND;TZID=America/New_York:20200805T170000
DTSTAMP:20260424T182226
CREATED:20200202T192651Z
LAST-MODIFIED:20200202T192651Z
UID:10000389-1596614400-1596646800@esdcta.org
SUMMARY:Red Tail Farm Aug VI
DESCRIPTION:USDF Dressage Show
URL:https://esdcta.org/event/red-tail-farm-aug-vi-4/
LOCATION:Red Tail Farm\, 1100 Rattlesnake Bridge Rd\, Bedminster Township\, NJ\, 07921\, United States
CATEGORIES:Dressage
ATTACH;FMTTYPE=:
GEO:40.6437934;-74.7160768
X-APPLE-STRUCTURED-LOCATION;VALUE=URI;X-ADDRESS=Red Tail Farm 1100 Rattlesnake Bridge Rd Bedminster Township NJ 07921 United States;X-APPLE-RADIUS=500;X-TITLE=1100 Rattlesnake Bridge Rd:geo:-74.7160768,40.6437934
END:VEVENT
BEGIN:VEVENT
DTSTART;TZID=America/New_York:20200804T080000
DTEND;TZID=America/New_York:20200804T170000
DTSTAMP:20260424T182226
CREATED:20200202T192648Z
LAST-MODIFIED:20200202T192648Z
UID:10000388-1596528000-1596560400@esdcta.org
SUMMARY:Red Tail Farm Aug V
DESCRIPTION:USDF Dressage Show
URL:https://esdcta.org/event/red-tail-farm-aug-v-4/
LOCATION:Red Tail Farm\, 1100 Rattlesnake Bridge Rd\, Bedminster Township\, NJ\, 07921\, United States
CATEGORIES:Dressage
ATTACH;FMTTYPE=:
GEO:40.6437934;-74.7160768
X-APPLE-STRUCTURED-LOCATION;VALUE=URI;X-ADDRESS=Red Tail Farm 1100 Rattlesnake Bridge Rd Bedminster Township NJ 07921 United States;X-APPLE-RADIUS=500;X-TITLE=1100 Rattlesnake Bridge Rd:geo:-74.7160768,40.6437934
END:VEVENT
BEGIN:VEVENT
DTSTART;TZID=America/New_York:20200802T080000
DTEND;TZID=America/New_York:20200802T170000
DTSTAMP:20260424T182226
CREATED:20200209T191042Z
LAST-MODIFIED:20200209T191042Z
UID:10000413-1596355200-1596387600@esdcta.org
SUMMARY:Bucks Co Horse Park
DESCRIPTION:USEF/USDF Dressage
URL:https://esdcta.org/event/bucks-co-horse-park-80/
LOCATION:Bucks County Horse Park\, 8934 Easton Rd\, Revere\, PA\, 018953\, United States
CATEGORIES:Dressage
ATTACH;FMTTYPE=:
GEO:40.5224751;-75.1684702
X-APPLE-STRUCTURED-LOCATION;VALUE=URI;X-ADDRESS=Bucks County Horse Park 8934 Easton Rd Revere PA 018953 United States;X-APPLE-RADIUS=500;X-TITLE=8934 Easton Rd:geo:-75.1684702,40.5224751
END:VEVENT
BEGIN:VEVENT
DTSTART;TZID=America/New_York:20200801T080000
DTEND;TZID=America/New_York:20200801T170000
DTSTAMP:20260424T182226
CREATED:20200718T214512Z
LAST-MODIFIED:20200718T214512Z
UID:10000482-1596268800-1596301200@esdcta.org
SUMMARY:USEA Phillip Dutton Galloping Clinic
DESCRIPTION:Click for details \nFor more information and to register contact Erin Hurley at\n609-354-2014 or erin@unicornriding.com
URL:https://esdcta.org/event/usea-phillip-dutton-galloping-clinic/
LOCATION:True Prospect Farm\, West Grove\, PA\, United States
CATEGORIES:Eventing
END:VEVENT
BEGIN:VEVENT
DTSTART;TZID=America/New_York:20200728T080000
DTEND;TZID=America/New_York:20200728T170000
DTSTAMP:20260424T182226
CREATED:20200209T191041Z
LAST-MODIFIED:20200209T191041Z
UID:10000412-1595923200-1595955600@esdcta.org
SUMMARY:Bucks Co Horse Park
DESCRIPTION:Dressage Schooling\, Tues Eve
URL:https://esdcta.org/event/bucks-co-horse-park-79/
LOCATION:Bucks County Horse Park\, 8934 Easton Rd\, Revere\, PA\, 018953\, United States
CATEGORIES:Dressage
ATTACH;FMTTYPE=:
GEO:40.5224751;-75.1684702
X-APPLE-STRUCTURED-LOCATION;VALUE=URI;X-ADDRESS=Bucks County Horse Park 8934 Easton Rd Revere PA 018953 United States;X-APPLE-RADIUS=500;X-TITLE=8934 Easton Rd:geo:-75.1684702,40.5224751
END:VEVENT
BEGIN:VEVENT
DTSTART;TZID=America/New_York:20200726T080000
DTEND;TZID=America/New_York:20200726T170000
DTSTAMP:20260424T182226
CREATED:20200209T191058Z
LAST-MODIFIED:20200209T191058Z
UID:10000447-1595750400-1595782800@esdcta.org
SUMMARY:LVDA
DESCRIPTION:Dressage Schooling
URL:https://esdcta.org/event/lvda-15/
LOCATION:Hidden Creek Equestrian Ctr\, Mountainview Drive\, Kunkletown\, PA\, 18058\, United States
CATEGORIES:Dressage
ATTACH;FMTTYPE=:
GEO:40.896775;-75.470304
X-APPLE-STRUCTURED-LOCATION;VALUE=URI;X-ADDRESS=Hidden Creek Equestrian Ctr Mountainview Drive Kunkletown PA 18058 United States;X-APPLE-RADIUS=500;X-TITLE=Mountainview Drive:geo:-75.470304,40.896775
END:VEVENT
BEGIN:VEVENT
DTSTART;TZID=America/New_York:20200726T080000
DTEND;TZID=America/New_York:20200726T170000
DTSTAMP:20260424T182226
CREATED:20200209T191057Z
LAST-MODIFIED:20200209T191057Z
UID:10000445-1595750400-1595782800@esdcta.org
SUMMARY:Jersey Palms
DESCRIPTION:Dressage Schooling
URL:https://esdcta.org/event/jersey-palms-11/
LOCATION:Jersey Palms Farm\, 177 S. Stump Tavern Road\, Jackson\, NJ\, 08527\, United States
CATEGORIES:Dressage
ATTACH;FMTTYPE=:
GEO:40.0900691;-74.4057337
X-APPLE-STRUCTURED-LOCATION;VALUE=URI;X-ADDRESS=Jersey Palms Farm 177 S. Stump Tavern Road Jackson NJ 08527 United States;X-APPLE-RADIUS=500;X-TITLE=177 S. Stump Tavern Road:geo:-74.4057337,40.0900691
END:VEVENT
BEGIN:VEVENT
DTSTART;TZID=America/New_York:20200724T080000
DTEND;TZID=America/New_York:20200726T170000
DTSTAMP:20260424T182226
CREATED:20200209T191056Z
LAST-MODIFIED:20200209T191056Z
UID:10000444-1595577600-1595782800@esdcta.org
SUMMARY:HP HT II
DESCRIPTION:USEA Horse Trials
URL:https://esdcta.org/event/hp-ht-ii-3/
LOCATION:Horse Park of New Jersey\, 626 Rte 524\, Allentown\, NJ\, 08501\, United States
CATEGORIES:Eventing
ATTACH;FMTTYPE=:
GEO:40.1905006;-74.4935697
X-APPLE-STRUCTURED-LOCATION;VALUE=URI;X-ADDRESS=Horse Park of New Jersey 626 Rte 524 Allentown NJ 08501 United States;X-APPLE-RADIUS=500;X-TITLE=626 Rte 524:geo:-74.4935697,40.1905006
END:VEVENT
BEGIN:VEVENT
DTSTART;TZID=America/New_York:20200722T080000
DTEND;TZID=America/New_York:20200722T170000
DTSTAMP:20260424T182226
CREATED:20200209T191052Z
LAST-MODIFIED:20200209T191052Z
UID:10000435-1595404800-1595437200@esdcta.org
SUMMARY:ESDCTA Summer Days II
DESCRIPTION:USDF Dressage Show
URL:https://esdcta.org/event/esdcta-summer-days-ii-4/
LOCATION:US Equestrian Team Headquarters\, 1040 Pottersville Road\, Gladstone\, NJ\, 07934-2053\, United States
CATEGORIES:Dressage
ATTACH;FMTTYPE=:
GEO:40.71896;-74.6873304
X-APPLE-STRUCTURED-LOCATION;VALUE=URI;X-ADDRESS=US Equestrian Team Headquarters 1040 Pottersville Road Gladstone NJ 07934-2053 United States;X-APPLE-RADIUS=500;X-TITLE=1040 Pottersville Road:geo:-74.6873304,40.71896
END:VEVENT
BEGIN:VEVENT
DTSTART;TZID=America/New_York:20200721T080000
DTEND;TZID=America/New_York:20200721T170000
DTSTAMP:20260424T182226
CREATED:20200209T191051Z
LAST-MODIFIED:20200209T191051Z
UID:10000434-1595318400-1595350800@esdcta.org
SUMMARY:ESDCTA Summer Days I
DESCRIPTION:USDF Dressage Show
URL:https://esdcta.org/event/esdcta-summer-days-i-3/
LOCATION:US Equestrian Team Headquarters\, 1040 Pottersville Road\, Gladstone\, NJ\, 07934-2053\, United States
CATEGORIES:Dressage
ATTACH;FMTTYPE=:
GEO:40.71896;-74.6873304
X-APPLE-STRUCTURED-LOCATION;VALUE=URI;X-ADDRESS=US Equestrian Team Headquarters 1040 Pottersville Road Gladstone NJ 07934-2053 United States;X-APPLE-RADIUS=500;X-TITLE=1040 Pottersville Road:geo:-74.6873304,40.71896
END:VEVENT
BEGIN:VEVENT
DTSTART;TZID=America/New_York:20200719T080000
DTEND;TZID=America/New_York:20200719T170000
DTSTAMP:20260424T182226
CREATED:20200315T190944Z
LAST-MODIFIED:20200315T190944Z
UID:10000477-1595145600-1595178000@esdcta.org
SUMMARY:Suddenly Farm
DESCRIPTION:Dressage Schooling
URL:https://esdcta.org/event/suddenly-farm-31/
LOCATION:Suddenly Farm\, 325 Main Street\, Lumberton\, NJ\, 08048\, United States
CATEGORIES:Dressage
GEO:39.9387;-74.8235
X-APPLE-STRUCTURED-LOCATION;VALUE=URI;X-ADDRESS=Suddenly Farm 325 Main Street Lumberton NJ 08048 United States;X-APPLE-RADIUS=500;X-TITLE=325 Main Street:geo:-74.8235,39.9387
END:VEVENT
BEGIN:VEVENT
DTSTART;TZID=America/New_York:20200719T080000
DTEND;TZID=America/New_York:20200719T170000
DTSTAMP:20260424T182226
CREATED:20200315T190944Z
LAST-MODIFIED:20200315T190944Z
UID:10000480-1595145600-1595178000@esdcta.org
SUMMARY:Windy Hollow Hunt
DESCRIPTION:USEF/USDF Dressage
URL:https://esdcta.org/event/windy-hollow-hunt-4/
LOCATION:Sussex County Fairgrounds\, 37 Plains Rd\, Augusta\, NJ\, 07822\, United States
CATEGORIES:Dressage
ATTACH;FMTTYPE=:
GEO:41.1362927;-74.7164249
X-APPLE-STRUCTURED-LOCATION;VALUE=URI;X-ADDRESS=Sussex County Fairgrounds 37 Plains Rd Augusta NJ 07822 United States;X-APPLE-RADIUS=500;X-TITLE=37 Plains Rd:geo:-74.7164249,41.1362927
END:VEVENT
BEGIN:VEVENT
DTSTART;TZID=America/New_York:20200719T080000
DTEND;TZID=America/New_York:20200719T170000
DTSTAMP:20260424T182226
CREATED:20200209T191047Z
LAST-MODIFIED:20200209T191047Z
UID:10000426-1595145600-1595178000@esdcta.org
SUMMARY:Dressage Experience
DESCRIPTION:USEF/USDF Dressage Show
URL:https://esdcta.org/event/dressage-experience-17/
LOCATION:Horse Park of New Jersey\, 626 Rte 524\, Allentown\, NJ\, 08501\, United States
CATEGORIES:Dressage
ATTACH;FMTTYPE=:
GEO:40.1905006;-74.4935697
X-APPLE-STRUCTURED-LOCATION;VALUE=URI;X-ADDRESS=Horse Park of New Jersey 626 Rte 524 Allentown NJ 08501 United States;X-APPLE-RADIUS=500;X-TITLE=626 Rte 524:geo:-74.4935697,40.1905006
END:VEVENT
BEGIN:VEVENT
DTSTART;TZID=America/New_York:20200718T080000
DTEND;TZID=America/New_York:20200718T170000
DTSTAMP:20260424T182226
CREATED:20200202T192652Z
LAST-MODIFIED:20200202T192652Z
UID:10000392-1595059200-1595091600@esdcta.org
SUMMARY:Bit O Woods Farm
DESCRIPTION:Dressage\, and Clear Round
URL:https://esdcta.org/event/bit-o-woods-farm-11/
LOCATION:Bit O Woods Farm\, 2207 Fostertown Road\, Hainesport\, NJ\, 08036\, United States
CATEGORIES:Dressage,Eventing
ATTACH;FMTTYPE=:
GEO:39.963529;-74.8435267
X-APPLE-STRUCTURED-LOCATION;VALUE=URI;X-ADDRESS=Bit O Woods Farm 2207 Fostertown Road Hainesport NJ 08036 United States;X-APPLE-RADIUS=500;X-TITLE=2207 Fostertown Road:geo:-74.8435267,39.963529
END:VEVENT
BEGIN:VEVENT
DTSTART;TZID=America/New_York:20200717T080000
DTEND;TZID=America/New_York:20200718T170000
DTSTAMP:20260424T182226
CREATED:20200315T190944Z
LAST-MODIFIED:20200315T190944Z
UID:10000479-1594972800-1595091600@esdcta.org
SUMMARY:Windy Hollow Hunt
DESCRIPTION:USEF/USDF Dressage
URL:https://esdcta.org/event/windy-hollow-hunt-3/
LOCATION:Sussex County Fairgrounds\, 37 Plains Rd\, Augusta\, NJ\, 07822\, United States
CATEGORIES:Dressage
ATTACH;FMTTYPE=:
GEO:41.1362927;-74.7164249
X-APPLE-STRUCTURED-LOCATION;VALUE=URI;X-ADDRESS=Sussex County Fairgrounds 37 Plains Rd Augusta NJ 07822 United States;X-APPLE-RADIUS=500;X-TITLE=37 Plains Rd:geo:-74.7164249,41.1362927
END:VEVENT
BEGIN:VEVENT
DTSTART;TZID=America/New_York:20200715T080000
DTEND;TZID=America/New_York:20200715T170000
DTSTAMP:20260424T182226
CREATED:20200209T191036Z
LAST-MODIFIED:20200209T191036Z
UID:10000399-1594800000-1594832400@esdcta.org
SUMMARY:Applewood Farm
DESCRIPTION:Dressage\, Combined Test\, and Clear Round
URL:https://esdcta.org/event/applewood-farm-20/
LOCATION:Applewood Farm\, 30 Fox Hill Road\, Califon\, NJ\, 07830\, United States
CATEGORIES:Dressage,Eventing
ATTACH;FMTTYPE=:
GEO:40.704441;-74.764977
X-APPLE-STRUCTURED-LOCATION;VALUE=URI;X-ADDRESS=Applewood Farm 30 Fox Hill Road Califon NJ 07830 United States;X-APPLE-RADIUS=500;X-TITLE=30 Fox Hill Road:geo:-74.764977,40.704441
END:VEVENT
BEGIN:VEVENT
DTSTART;TZID=America/New_York:20200715T080000
DTEND;TZID=America/New_York:20200715T170000
DTSTAMP:20260424T182226
CREATED:20200202T192651Z
LAST-MODIFIED:20200202T192651Z
UID:10000391-1594800000-1594832400@esdcta.org
SUMMARY:Red Tail Farm July IV
DESCRIPTION:USDF Dressage Show
URL:https://esdcta.org/event/red-tail-farm-july-iv-4/
LOCATION:Red Tail Farm\, 1100 Rattlesnake Bridge Rd\, Bedminster Township\, NJ\, 07921\, United States
CATEGORIES:Dressage
ATTACH;FMTTYPE=:
GEO:40.6437934;-74.7160768
X-APPLE-STRUCTURED-LOCATION;VALUE=URI;X-ADDRESS=Red Tail Farm 1100 Rattlesnake Bridge Rd Bedminster Township NJ 07921 United States;X-APPLE-RADIUS=500;X-TITLE=1100 Rattlesnake Bridge Rd:geo:-74.7160768,40.6437934
END:VEVENT
BEGIN:VEVENT
DTSTART;TZID=America/New_York:20200714T080000
DTEND;TZID=America/New_York:20200714T170000
DTSTAMP:20260424T182226
CREATED:20200209T191041Z
LAST-MODIFIED:20200209T191041Z
UID:10000411-1594713600-1594746000@esdcta.org
SUMMARY:Bucks Co Horse Park
DESCRIPTION:Dressage Schooling\, Tues Eve
URL:https://esdcta.org/event/bucks-co-horse-park-78/
LOCATION:Bucks County Horse Park\, 8934 Easton Rd\, Revere\, PA\, 018953\, United States
CATEGORIES:Dressage
ATTACH;FMTTYPE=:
GEO:40.5224751;-75.1684702
X-APPLE-STRUCTURED-LOCATION;VALUE=URI;X-ADDRESS=Bucks County Horse Park 8934 Easton Rd Revere PA 018953 United States;X-APPLE-RADIUS=500;X-TITLE=8934 Easton Rd:geo:-75.1684702,40.5224751
END:VEVENT
BEGIN:VEVENT
DTSTART;TZID=America/New_York:20200714T080000
DTEND;TZID=America/New_York:20200714T170000
DTSTAMP:20260424T182226
CREATED:20200202T192651Z
LAST-MODIFIED:20200202T192651Z
UID:10000390-1594713600-1594746000@esdcta.org
SUMMARY:Red Tail Farm July III
DESCRIPTION:USDF Dressage Show
URL:https://esdcta.org/event/red-tail-farm-july-iii-5/
LOCATION:Red Tail Farm\, 1100 Rattlesnake Bridge Rd\, Bedminster Township\, NJ\, 07921\, United States
CATEGORIES:Dressage
ATTACH;FMTTYPE=:
GEO:40.6437934;-74.7160768
X-APPLE-STRUCTURED-LOCATION;VALUE=URI;X-ADDRESS=Red Tail Farm 1100 Rattlesnake Bridge Rd Bedminster Township NJ 07921 United States;X-APPLE-RADIUS=500;X-TITLE=1100 Rattlesnake Bridge Rd:geo:-74.7160768,40.6437934
END:VEVENT
BEGIN:VEVENT
DTSTART;TZID=America/New_York:20200712T080000
DTEND;TZID=America/New_York:20200712T170000
DTSTAMP:20260424T182226
CREATED:20200209T191103Z
LAST-MODIFIED:20200209T191103Z
UID:10000457-1594540800-1594573200@esdcta.org
SUMMARY:Phoenix Eq. Ctr.
DESCRIPTION:Dressage\, Combined Test\, and Clear Round
URL:https://esdcta.org/event/phoenix-eq-ctr-11/
LOCATION:Phoenix Equestrian Center\, 39 Orts Rd\, Hamburg\, NJ\, 07419\, United States
CATEGORIES:Dressage,Eventing
ATTACH;FMTTYPE=:
END:VEVENT
BEGIN:VEVENT
DTSTART;TZID=America/New_York:20200712T080000
DTEND;TZID=America/New_York:20200712T170000
DTSTAMP:20260424T182226
CREATED:20200209T191052Z
LAST-MODIFIED:20200209T191052Z
UID:10000438-1594540800-1594573200@esdcta.org
SUMMARY:Schooling Fun Show at the Horse Park of NJ
DESCRIPTION:Dressage Schooling
URL:https://esdcta.org/event/schooling-fun-show-at-the-horse-park-of-nj/
LOCATION:Horse Park of New Jersey\, 626 Rte 524\, Allentown\, NJ\, 08501\, United States
CATEGORIES:Dressage
ATTACH;FMTTYPE=:
GEO:40.1905006;-74.4935697
X-APPLE-STRUCTURED-LOCATION;VALUE=URI;X-ADDRESS=Horse Park of New Jersey 626 Rte 524 Allentown NJ 08501 United States;X-APPLE-RADIUS=500;X-TITLE=626 Rte 524:geo:-74.4935697,40.1905006
END:VEVENT
BEGIN:VEVENT
DTSTART;TZID=America/New_York:20200712T080000
DTEND;TZID=America/New_York:20200712T170000
DTSTAMP:20260424T182226
CREATED:20200209T191041Z
LAST-MODIFIED:20200209T191041Z
UID:10000410-1594540800-1594573200@esdcta.org
SUMMARY:Bucks Co Horse Park
DESCRIPTION:Schooling Horse Trials\, Dressage\, Clear Round\, and Combined Test
URL:https://esdcta.org/event/bucks-co-horse-park-77/
LOCATION:Bucks County Horse Park\, 8934 Easton Rd\, Revere\, PA\, 018953\, United States
CATEGORIES:Dressage,Eventing
ATTACH;FMTTYPE=:
GEO:40.5224751;-75.1684702
X-APPLE-STRUCTURED-LOCATION;VALUE=URI;X-ADDRESS=Bucks County Horse Park 8934 Easton Rd Revere PA 018953 United States;X-APPLE-RADIUS=500;X-TITLE=8934 Easton Rd:geo:-75.1684702,40.5224751
END:VEVENT
BEGIN:VEVENT
DTSTART;TZID=America/New_York:20200711T080000
DTEND;TZID=America/New_York:20200711T170000
DTSTAMP:20260424T182226
CREATED:20200209T191049Z
LAST-MODIFIED:20200209T191049Z
UID:10000431-1594454400-1594486800@esdcta.org
SUMMARY:ESDCTA Cross Country Schooling
DESCRIPTION:Cross Country Schooling at the Horse Park of New Jersey
URL:https://esdcta.org/event/esdcta-cross-country-schooling-6/
LOCATION:Horse Park of New Jersey\, 626 Rte 524\, Allentown\, NJ\, 08501\, United States
CATEGORIES:Eventing
ATTACH;FMTTYPE=:
GEO:40.1905006;-74.4935697
X-APPLE-STRUCTURED-LOCATION;VALUE=URI;X-ADDRESS=Horse Park of New Jersey 626 Rte 524 Allentown NJ 08501 United States;X-APPLE-RADIUS=500;X-TITLE=626 Rte 524:geo:-74.4935697,40.1905006
END:VEVENT
BEGIN:VEVENT
DTSTART;TZID=America/New_York:20200711T080000
DTEND;TZID=America/New_York:20200711T170000
DTSTAMP:20260424T182226
CREATED:20200209T191041Z
LAST-MODIFIED:20200209T191041Z
UID:10000409-1594454400-1594486800@esdcta.org
SUMMARY:Bucks Co Horse Park
DESCRIPTION:USEF/USDF Dressage
URL:https://esdcta.org/event/bucks-co-horse-park-76/
LOCATION:Bucks County Horse Park\, 8934 Easton Rd\, Revere\, PA\, 018953\, United States
CATEGORIES:Dressage
ATTACH;FMTTYPE=:
GEO:40.5224751;-75.1684702
X-APPLE-STRUCTURED-LOCATION;VALUE=URI;X-ADDRESS=Bucks County Horse Park 8934 Easton Rd Revere PA 018953 United States;X-APPLE-RADIUS=500;X-TITLE=8934 Easton Rd:geo:-75.1684702,40.5224751
END:VEVENT
BEGIN:VEVENT
DTSTART;TZID=America/New_York:20200711T080000
DTEND;TZID=America/New_York:20200711T170000
DTSTAMP:20260424T182226
CREATED:20200202T192647Z
LAST-MODIFIED:20200202T192647Z
UID:10000386-1594454400-1594486800@esdcta.org
SUMMARY:Hidden Creek Eq. Ctr
DESCRIPTION:Dressage Schooling\, Combined Test
URL:https://esdcta.org/event/hidden-creek-eq-ctr-8/
LOCATION:Hidden Creek Equestrian Ctr\, Mountainview Drive\, Kunkletown\, PA\, 18058\, United States
CATEGORIES:Dressage,Eventing
ATTACH;FMTTYPE=:
GEO:40.896775;-75.470304
X-APPLE-STRUCTURED-LOCATION;VALUE=URI;X-ADDRESS=Hidden Creek Equestrian Ctr Mountainview Drive Kunkletown PA 18058 United States;X-APPLE-RADIUS=500;X-TITLE=Mountainview Drive:geo:-75.470304,40.896775
END:VEVENT
BEGIN:VEVENT
DTSTART;TZID=America/New_York:20200709T080000
DTEND;TZID=America/New_York:20200709T170000
DTSTAMP:20260424T182226
CREATED:20200209T191037Z
LAST-MODIFIED:20200209T191037Z
UID:10000402-1594281600-1594314000@esdcta.org
SUMMARY:Applewood Farm YEH\, FEH
DESCRIPTION:USEA Young Event Horse\, Future Event Horse Mini Event
URL:https://esdcta.org/event/applewood-farm-yeh-feh-4/
LOCATION:Applewood Farm\, 30 Fox Hill Road\, Califon\, NJ\, 07830\, United States
CATEGORIES:Eventing
ATTACH;FMTTYPE=:
GEO:40.704441;-74.764977
X-APPLE-STRUCTURED-LOCATION;VALUE=URI;X-ADDRESS=Applewood Farm 30 Fox Hill Road Califon NJ 07830 United States;X-APPLE-RADIUS=500;X-TITLE=30 Fox Hill Road:geo:-74.764977,40.704441
END:VEVENT
END:VCALENDAR