BEGIN:VCALENDAR
VERSION:2.0
PRODID:-//ESDCTA - ECPv6.15.20//NONSGML v1.0//EN
CALSCALE:GREGORIAN
METHOD:PUBLISH
X-ORIGINAL-URL:https://esdcta.org
X-WR-CALDESC:Events for ESDCTA
REFRESH-INTERVAL;VALUE=DURATION:PT1H
X-Robots-Tag:noindex
X-PUBLISHED-TTL:PT1H
BEGIN:VTIMEZONE
TZID:America/New_York
BEGIN:DAYLIGHT
TZOFFSETFROM:-0500
TZOFFSETTO:-0400
TZNAME:EDT
DTSTART:20190310T070000
END:DAYLIGHT
BEGIN:STANDARD
TZOFFSETFROM:-0400
TZOFFSETTO:-0500
TZNAME:EST
DTSTART:20191103T060000
END:STANDARD
BEGIN:DAYLIGHT
TZOFFSETFROM:-0500
TZOFFSETTO:-0400
TZNAME:EDT
DTSTART:20200308T070000
END:DAYLIGHT
BEGIN:STANDARD
TZOFFSETFROM:-0400
TZOFFSETTO:-0500
TZNAME:EST
DTSTART:20201101T060000
END:STANDARD
BEGIN:DAYLIGHT
TZOFFSETFROM:-0500
TZOFFSETTO:-0400
TZNAME:EDT
DTSTART:20210314T070000
END:DAYLIGHT
BEGIN:STANDARD
TZOFFSETFROM:-0400
TZOFFSETTO:-0500
TZNAME:EST
DTSTART:20211107T060000
END:STANDARD
END:VTIMEZONE
BEGIN:VEVENT
DTSTART;TZID=America/New_York:20200920T080000
DTEND;TZID=America/New_York:20200920T170000
DTSTAMP:20260424T154027
CREATED:20200315T190940Z
LAST-MODIFIED:20200315T190940Z
UID:10000473-1600588800-1600621200@esdcta.org
SUMMARY:Square One
DESCRIPTION:Dressage Schooling
URL:https://esdcta.org/event/square-one-16/
LOCATION:Square One\, 315 Mattison Reservoir Avenue\, Branchville\, NJ\, 07826\, United States
CATEGORIES:Dressage
ATTACH;FMTTYPE=:
GEO:41.200032;-74.680259
X-APPLE-STRUCTURED-LOCATION;VALUE=URI;X-ADDRESS=Square One 315 Mattison Reservoir Avenue Branchville NJ 07826 United States;X-APPLE-RADIUS=500;X-TITLE=315 Mattison Reservoir Avenue:geo:-74.680259,41.200032
END:VEVENT
BEGIN:VEVENT
DTSTART;TZID=America/New_York:20200920T080000
DTEND;TZID=America/New_York:20200920T170000
DTSTAMP:20260424T154027
CREATED:20200209T191052Z
LAST-MODIFIED:20200209T191052Z
UID:10000439-1600588800-1600621200@esdcta.org
SUMMARY:Schooling Fun Show at the Horse Park of NJ
DESCRIPTION:Dressage Schooling
URL:https://esdcta.org/event/schooling-fun-show-at-the-horse-park-of-nj-2/
LOCATION:Horse Park of New Jersey\, 626 Rte 524\, Allentown\, NJ\, 08501\, United States
CATEGORIES:Dressage
ATTACH;FMTTYPE=:
GEO:40.1905006;-74.4935697
X-APPLE-STRUCTURED-LOCATION;VALUE=URI;X-ADDRESS=Horse Park of New Jersey 626 Rte 524 Allentown NJ 08501 United States;X-APPLE-RADIUS=500;X-TITLE=626 Rte 524:geo:-74.4935697,40.1905006
END:VEVENT
BEGIN:VEVENT
DTSTART;TZID=America/New_York:20200916T080000
DTEND;TZID=America/New_York:20200916T170000
DTSTAMP:20260424T154027
CREATED:20200209T191037Z
LAST-MODIFIED:20200209T191037Z
UID:10000401-1600243200-1600275600@esdcta.org
SUMMARY:Applewood Farm
DESCRIPTION:Dressage\, Combined Test\, and Clear Round
URL:https://esdcta.org/event/applewood-farm-22/
LOCATION:Applewood Farm\, 30 Fox Hill Road\, Califon\, NJ\, 07830\, United States
CATEGORIES:Dressage,Eventing
ATTACH;FMTTYPE=:
GEO:40.704441;-74.764977
X-APPLE-STRUCTURED-LOCATION;VALUE=URI;X-ADDRESS=Applewood Farm 30 Fox Hill Road Califon NJ 07830 United States;X-APPLE-RADIUS=500;X-TITLE=30 Fox Hill Road:geo:-74.764977,40.704441
END:VEVENT
BEGIN:VEVENT
DTSTART;TZID=America/New_York:20200913T080000
DTEND;TZID=America/New_York:20200913T170000
DTSTAMP:20260424T154027
CREATED:20200209T191107Z
LAST-MODIFIED:20200209T191107Z
UID:10000462-1599984000-1600016400@esdcta.org
SUMMARY:Rhythm and Blues Eq. Ctr. (Pa)
DESCRIPTION:Dressage Schooling
URL:https://esdcta.org/event/rhythm-and-blues-eq-ctr-pa-13/
LOCATION:Rhythm & Blues Equestrian Center\, 2450 Steinsburg Rd\, Quakertown\, PA\, 18951\, United States
CATEGORIES:Dressage
ATTACH;FMTTYPE=:
GEO:40.4551978;-75.4324816
X-APPLE-STRUCTURED-LOCATION;VALUE=URI;X-ADDRESS=Rhythm & Blues Equestrian Center 2450 Steinsburg Rd Quakertown PA 18951 United States;X-APPLE-RADIUS=500;X-TITLE=2450 Steinsburg Rd:geo:-75.4324816,40.4551978
END:VEVENT
BEGIN:VEVENT
DTSTART;TZID=America/New_York:20200913T080000
DTEND;TZID=America/New_York:20200913T170000
DTSTAMP:20260424T154027
CREATED:20200209T191103Z
LAST-MODIFIED:20200209T191103Z
UID:10000459-1599984000-1600016400@esdcta.org
SUMMARY:Phoenix Eq. Ctr.
DESCRIPTION:Dressage\, Combined Test\, and Clear Round
URL:https://esdcta.org/event/phoenix-eq-ctr-13/
LOCATION:Phoenix Equestrian Center\, 39 Orts Rd\, Hamburg\, NJ\, 07419\, United States
CATEGORIES:Dressage,Eventing
ATTACH;FMTTYPE=:
END:VEVENT
BEGIN:VEVENT
DTSTART;TZID=America/New_York:20200912T080000
DTEND;TZID=America/New_York:20200912T170000
DTSTAMP:20260424T154027
CREATED:20200209T191059Z
LAST-MODIFIED:20200209T191059Z
UID:10000452-1599897600-1599930000@esdcta.org
SUMMARY:LVDA Schooling Show V and Champ
DESCRIPTION:Dressage Schooling
URL:https://esdcta.org/event/lvda-schooling-show-v-and-champ/
LOCATION:Bucks County Horse Park\, 8934 Easton Rd\, Revere\, PA\, 018953\, United States
CATEGORIES:Dressage
ATTACH;FMTTYPE=:
GEO:40.5224751;-75.1684702
X-APPLE-STRUCTURED-LOCATION;VALUE=URI;X-ADDRESS=Bucks County Horse Park 8934 Easton Rd Revere PA 018953 United States;X-APPLE-RADIUS=500;X-TITLE=8934 Easton Rd:geo:-75.1684702,40.5224751
END:VEVENT
BEGIN:VEVENT
DTSTART;TZID=America/New_York:20200912T080000
DTEND;TZID=America/New_York:20200912T170000
DTSTAMP:20260424T154027
CREATED:20200209T191053Z
LAST-MODIFIED:20200209T191053Z
UID:10000440-1599897600-1599930000@esdcta.org
SUMMARY:Good Times Farm III
DESCRIPTION:USDF Dressage Show
URL:https://esdcta.org/event/good-times-farm-iii-3/
LOCATION:Good Times Farm\, 278 Jackson Mills Road\, Freehold\, NJ\, 07728\, United States
CATEGORIES:Dressage
ATTACH;FMTTYPE=:
GEO:40.1868303;-74.2885136
X-APPLE-STRUCTURED-LOCATION;VALUE=URI;X-ADDRESS=Good Times Farm 278 Jackson Mills Road Freehold NJ 07728 United States;X-APPLE-RADIUS=500;X-TITLE=278 Jackson Mills Road:geo:-74.2885136,40.1868303
END:VEVENT
BEGIN:VEVENT
DTSTART;TZID=America/New_York:20200906T080000
DTEND;TZID=America/New_York:20200906T170000
DTSTAMP:20260424T154027
CREATED:20200209T191046Z
LAST-MODIFIED:20200209T191046Z
UID:10000423-1599379200-1599411600@esdcta.org
SUMMARY:Dressage at Stone Tavern II
DESCRIPTION:USEF/USDF Dressage
URL:https://esdcta.org/event/dressage-at-stone-tavern-ii-3/
LOCATION:Horse Park of New Jersey\, 626 Rte 524\, Allentown\, NJ\, 08501\, United States
CATEGORIES:Dressage
ATTACH;FMTTYPE=:
GEO:40.1905006;-74.4935697
X-APPLE-STRUCTURED-LOCATION;VALUE=URI;X-ADDRESS=Horse Park of New Jersey 626 Rte 524 Allentown NJ 08501 United States;X-APPLE-RADIUS=500;X-TITLE=626 Rte 524:geo:-74.4935697,40.1905006
END:VEVENT
BEGIN:VEVENT
DTSTART;TZID=America/New_York:20200906T080000
DTEND;TZID=America/New_York:20200906T170000
DTSTAMP:20260424T154027
CREATED:20200209T191044Z
LAST-MODIFIED:20200209T191044Z
UID:10000421-1599379200-1599411600@esdcta.org
SUMMARY:Bucks Co Horse Park HT
DESCRIPTION:USEA Horse Trials
URL:https://esdcta.org/event/bucks-co-horse-park-ht-21/
LOCATION:Bucks County Horse Park\, 8934 Easton Rd\, Revere\, PA\, 018953\, United States
ATTACH;FMTTYPE=:
GEO:40.5224751;-75.1684702
X-APPLE-STRUCTURED-LOCATION;VALUE=URI;X-ADDRESS=Bucks County Horse Park 8934 Easton Rd Revere PA 018953 United States;X-APPLE-RADIUS=500;X-TITLE=8934 Easton Rd:geo:-75.1684702,40.5224751
END:VEVENT
BEGIN:VEVENT
DTSTART;TZID=America/New_York:20200905T080000
DTEND;TZID=America/New_York:20200905T170000
DTSTAMP:20260424T154027
CREATED:20200209T191109Z
LAST-MODIFIED:20200209T191109Z
UID:10000465-1599292800-1599325200@esdcta.org
SUMMARY:Saddlebrook Ridge
DESCRIPTION:Dressage Schooling\, Western Dressage
URL:https://esdcta.org/event/saddlebrook-ridge-25/
LOCATION:Saddlebrook Ridge Equestrian Center\, 10 Saddlebrook Court\, Shamong\, NJ\, 08088\, United States
CATEGORIES:Dressage
ATTACH;FMTTYPE=:
GEO:39.8205251;-74.7828144
X-APPLE-STRUCTURED-LOCATION;VALUE=URI;X-ADDRESS=Saddlebrook Ridge Equestrian Center 10 Saddlebrook Court Shamong NJ 08088 United States;X-APPLE-RADIUS=500;X-TITLE=10 Saddlebrook Court:geo:-74.7828144,39.8205251
END:VEVENT
BEGIN:VEVENT
DTSTART;TZID=America/New_York:20200904T080000
DTEND;TZID=America/New_York:20200905T170000
DTSTAMP:20260424T154027
CREATED:20200209T191046Z
LAST-MODIFIED:20200209T191046Z
UID:10000422-1599206400-1599325200@esdcta.org
SUMMARY:Dressage at Stone Tavern I
DESCRIPTION:USEF/USDF Dressage
URL:https://esdcta.org/event/dressage-at-stone-tavern-i-3/
LOCATION:Horse Park of New Jersey\, 626 Rte 524\, Allentown\, NJ\, 08501\, United States
CATEGORIES:Dressage
ATTACH;FMTTYPE=:
GEO:40.1905006;-74.4935697
X-APPLE-STRUCTURED-LOCATION;VALUE=URI;X-ADDRESS=Horse Park of New Jersey 626 Rte 524 Allentown NJ 08501 United States;X-APPLE-RADIUS=500;X-TITLE=626 Rte 524:geo:-74.4935697,40.1905006
END:VEVENT
BEGIN:VEVENT
DTSTART;TZID=America/New_York:20200830T080000
DTEND;TZID=America/New_York:20200830T170000
DTSTAMP:20260424T154027
CREATED:20200209T191059Z
LAST-MODIFIED:20200209T191059Z
UID:10000450-1598774400-1598806800@esdcta.org
SUMMARY:LVDA Schooling Show I
DESCRIPTION:Dressage Schooling
URL:https://esdcta.org/event/lvda-schooling-show-i/
LOCATION:Thunderhead Farm\, 7813 Springhouse Rd\, New Tripoli\, PA\, 18066\, United States
CATEGORIES:Dressage
ATTACH;FMTTYPE=:
GEO:40.686243;-75.808524
X-APPLE-STRUCTURED-LOCATION;VALUE=URI;X-ADDRESS=Thunderhead Farm 7813 Springhouse Rd New Tripoli PA 18066 United States;X-APPLE-RADIUS=500;X-TITLE=7813 Springhouse Rd:geo:-75.808524,40.686243
END:VEVENT
BEGIN:VEVENT
DTSTART;TZID=America/New_York:20200829T080000
DTEND;TZID=America/New_York:20200829T170000
DTSTAMP:20260424T154027
CREATED:20200315T190939Z
LAST-MODIFIED:20200315T190939Z
UID:10000470-1598688000-1598720400@esdcta.org
SUMMARY:Skip Ahead Dressage
DESCRIPTION:Dressage Schooling
URL:https://esdcta.org/event/skip-ahead-dressage-9/
LOCATION:Skip Ahead Dressage\, 235 Braddock Mill Road\, Marlton\, NJ\, 08503\, United States
CATEGORIES:Dressage
ATTACH;FMTTYPE=:
GEO:39.8511;-74.9141
X-APPLE-STRUCTURED-LOCATION;VALUE=URI;X-ADDRESS=Skip Ahead Dressage 235 Braddock Mill Road Marlton NJ 08503 United States;X-APPLE-RADIUS=500;X-TITLE=235 Braddock Mill Road:geo:-74.9141,39.8511
END:VEVENT
BEGIN:VEVENT
DTSTART;TZID=America/New_York:20200829T080000
DTEND;TZID=America/New_York:20200829T170000
DTSTAMP:20260424T154027
CREATED:20200209T191101Z
LAST-MODIFIED:20200209T191101Z
UID:10000455-1598688000-1598720400@esdcta.org
SUMMARY:Orange Co. Dressage Assoc
DESCRIPTION:Dressage Schooling
URL:https://esdcta.org/event/orange-co-dressage-assoc-14/
LOCATION:Thomas Bull Memorial Park\, 211 NY 416\, Montgomery\, NY\, 12549\, United States
CATEGORIES:Dressage
ATTACH;FMTTYPE=:
GEO:41.479488;-74.272769
X-APPLE-STRUCTURED-LOCATION;VALUE=URI;X-ADDRESS=Thomas Bull Memorial Park 211 NY 416 Montgomery NY 12549 United States;X-APPLE-RADIUS=500;X-TITLE=211 NY 416:geo:-74.272769,41.479488
END:VEVENT
BEGIN:VEVENT
DTSTART;TZID=America/New_York:20200826T080000
DTEND;TZID=America/New_York:20200826T170000
DTSTAMP:20260424T154027
CREATED:20200315T190936Z
LAST-MODIFIED:20200315T190936Z
UID:10000468-1598428800-1598461200@esdcta.org
SUMMARY:Rhythm and Blues Eq. Ctr. (Pa)
DESCRIPTION:USEF/USDF Dressage
URL:https://esdcta.org/event/rhythm-and-blues-eq-ctr-pa-14/
LOCATION:Rhythm & Blues Equestrian Center\, 2450 Steinsburg Rd\, Quakertown\, PA\, 18951\, United States
CATEGORIES:Dressage
ATTACH;FMTTYPE=:
GEO:40.4551978;-75.4324816
X-APPLE-STRUCTURED-LOCATION;VALUE=URI;X-ADDRESS=Rhythm & Blues Equestrian Center 2450 Steinsburg Rd Quakertown PA 18951 United States;X-APPLE-RADIUS=500;X-TITLE=2450 Steinsburg Rd:geo:-75.4324816,40.4551978
END:VEVENT
BEGIN:VEVENT
DTSTART;TZID=America/New_York:20200825T080000
DTEND;TZID=America/New_York:20200825T170000
DTSTAMP:20260424T154027
CREATED:20200209T191043Z
LAST-MODIFIED:20200209T191043Z
UID:10000416-1598342400-1598374800@esdcta.org
SUMMARY:Bucks Co Horse Park
DESCRIPTION:Dressage Schooling\, Tues Eve
URL:https://esdcta.org/event/bucks-co-horse-park-83/
LOCATION:Bucks County Horse Park\, 8934 Easton Rd\, Revere\, PA\, 018953\, United States
CATEGORIES:Dressage
ATTACH;FMTTYPE=:
GEO:40.5224751;-75.1684702
X-APPLE-STRUCTURED-LOCATION;VALUE=URI;X-ADDRESS=Bucks County Horse Park 8934 Easton Rd Revere PA 018953 United States;X-APPLE-RADIUS=500;X-TITLE=8934 Easton Rd:geo:-75.1684702,40.5224751
END:VEVENT
BEGIN:VEVENT
DTSTART;TZID=America/New_York:20200823T080000
DTEND;TZID=America/New_York:20200823T170000
DTSTAMP:20260424T154027
CREATED:20200202T192647Z
LAST-MODIFIED:20200202T192647Z
UID:10000387-1598169600-1598202000@esdcta.org
SUMMARY:Hidden Creek Eq. Ctr
DESCRIPTION:Dressage Schooling \, Combined Test
URL:https://esdcta.org/event/hidden-creek-eq-ctr-9/
LOCATION:Hidden Creek Equestrian Ctr\, Mountainview Drive\, Kunkletown\, PA\, 18058\, United States
CATEGORIES:Dressage,Eventing
ATTACH;FMTTYPE=:
GEO:40.896775;-75.470304
X-APPLE-STRUCTURED-LOCATION;VALUE=URI;X-ADDRESS=Hidden Creek Equestrian Ctr Mountainview Drive Kunkletown PA 18058 United States;X-APPLE-RADIUS=500;X-TITLE=Mountainview Drive:geo:-75.470304,40.896775
END:VEVENT
BEGIN:VEVENT
DTSTART;TZID=America/New_York:20200819T080000
DTEND;TZID=America/New_York:20200819T170000
DTSTAMP:20260424T154027
CREATED:20200209T191037Z
LAST-MODIFIED:20200209T191037Z
UID:10000400-1597824000-1597856400@esdcta.org
SUMMARY:Applewood Farm
DESCRIPTION:Dressage\, Combined Test\, and Clear Round
URL:https://esdcta.org/event/applewood-farm-21/
LOCATION:Applewood Farm\, 30 Fox Hill Road\, Califon\, NJ\, 07830\, United States
CATEGORIES:Dressage,Eventing
ATTACH;FMTTYPE=:
GEO:40.704441;-74.764977
X-APPLE-STRUCTURED-LOCATION;VALUE=URI;X-ADDRESS=Applewood Farm 30 Fox Hill Road Califon NJ 07830 United States;X-APPLE-RADIUS=500;X-TITLE=30 Fox Hill Road:geo:-74.764977,40.704441
END:VEVENT
BEGIN:VEVENT
DTSTART;TZID=America/New_York:20200816T080000
DTEND;TZID=America/New_York:20200816T170000
DTSTAMP:20260424T154027
CREATED:20200315T190944Z
LAST-MODIFIED:20200315T190944Z
UID:10000478-1597564800-1597597200@esdcta.org
SUMMARY:Suddenly Farm
DESCRIPTION:Dressage Schooling
URL:https://esdcta.org/event/suddenly-farm-33/
LOCATION:Suddenly Farm\, 325 Main Street\, Lumberton\, NJ\, 08048\, United States
CATEGORIES:Dressage
GEO:39.9387;-74.8235
X-APPLE-STRUCTURED-LOCATION;VALUE=URI;X-ADDRESS=Suddenly Farm 325 Main Street Lumberton NJ 08048 United States;X-APPLE-RADIUS=500;X-TITLE=325 Main Street:geo:-74.8235,39.9387
END:VEVENT
BEGIN:VEVENT
DTSTART;TZID=America/New_York:20200816T080000
DTEND;TZID=America/New_York:20200816T170000
DTSTAMP:20260424T154027
CREATED:20200209T191103Z
LAST-MODIFIED:20200209T191103Z
UID:10000458-1597564800-1597597200@esdcta.org
SUMMARY:Phoenix Eq. Ctr.
DESCRIPTION:Dressage\, Combined Test\, and Clear Round
URL:https://esdcta.org/event/phoenix-eq-ctr-12/
LOCATION:Phoenix Equestrian Center\, 39 Orts Rd\, Hamburg\, NJ\, 07419\, United States
CATEGORIES:Dressage,Eventing
ATTACH;FMTTYPE=:
END:VEVENT
BEGIN:VEVENT
DTSTART;TZID=America/New_York:20200816T080000
DTEND;TZID=America/New_York:20200816T170000
DTSTAMP:20260424T154027
CREATED:20200209T191058Z
LAST-MODIFIED:20200209T191058Z
UID:10000448-1597564800-1597597200@esdcta.org
SUMMARY:LVDA
DESCRIPTION:USDF Dressage Show
URL:https://esdcta.org/event/lvda-16/
LOCATION:Bucks County Horse Park\, 8934 Easton Rd\, Revere\, PA\, 018953\, United States
CATEGORIES:Dressage
ATTACH;FMTTYPE=:
GEO:40.5224751;-75.1684702
X-APPLE-STRUCTURED-LOCATION;VALUE=URI;X-ADDRESS=Bucks County Horse Park 8934 Easton Rd Revere PA 018953 United States;X-APPLE-RADIUS=500;X-TITLE=8934 Easton Rd:geo:-75.1684702,40.5224751
END:VEVENT
BEGIN:VEVENT
DTSTART;TZID=America/New_York:20200816T080000
DTEND;TZID=America/New_York:20200816T170000
DTSTAMP:20260424T154027
CREATED:20200209T191049Z
LAST-MODIFIED:20200209T191049Z
UID:10000432-1597564800-1597597200@esdcta.org
SUMMARY:ESDCTA Cross Country Schooling
DESCRIPTION:Cross Country Schooling at the Horse Park of New Jersey
URL:https://esdcta.org/event/esdcta-cross-country-schooling-7/
LOCATION:Horse Park of New Jersey\, 626 Rte 524\, Allentown\, NJ\, 08501\, United States
CATEGORIES:Eventing
ATTACH;FMTTYPE=:
GEO:40.1905006;-74.4935697
X-APPLE-STRUCTURED-LOCATION;VALUE=URI;X-ADDRESS=Horse Park of New Jersey 626 Rte 524 Allentown NJ 08501 United States;X-APPLE-RADIUS=500;X-TITLE=626 Rte 524:geo:-74.4935697,40.1905006
END:VEVENT
BEGIN:VEVENT
DTSTART;TZID=America/New_York:20200811T080000
DTEND;TZID=America/New_York:20200811T170000
DTSTAMP:20260424T154027
CREATED:20200209T191043Z
LAST-MODIFIED:20200209T191043Z
UID:10000415-1597132800-1597165200@esdcta.org
SUMMARY:Bucks Co Horse Park
DESCRIPTION:Dressage Schooling\, Tues Eve
URL:https://esdcta.org/event/bucks-co-horse-park-82/
LOCATION:Bucks County Horse Park\, 8934 Easton Rd\, Revere\, PA\, 018953\, United States
CATEGORIES:Dressage
ATTACH;FMTTYPE=:
GEO:40.5224751;-75.1684702
X-APPLE-STRUCTURED-LOCATION;VALUE=URI;X-ADDRESS=Bucks County Horse Park 8934 Easton Rd Revere PA 018953 United States;X-APPLE-RADIUS=500;X-TITLE=8934 Easton Rd:geo:-75.1684702,40.5224751
END:VEVENT
BEGIN:VEVENT
DTSTART;TZID=America/New_York:20200809T080000
DTEND;TZID=America/New_York:20200809T170000
DTSTAMP:20260424T154027
CREATED:20200315T190940Z
LAST-MODIFIED:20200315T190940Z
UID:10000472-1596960000-1596992400@esdcta.org
SUMMARY:Square One
DESCRIPTION:Dressage Schooling
URL:https://esdcta.org/event/square-one-15/
LOCATION:Square One\, 315 Mattison Reservoir Avenue\, Branchville\, NJ\, 07826\, United States
CATEGORIES:Dressage
ATTACH;FMTTYPE=:
GEO:41.200032;-74.680259
X-APPLE-STRUCTURED-LOCATION;VALUE=URI;X-ADDRESS=Square One 315 Mattison Reservoir Avenue Branchville NJ 07826 United States;X-APPLE-RADIUS=500;X-TITLE=315 Mattison Reservoir Avenue:geo:-74.680259,41.200032
END:VEVENT
BEGIN:VEVENT
DTSTART;TZID=America/New_York:20200809T080000
DTEND;TZID=America/New_York:20200809T170000
DTSTAMP:20260424T154027
CREATED:20200209T191047Z
LAST-MODIFIED:20200209T191047Z
UID:10000427-1596960000-1596992400@esdcta.org
SUMMARY:Dressage Experience
DESCRIPTION:USEF/USDF Dressage Show
URL:https://esdcta.org/event/dressage-experience-18/
LOCATION:Horse Park of New Jersey\, 626 Rte 524\, Allentown\, NJ\, 08501\, United States
CATEGORIES:Dressage
ATTACH;FMTTYPE=:
GEO:40.1905006;-74.4935697
X-APPLE-STRUCTURED-LOCATION;VALUE=URI;X-ADDRESS=Horse Park of New Jersey 626 Rte 524 Allentown NJ 08501 United States;X-APPLE-RADIUS=500;X-TITLE=626 Rte 524:geo:-74.4935697,40.1905006
END:VEVENT
BEGIN:VEVENT
DTSTART;TZID=America/New_York:20200809T080000
DTEND;TZID=America/New_York:20200809T170000
DTSTAMP:20260424T154027
CREATED:20200209T191042Z
LAST-MODIFIED:20200209T191042Z
UID:10000414-1596960000-1596992400@esdcta.org
SUMMARY:Bucks Co Horse Park
DESCRIPTION:Dressage\, Clear Round\, and Combined Test
URL:https://esdcta.org/event/bucks-co-horse-park-81/
LOCATION:Bucks County Horse Park\, 8934 Easton Rd\, Revere\, PA\, 018953\, United States
CATEGORIES:Dressage,Eventing
ATTACH;FMTTYPE=:
GEO:40.5224751;-75.1684702
X-APPLE-STRUCTURED-LOCATION;VALUE=URI;X-ADDRESS=Bucks County Horse Park 8934 Easton Rd Revere PA 018953 United States;X-APPLE-RADIUS=500;X-TITLE=8934 Easton Rd:geo:-75.1684702,40.5224751
END:VEVENT
BEGIN:VEVENT
DTSTART;TZID=America/New_York:20200808T080000
DTEND;TZID=America/New_York:20200808T170000
DTSTAMP:20260424T154027
CREATED:20200209T191054Z
LAST-MODIFIED:20200209T191054Z
UID:10000442-1596873600-1596906000@esdcta.org
SUMMARY:Hearts Journey Stables
DESCRIPTION:Dressage Schooling \, Combined Test
URL:https://esdcta.org/event/hearts-journey-stables-17/
LOCATION:Hearts Journey Stables\, 425 Kromer Road\, Wind Gap\, PA\, 18091\, United States
CATEGORIES:Dressage,Eventing
ATTACH;FMTTYPE=:
GEO:40.8204999;-75.3000835
X-APPLE-STRUCTURED-LOCATION;VALUE=URI;X-ADDRESS=Hearts Journey Stables 425 Kromer Road Wind Gap PA 18091 United States;X-APPLE-RADIUS=500;X-TITLE=425 Kromer Road:geo:-75.3000835,40.8204999
END:VEVENT
BEGIN:VEVENT
DTSTART;TZID=America/New_York:20200808T080000
DTEND;TZID=America/New_York:20200808T170000
DTSTAMP:20260424T154027
CREATED:20200202T192652Z
LAST-MODIFIED:20200202T192652Z
UID:10000393-1596873600-1596906000@esdcta.org
SUMMARY:Bit O Woods Farm
DESCRIPTION:Dressage\, and Clear Round
URL:https://esdcta.org/event/bit-o-woods-farm-12/
LOCATION:Bit O Woods Farm\, 2207 Fostertown Road\, Hainesport\, NJ\, 08036\, United States
CATEGORIES:Dressage,Eventing
ATTACH;FMTTYPE=:
GEO:39.963529;-74.8435267
X-APPLE-STRUCTURED-LOCATION;VALUE=URI;X-ADDRESS=Bit O Woods Farm 2207 Fostertown Road Hainesport NJ 08036 United States;X-APPLE-RADIUS=500;X-TITLE=2207 Fostertown Road:geo:-74.8435267,39.963529
END:VEVENT
BEGIN:VEVENT
DTSTART;TZID=America/New_York:20200805T080000
DTEND;TZID=America/New_York:20200805T170000
DTSTAMP:20260424T154027
CREATED:20200202T192651Z
LAST-MODIFIED:20200202T192651Z
UID:10000389-1596614400-1596646800@esdcta.org
SUMMARY:Red Tail Farm Aug VI
DESCRIPTION:USDF Dressage Show
URL:https://esdcta.org/event/red-tail-farm-aug-vi-4/
LOCATION:Red Tail Farm\, 1100 Rattlesnake Bridge Rd\, Bedminster Township\, NJ\, 07921\, United States
CATEGORIES:Dressage
ATTACH;FMTTYPE=:
GEO:40.6437934;-74.7160768
X-APPLE-STRUCTURED-LOCATION;VALUE=URI;X-ADDRESS=Red Tail Farm 1100 Rattlesnake Bridge Rd Bedminster Township NJ 07921 United States;X-APPLE-RADIUS=500;X-TITLE=1100 Rattlesnake Bridge Rd:geo:-74.7160768,40.6437934
END:VEVENT
BEGIN:VEVENT
DTSTART;TZID=America/New_York:20200804T080000
DTEND;TZID=America/New_York:20200804T170000
DTSTAMP:20260424T154027
CREATED:20200202T192648Z
LAST-MODIFIED:20200202T192648Z
UID:10000388-1596528000-1596560400@esdcta.org
SUMMARY:Red Tail Farm Aug V
DESCRIPTION:USDF Dressage Show
URL:https://esdcta.org/event/red-tail-farm-aug-v-4/
LOCATION:Red Tail Farm\, 1100 Rattlesnake Bridge Rd\, Bedminster Township\, NJ\, 07921\, United States
CATEGORIES:Dressage
ATTACH;FMTTYPE=:
GEO:40.6437934;-74.7160768
X-APPLE-STRUCTURED-LOCATION;VALUE=URI;X-ADDRESS=Red Tail Farm 1100 Rattlesnake Bridge Rd Bedminster Township NJ 07921 United States;X-APPLE-RADIUS=500;X-TITLE=1100 Rattlesnake Bridge Rd:geo:-74.7160768,40.6437934
END:VEVENT
END:VCALENDAR