BEGIN:VCALENDAR
VERSION:2.0
PRODID:-//ESDCTA - ECPv6.15.20//NONSGML v1.0//EN
CALSCALE:GREGORIAN
METHOD:PUBLISH
X-WR-CALNAME:ESDCTA
X-ORIGINAL-URL:https://esdcta.org
X-WR-CALDESC:Events for ESDCTA
REFRESH-INTERVAL;VALUE=DURATION:PT1H
X-Robots-Tag:noindex
X-PUBLISHED-TTL:PT1H
BEGIN:VTIMEZONE
TZID:America/New_York
BEGIN:DAYLIGHT
TZOFFSETFROM:-0500
TZOFFSETTO:-0400
TZNAME:EDT
DTSTART:20200308T070000
END:DAYLIGHT
BEGIN:STANDARD
TZOFFSETFROM:-0400
TZOFFSETTO:-0500
TZNAME:EST
DTSTART:20201101T060000
END:STANDARD
BEGIN:DAYLIGHT
TZOFFSETFROM:-0500
TZOFFSETTO:-0400
TZNAME:EDT
DTSTART:20210314T070000
END:DAYLIGHT
BEGIN:STANDARD
TZOFFSETFROM:-0400
TZOFFSETTO:-0500
TZNAME:EST
DTSTART:20211107T060000
END:STANDARD
BEGIN:DAYLIGHT
TZOFFSETFROM:-0500
TZOFFSETTO:-0400
TZNAME:EDT
DTSTART:20220313T070000
END:DAYLIGHT
BEGIN:STANDARD
TZOFFSETFROM:-0400
TZOFFSETTO:-0500
TZNAME:EST
DTSTART:20221106T060000
END:STANDARD
END:VTIMEZONE
BEGIN:VEVENT
DTSTART;TZID=America/New_York:20210530T080000
DTEND;TZID=America/New_York:20210530T170000
DTSTAMP:20260424T081622
CREATED:20210213T154149Z
LAST-MODIFIED:20210213T154149Z
UID:10000595-1622361600-1622394000@esdcta.org
SUMMARY:ESDCTA Memorial W/E Dressage 2
DESCRIPTION:USEF/USDF Dressage
URL:https://esdcta.org/event/esdcta-memorial-w-e-dressage-2/
LOCATION:Horse Park of New Jersey\, 626 Rte 524\, Allentown\, NJ\, 08501\, United States
CATEGORIES:Dressage
ATTACH;FMTTYPE=:
GEO:40.1905006;-74.4935697
X-APPLE-STRUCTURED-LOCATION;VALUE=URI;X-ADDRESS=Horse Park of New Jersey 626 Rte 524 Allentown NJ 08501 United States;X-APPLE-RADIUS=500;X-TITLE=626 Rte 524:geo:-74.4935697,40.1905006
END:VEVENT
BEGIN:VEVENT
DTSTART;TZID=America/New_York:20210530T080000
DTEND;TZID=America/New_York:20210530T170000
DTSTAMP:20260424T081622
CREATED:20201207T024848Z
LAST-MODIFIED:20201207T024848Z
UID:10000511-1622361600-1622394000@esdcta.org
SUMMARY:LVDA Schooling Show Series
DESCRIPTION:Dressage Schooling
URL:https://esdcta.org/event/lvda-schooling-show-series-2/
LOCATION:Hearts Journey Stables\, 425 Kromer Road\, Wind Gap\, PA\, 18091\, United States
CATEGORIES:Dressage,Eventing
ATTACH;FMTTYPE=:
GEO:40.8204999;-75.3000835
X-APPLE-STRUCTURED-LOCATION;VALUE=URI;X-ADDRESS=Hearts Journey Stables 425 Kromer Road Wind Gap PA 18091 United States;X-APPLE-RADIUS=500;X-TITLE=425 Kromer Road:geo:-75.3000835,40.8204999
END:VEVENT
BEGIN:VEVENT
DTSTART;TZID=America/New_York:20210529T080000
DTEND;TZID=America/New_York:20210529T170000
DTSTAMP:20260424T081622
CREATED:20210213T154149Z
LAST-MODIFIED:20210213T154149Z
UID:10000594-1622275200-1622307600@esdcta.org
SUMMARY:ESDCTA Memorial W/E Dressage
DESCRIPTION:USEF/USDF Dressage
URL:https://esdcta.org/event/esdcta-memorial-w-e-dressage/
LOCATION:Horse Park of New Jersey\, 626 Rte 524\, Allentown\, NJ\, 08501\, United States
CATEGORIES:Dressage
ATTACH;FMTTYPE=:
GEO:40.1905006;-74.4935697
X-APPLE-STRUCTURED-LOCATION;VALUE=URI;X-ADDRESS=Horse Park of New Jersey 626 Rte 524 Allentown NJ 08501 United States;X-APPLE-RADIUS=500;X-TITLE=626 Rte 524:geo:-74.4935697,40.1905006
END:VEVENT
BEGIN:VEVENT
DTSTART;TZID=America/New_York:20210525T080000
DTEND;TZID=America/New_York:20210525T170000
DTSTAMP:20260424T081622
CREATED:20201207T024851Z
LAST-MODIFIED:20201207T024851Z
UID:10000524-1621929600-1621962000@esdcta.org
SUMMARY:Bucks Co Horse Park TEDS
DESCRIPTION:Dressage Schooling\, Tues Eve
URL:https://esdcta.org/event/bucks-co-horse-park-teds-4/
LOCATION:Bucks County Horse Park\, 8934 Easton Rd\, Revere\, PA\, 018953\, United States
CATEGORIES:Dressage
ATTACH;FMTTYPE=:
GEO:40.5224751;-75.1684702
X-APPLE-STRUCTURED-LOCATION;VALUE=URI;X-ADDRESS=Bucks County Horse Park 8934 Easton Rd Revere PA 018953 United States;X-APPLE-RADIUS=500;X-TITLE=8934 Easton Rd:geo:-75.1684702,40.5224751
END:VEVENT
BEGIN:VEVENT
DTSTART;TZID=America/New_York:20210523T080000
DTEND;TZID=America/New_York:20210523T170000
DTSTAMP:20260424T081622
CREATED:20201207T024853Z
LAST-MODIFIED:20201207T024853Z
UID:10000533-1621756800-1621789200@esdcta.org
SUMMARY:Phoenix Eq. Center
DESCRIPTION:Dressage\, Combined Test\, and Horse Trials
URL:https://esdcta.org/event/phoenix-eq-center-2/
LOCATION:Phoenix Equestrian Center\, 39 Orts Rd\, Hamburg\, NJ\, 07419\, United States
CATEGORIES:Dressage,Eventing
ATTACH;FMTTYPE=:
END:VEVENT
BEGIN:VEVENT
DTSTART;TZID=America/New_York:20210522T080000
DTEND;TZID=America/New_York:20210522T170000
DTSTAMP:20260424T081622
CREATED:20210302T163407Z
LAST-MODIFIED:20210302T163407Z
UID:10000601-1621670400-1621702800@esdcta.org
SUMMARY:Greendell Dressage
DESCRIPTION:Dressage Schooling
URL:https://esdcta.org/event/greendell-dressage-3/
LOCATION:New Jersey
CATEGORIES:Dressage
END:VEVENT
BEGIN:VEVENT
DTSTART;TZID=America/New_York:20210522T080000
DTEND;TZID=America/New_York:20210522T170000
DTSTAMP:20260424T081622
CREATED:20201207T024847Z
LAST-MODIFIED:20201207T024847Z
UID:10000506-1621670400-1621702800@esdcta.org
SUMMARY:LVDA & BCHP D4K Benefit
DESCRIPTION:Dressage Schooling
URL:https://esdcta.org/event/lvda-bchp-d4k-benefit-2/
LOCATION:Bucks County Horse Park\, 8934 Easton Rd\, Revere\, PA\, 018953\, United States
CATEGORIES:Dressage,Eventing
ATTACH;FMTTYPE=:
GEO:40.5224751;-75.1684702
X-APPLE-STRUCTURED-LOCATION;VALUE=URI;X-ADDRESS=Bucks County Horse Park 8934 Easton Rd Revere PA 018953 United States;X-APPLE-RADIUS=500;X-TITLE=8934 Easton Rd:geo:-75.1684702,40.5224751
END:VEVENT
BEGIN:VEVENT
DTSTART;TZID=America/New_York:20210519T080000
DTEND;TZID=America/New_York:20210519T170000
DTSTAMP:20260424T081622
CREATED:20210213T153943Z
LAST-MODIFIED:20210213T153943Z
UID:10000576-1621411200-1621443600@esdcta.org
SUMMARY:Applewood Farm
DESCRIPTION:Dressage\, Combined Test\, and Clear Round
URL:https://esdcta.org/event/applewood-farm-23/
LOCATION:Applewood Farm\, 30 Fox Hill Road\, Califon\, NJ\, 07830\, United States
CATEGORIES:Dressage,Eventing
ATTACH;FMTTYPE=:
GEO:40.704441;-74.764977
X-APPLE-STRUCTURED-LOCATION;VALUE=URI;X-ADDRESS=Applewood Farm 30 Fox Hill Road Califon NJ 07830 United States;X-APPLE-RADIUS=500;X-TITLE=30 Fox Hill Road:geo:-74.764977,40.704441
END:VEVENT
BEGIN:VEVENT
DTSTART;TZID=America/New_York:20210516T080000
DTEND;TZID=America/New_York:20210516T170000
DTSTAMP:20260424T081622
CREATED:20201207T024845Z
LAST-MODIFIED:20201207T024845Z
UID:10000497-1621152000-1621184400@esdcta.org
SUMMARY:Bucks Co Horse Park
DESCRIPTION:Schooling Horse Trials
URL:https://esdcta.org/event/bucks-co-horse-park-88/
LOCATION:Bucks County Horse Park\, 8934 Easton Rd\, Revere\, PA\, 018953\, United States
CATEGORIES:Dressage,Eventing
ATTACH;FMTTYPE=:
GEO:40.5224751;-75.1684702
X-APPLE-STRUCTURED-LOCATION;VALUE=URI;X-ADDRESS=Bucks County Horse Park 8934 Easton Rd Revere PA 018953 United States;X-APPLE-RADIUS=500;X-TITLE=8934 Easton Rd:geo:-75.1684702,40.5224751
END:VEVENT
BEGIN:VEVENT
DTSTART;TZID=America/New_York:20210515T080000
DTEND;TZID=America/New_York:20210515T170000
DTSTAMP:20260424T081622
CREATED:20210302T163507Z
LAST-MODIFIED:20210302T163507Z
UID:10000607-1621065600-1621098000@esdcta.org
SUMMARY:Red Tail Farm Schooling
DESCRIPTION:Dressage Schooling\, Combined Test
URL:https://esdcta.org/event/red-tail-farm-schooling/
LOCATION:Red Tail Farm\, 1100 Rattlesnake Bridge Rd\, Bedminster Township\, NJ\, 07921\, United States
CATEGORIES:Dressage,Eventing
ATTACH;FMTTYPE=:
GEO:40.6437934;-74.7160768
X-APPLE-STRUCTURED-LOCATION;VALUE=URI;X-ADDRESS=Red Tail Farm 1100 Rattlesnake Bridge Rd Bedminster Township NJ 07921 United States;X-APPLE-RADIUS=500;X-TITLE=1100 Rattlesnake Bridge Rd:geo:-74.7160768,40.6437934
END:VEVENT
BEGIN:VEVENT
DTSTART;TZID=America/New_York:20210515T080000
DTEND;TZID=America/New_York:20210515T170000
DTSTAMP:20260424T081622
CREATED:20201207T024849Z
LAST-MODIFIED:20201207T024849Z
UID:10000516-1621065600-1621098000@esdcta.org
SUMMARY:Skip Ahead Dressage
DESCRIPTION:Dressage Schooling
URL:https://esdcta.org/event/skip-ahead-dressage-11/
LOCATION:Skip Ahead Dressage\, 235 Braddock Mill Road\, Marlton\, NJ\, 08503\, United States
CATEGORIES:Dressage
ATTACH;FMTTYPE=:
GEO:39.8511;-74.9141
X-APPLE-STRUCTURED-LOCATION;VALUE=URI;X-ADDRESS=Skip Ahead Dressage 235 Braddock Mill Road Marlton NJ 08503 United States;X-APPLE-RADIUS=500;X-TITLE=235 Braddock Mill Road:geo:-74.9141,39.8511
END:VEVENT
BEGIN:VEVENT
DTSTART;TZID=America/New_York:20210511T080000
DTEND;TZID=America/New_York:20210511T170000
DTSTAMP:20260424T081622
CREATED:20201207T024851Z
LAST-MODIFIED:20201207T024851Z
UID:10000523-1620720000-1620752400@esdcta.org
SUMMARY:Bucks Co Horse Park TEDS
DESCRIPTION:Dressage Schooling\, Tues Eve
URL:https://esdcta.org/event/bucks-co-horse-park-teds-3/
LOCATION:Bucks County Horse Park\, 8934 Easton Rd\, Revere\, PA\, 018953\, United States
CATEGORIES:Dressage
ATTACH;FMTTYPE=:
GEO:40.5224751;-75.1684702
X-APPLE-STRUCTURED-LOCATION;VALUE=URI;X-ADDRESS=Bucks County Horse Park 8934 Easton Rd Revere PA 018953 United States;X-APPLE-RADIUS=500;X-TITLE=8934 Easton Rd:geo:-75.1684702,40.5224751
END:VEVENT
BEGIN:VEVENT
DTSTART;TZID=America/New_York:20210508T080000
DTEND;TZID=America/New_York:20210508T170000
DTSTAMP:20260424T081622
CREATED:20210206T190242Z
LAST-MODIFIED:20210206T190242Z
UID:10000566-1620460800-1620493200@esdcta.org
SUMMARY:Bucks Co Horse Park - Dressage at the Park I
DESCRIPTION:USEF/USDF Dressage
URL:https://esdcta.org/event/bucks-co-horse-park-dressage-at-the-park-i/
LOCATION:Bucks County Horse Park\, 8934 Easton Rd\, Revere\, PA\, 018953\, United States
CATEGORIES:Dressage
ATTACH;FMTTYPE=:
GEO:40.5224751;-75.1684702
X-APPLE-STRUCTURED-LOCATION;VALUE=URI;X-ADDRESS=Bucks County Horse Park 8934 Easton Rd Revere PA 018953 United States;X-APPLE-RADIUS=500;X-TITLE=8934 Easton Rd:geo:-75.1684702,40.5224751
END:VEVENT
BEGIN:VEVENT
DTSTART;TZID=America/New_York:20210508T080000
DTEND;TZID=America/New_York:20210508T170000
DTSTAMP:20260424T081622
CREATED:20201207T024855Z
LAST-MODIFIED:20201207T024855Z
UID:10000539-1620460800-1620493200@esdcta.org
SUMMARY:Saddlebrook Ridge
DESCRIPTION:Dressage & Western Dressage Schooling
URL:https://esdcta.org/event/saddlebrook-ridge-29/
LOCATION:Saddlebrook Ridge Equestrian Center\, 10 Saddlebrook Court\, Shamong\, NJ\, 08088\, United States
CATEGORIES:Dressage
ATTACH;FMTTYPE=:
GEO:39.8205251;-74.7828144
X-APPLE-STRUCTURED-LOCATION;VALUE=URI;X-ADDRESS=Saddlebrook Ridge Equestrian Center 10 Saddlebrook Court Shamong NJ 08088 United States;X-APPLE-RADIUS=500;X-TITLE=10 Saddlebrook Court:geo:-74.7828144,39.8205251
END:VEVENT
BEGIN:VEVENT
DTSTART;TZID=America/New_York:20210508T080000
DTEND;TZID=America/New_York:20210508T170000
DTSTAMP:20260424T081622
CREATED:20201207T024852Z
LAST-MODIFIED:20201207T024852Z
UID:10000529-1620460800-1620493200@esdcta.org
SUMMARY:Carousel Farm
DESCRIPTION:Dressage Schooling
URL:https://esdcta.org/event/carousel-farm-12/
LOCATION:Level Up Equestrian/Augusta Training Center\, 8 Linn Smith Road\, Augusta\, NJ\, 07822\, United States
CATEGORIES:Dressage
ATTACH;FMTTYPE=:
GEO:41.138794;-74.7039379
X-APPLE-STRUCTURED-LOCATION;VALUE=URI;X-ADDRESS=Level Up Equestrian/Augusta Training Center 8 Linn Smith Road Augusta NJ 07822 United States;X-APPLE-RADIUS=500;X-TITLE=8 Linn Smith Road:geo:-74.7039379,41.138794
END:VEVENT
BEGIN:VEVENT
DTSTART;TZID=America/New_York:20210502T080000
DTEND;TZID=America/New_York:20210502T170000
DTSTAMP:20260424T081622
CREATED:20210213T154049Z
LAST-MODIFIED:20210213T154049Z
UID:10000588-1619942400-1619974800@esdcta.org
SUMMARY:Windy Hollow Hunt Spring II
DESCRIPTION:USEF/USDF Dressage
URL:https://esdcta.org/event/windy-hollow-hunt-spring-ii/
LOCATION:Sussex County Fairgrounds\, 37 Plains Rd\, Augusta\, NJ\, 07822\, United States
CATEGORIES:Dressage
ATTACH;FMTTYPE=:
GEO:41.1362927;-74.7164249
X-APPLE-STRUCTURED-LOCATION;VALUE=URI;X-ADDRESS=Sussex County Fairgrounds 37 Plains Rd Augusta NJ 07822 United States;X-APPLE-RADIUS=500;X-TITLE=37 Plains Rd:geo:-74.7164249,41.1362927
END:VEVENT
BEGIN:VEVENT
DTSTART;TZID=America/New_York:20210501T080000
DTEND;TZID=America/New_York:20210501T170000
DTSTAMP:20260424T081622
CREATED:20210213T154048Z
LAST-MODIFIED:20210213T154048Z
UID:10000587-1619856000-1619888400@esdcta.org
SUMMARY:Windy Hollow Hunt Spring I
DESCRIPTION:USEF/USDF Dressage
URL:https://esdcta.org/event/windy-hollow-hunt-spring-i/
LOCATION:Sussex County Fairgrounds\, 37 Plains Rd\, Augusta\, NJ\, 07822\, United States
CATEGORIES:Dressage
ATTACH;FMTTYPE=:
GEO:41.1362927;-74.7164249
X-APPLE-STRUCTURED-LOCATION;VALUE=URI;X-ADDRESS=Sussex County Fairgrounds 37 Plains Rd Augusta NJ 07822 United States;X-APPLE-RADIUS=500;X-TITLE=37 Plains Rd:geo:-74.7164249,41.1362927
END:VEVENT
BEGIN:VEVENT
DTSTART;TZID=America/New_York:20210501T080000
DTEND;TZID=America/New_York:20210501T170000
DTSTAMP:20260424T081622
CREATED:20210213T153948Z
LAST-MODIFIED:20210213T153948Z
UID:10000582-1619856000-1619888400@esdcta.org
SUMMARY:SLM Dressage
DESCRIPTION:Dressage Schooling
URL:https://esdcta.org/event/slm-dressage/
LOCATION:New Jersey
CATEGORIES:Dressage
END:VEVENT
BEGIN:VEVENT
DTSTART;TZID=America/New_York:20210425T080000
DTEND;TZID=America/New_York:20210425T170000
DTSTAMP:20260424T081622
CREATED:20201207T024853Z
LAST-MODIFIED:20201207T024853Z
UID:10000532-1619337600-1619370000@esdcta.org
SUMMARY:Phoenix Eq. Center
DESCRIPTION:Dressage\, Combined Test\, and Horse Trials
URL:https://esdcta.org/event/phoenix-eq-center/
LOCATION:Phoenix Equestrian Center\, 39 Orts Rd\, Hamburg\, NJ\, 07419\, United States
CATEGORIES:Dressage,Eventing
ATTACH;FMTTYPE=:
END:VEVENT
BEGIN:VEVENT
DTSTART;TZID=America/New_York:20210425T080000
DTEND;TZID=America/New_York:20210425T170000
DTSTAMP:20260424T081622
CREATED:20201207T024848Z
LAST-MODIFIED:20201207T024848Z
UID:10000510-1619337600-1619370000@esdcta.org
SUMMARY:LVDA Schooling Show Series
DESCRIPTION:Dressage Schooling
URL:https://esdcta.org/event/lvda-schooling-show-series/
LOCATION:Thunderhead Farm\, 7813 Springhouse Rd\, New Tripoli\, PA\, 18066\, United States
CATEGORIES:Dressage
ATTACH;FMTTYPE=:
GEO:40.686243;-75.808524
X-APPLE-STRUCTURED-LOCATION;VALUE=URI;X-ADDRESS=Thunderhead Farm 7813 Springhouse Rd New Tripoli PA 18066 United States;X-APPLE-RADIUS=500;X-TITLE=7813 Springhouse Rd:geo:-75.808524,40.686243
END:VEVENT
BEGIN:VEVENT
DTSTART;TZID=America/New_York:20210425T080000
DTEND;TZID=America/New_York:20210425T170000
DTSTAMP:20260424T081622
CREATED:20201207T024845Z
LAST-MODIFIED:20201207T024845Z
UID:10000496-1619337600-1619370000@esdcta.org
SUMMARY:Bucks Co Horse Park
DESCRIPTION:Dressage\, Combined Test\, and Clear Round
URL:https://esdcta.org/event/bucks-co-horse-park-87/
LOCATION:Bucks County Horse Park\, 8934 Easton Rd\, Revere\, PA\, 018953\, United States
CATEGORIES:Dressage,Eventing
ATTACH;FMTTYPE=:
GEO:40.5224751;-75.1684702
X-APPLE-STRUCTURED-LOCATION;VALUE=URI;X-ADDRESS=Bucks County Horse Park 8934 Easton Rd Revere PA 018953 United States;X-APPLE-RADIUS=500;X-TITLE=8934 Easton Rd:geo:-75.1684702,40.5224751
END:VEVENT
BEGIN:VEVENT
DTSTART;TZID=America/New_York:20210424T080000
DTEND;TZID=America/New_York:20210424T170000
DTSTAMP:20260424T081622
CREATED:20210302T163407Z
LAST-MODIFIED:20210302T163407Z
UID:10000600-1619251200-1619283600@esdcta.org
SUMMARY:Greendell Dressage
DESCRIPTION:Dressage Schooling
URL:https://esdcta.org/event/greendell-dressage-2/
LOCATION:New Jersey
CATEGORIES:Dressage
END:VEVENT
BEGIN:VEVENT
DTSTART;TZID=America/New_York:20210424T080000
DTEND;TZID=America/New_York:20210424T170000
DTSTAMP:20260424T081622
CREATED:20201207T024857Z
LAST-MODIFIED:20201207T024857Z
UID:10000548-1619251200-1619283600@esdcta.org
SUMMARY:Suddenly Farm
DESCRIPTION:Dressage Schooling
URL:https://esdcta.org/event/suddenly-farm-36/
LOCATION:Suddenly Farm\, 325 Main Street\, Lumberton\, NJ\, 08048\, United States
CATEGORIES:Dressage
GEO:39.9387;-74.8235
X-APPLE-STRUCTURED-LOCATION;VALUE=URI;X-ADDRESS=Suddenly Farm 325 Main Street Lumberton NJ 08048 United States;X-APPLE-RADIUS=500;X-TITLE=325 Main Street:geo:-74.8235,39.9387
END:VEVENT
BEGIN:VEVENT
DTSTART;TZID=America/New_York:20210423T080000
DTEND;TZID=America/New_York:20210425T170000
DTSTAMP:20260424T081622
CREATED:20210410T130013Z
LAST-MODIFIED:20210410T130013Z
UID:10000627-1619164800-1619370000@esdcta.org
SUMMARY:Dressage Experience Spring Fling
DESCRIPTION:USEF/USDF Dressage
URL:https://esdcta.org/event/dressage-experience-spring-fling/
LOCATION:Horse Park of New Jersey\, 626 Rte 524\, Allentown\, NJ\, 08501\, United States
CATEGORIES:Dressage
GEO:40.1905006;-74.4935697
X-APPLE-STRUCTURED-LOCATION;VALUE=URI;X-ADDRESS=Horse Park of New Jersey 626 Rte 524 Allentown NJ 08501 United States;X-APPLE-RADIUS=500;X-TITLE=626 Rte 524:geo:-74.4935697,40.1905006
END:VEVENT
BEGIN:VEVENT
DTSTART;TZID=America/New_York:20210418T080000
DTEND;TZID=America/New_York:20210418T170000
DTSTAMP:20260424T081622
CREATED:20210321T025153Z
LAST-MODIFIED:20210321T025153Z
UID:10000626-1618732800-1618765200@esdcta.org
SUMMARY:Free Walk Dressage
DESCRIPTION:Dressage Schooling
URL:https://esdcta.org/event/free-walk-dressage-9/
LOCATION:Free Walk Dressage\, 2522 Route 207\, Campbell Hall\, NY\, 10916\, United States
CATEGORIES:Dressage
ATTACH;FMTTYPE=:
GEO:41.457415;-74.218818
X-APPLE-STRUCTURED-LOCATION;VALUE=URI;X-ADDRESS=Free Walk Dressage 2522 Route 207 Campbell Hall NY 10916 United States;X-APPLE-RADIUS=500;X-TITLE=2522 Route 207:geo:-74.218818,41.457415
END:VEVENT
BEGIN:VEVENT
DTSTART;TZID=America/New_York:20210418T080000
DTEND;TZID=America/New_York:20210418T170000
DTSTAMP:20260424T081622
CREATED:20201207T024842Z
LAST-MODIFIED:20201207T024842Z
UID:10000490-1618732800-1618765200@esdcta.org
SUMMARY:Jersey Palms
DESCRIPTION:Dressage Schooling
URL:https://esdcta.org/event/jersey-palms-13/
LOCATION:Jersey Palms Farm\, 177 S. Stump Tavern Road\, Jackson\, NJ\, 08527\, United States
CATEGORIES:Dressage
ATTACH;FMTTYPE=:
GEO:40.0900691;-74.4057337
X-APPLE-STRUCTURED-LOCATION;VALUE=URI;X-ADDRESS=Jersey Palms Farm 177 S. Stump Tavern Road Jackson NJ 08527 United States;X-APPLE-RADIUS=500;X-TITLE=177 S. Stump Tavern Road:geo:-74.4057337,40.0900691
END:VEVENT
BEGIN:VEVENT
DTSTART;TZID=America/New_York:20210411T080000
DTEND;TZID=America/New_York:20210411T170000
DTSTAMP:20260424T081622
CREATED:20210206T190242Z
LAST-MODIFIED:20210206T190242Z
UID:10000563-1618128000-1618160400@esdcta.org
SUMMARY:NJ Region Pony Club
DESCRIPTION:Dressage Schooling
URL:https://esdcta.org/event/nj-region-pony-club-8/
LOCATION:US Equestrian Team Headquarters\, 1040 Pottersville Road\, Gladstone\, NJ\, 07934-2053\, United States
CATEGORIES:Dressage
ATTACH;FMTTYPE=:
GEO:40.71896;-74.6873304
X-APPLE-STRUCTURED-LOCATION;VALUE=URI;X-ADDRESS=US Equestrian Team Headquarters 1040 Pottersville Road Gladstone NJ 07934-2053 United States;X-APPLE-RADIUS=500;X-TITLE=1040 Pottersville Road:geo:-74.6873304,40.71896
END:VEVENT
BEGIN:VEVENT
DTSTART;TZID=America/New_York:20210410T080000
DTEND;TZID=America/New_York:20210410T170000
DTSTAMP:20260424T081622
CREATED:20210206T202335Z
LAST-MODIFIED:20210206T202335Z
UID:10000567-1618041600-1618074000@esdcta.org
SUMMARY:Bucks Co Horse Park - Dressage Schooling
DESCRIPTION:Dressage Schooling
URL:https://esdcta.org/event/bucks-co-horse-park-dressage-schooling/
LOCATION:Bucks County Horse Park\, 8934 Easton Rd\, Revere\, PA\, 018953\, United States
CATEGORIES:Dressage
ATTACH;FMTTYPE=:
GEO:40.5224751;-75.1684702
X-APPLE-STRUCTURED-LOCATION;VALUE=URI;X-ADDRESS=Bucks County Horse Park 8934 Easton Rd Revere PA 018953 United States;X-APPLE-RADIUS=500;X-TITLE=8934 Easton Rd:geo:-75.1684702,40.5224751
END:VEVENT
BEGIN:VEVENT
DTSTART;TZID=America/New_York:20210327T080000
DTEND;TZID=America/New_York:20210327T170000
DTSTAMP:20260424T081622
CREATED:20201207T024850Z
LAST-MODIFIED:20201207T024850Z
UID:10000522-1616832000-1616864400@esdcta.org
SUMMARY:Alexandria Eq. Assoc.
DESCRIPTION:Dressage Schooling
URL:https://esdcta.org/event/alexandria-eq-assoc-20/
LOCATION:Alexandria Park\, 242 Little York-Mt. Pleasant Road\, Milford\, NJ\, 08848\, United States
CATEGORIES:Dressage
ATTACH;FMTTYPE=:
GEO:40.5877982;-75.0565806
X-APPLE-STRUCTURED-LOCATION;VALUE=URI;X-ADDRESS=Alexandria Park 242 Little York-Mt. Pleasant Road Milford NJ 08848 United States;X-APPLE-RADIUS=500;X-TITLE=242 Little York-Mt. Pleasant Road:geo:-75.0565806,40.5877982
END:VEVENT
BEGIN:VEVENT
DTSTART;TZID=America/New_York:20210321T080000
DTEND;TZID=America/New_York:20210321T170000
DTSTAMP:20260424T081622
CREATED:20201207T024845Z
LAST-MODIFIED:20201207T024845Z
UID:10000495-1616313600-1616346000@esdcta.org
SUMMARY:Horse Park of NJ Winter Series
DESCRIPTION:Dressage Schooling
URL:https://esdcta.org/event/horse-park-of-nj-winter-series-3/
LOCATION:Horse Park of New Jersey\, 626 Rte 524\, Allentown\, NJ\, 08501\, United States
CATEGORIES:Dressage
ATTACH;FMTTYPE=:
GEO:40.1905006;-74.4935697
X-APPLE-STRUCTURED-LOCATION;VALUE=URI;X-ADDRESS=Horse Park of New Jersey 626 Rte 524 Allentown NJ 08501 United States;X-APPLE-RADIUS=500;X-TITLE=626 Rte 524:geo:-74.4935697,40.1905006
END:VEVENT
END:VCALENDAR