BEGIN:VCALENDAR
VERSION:2.0
PRODID:-//ESDCTA - ECPv6.15.20//NONSGML v1.0//EN
CALSCALE:GREGORIAN
METHOD:PUBLISH
X-WR-CALNAME:ESDCTA
X-ORIGINAL-URL:https://esdcta.org
X-WR-CALDESC:Events for ESDCTA
REFRESH-INTERVAL;VALUE=DURATION:PT1H
X-Robots-Tag:noindex
X-PUBLISHED-TTL:PT1H
BEGIN:VTIMEZONE
TZID:America/New_York
BEGIN:DAYLIGHT
TZOFFSETFROM:-0500
TZOFFSETTO:-0400
TZNAME:EDT
DTSTART:20200308T070000
END:DAYLIGHT
BEGIN:STANDARD
TZOFFSETFROM:-0400
TZOFFSETTO:-0500
TZNAME:EST
DTSTART:20201101T060000
END:STANDARD
BEGIN:DAYLIGHT
TZOFFSETFROM:-0500
TZOFFSETTO:-0400
TZNAME:EDT
DTSTART:20210314T070000
END:DAYLIGHT
BEGIN:STANDARD
TZOFFSETFROM:-0400
TZOFFSETTO:-0500
TZNAME:EST
DTSTART:20211107T060000
END:STANDARD
BEGIN:DAYLIGHT
TZOFFSETFROM:-0500
TZOFFSETTO:-0400
TZNAME:EDT
DTSTART:20220313T070000
END:DAYLIGHT
BEGIN:STANDARD
TZOFFSETFROM:-0400
TZOFFSETTO:-0500
TZNAME:EST
DTSTART:20221106T060000
END:STANDARD
END:VTIMEZONE
BEGIN:VEVENT
DTSTART;TZID=America/New_York:20210811T080000
DTEND;TZID=America/New_York:20210811T170000
DTSTAMP:20260424T004422
CREATED:20210213T153944Z
LAST-MODIFIED:20210213T153944Z
UID:10000579-1628668800-1628701200@esdcta.org
SUMMARY:Applewood Farm
DESCRIPTION:Dressage\, Combined Test\, and Clear Round
URL:https://esdcta.org/event/applewood-farm-26/
LOCATION:Applewood Farm\, 30 Fox Hill Road\, Califon\, NJ\, 07830\, United States
CATEGORIES:Dressage,Eventing
ATTACH;FMTTYPE=:
GEO:40.704441;-74.764977
X-APPLE-STRUCTURED-LOCATION;VALUE=URI;X-ADDRESS=Applewood Farm 30 Fox Hill Road Califon NJ 07830 United States;X-APPLE-RADIUS=500;X-TITLE=30 Fox Hill Road:geo:-74.764977,40.704441
END:VEVENT
BEGIN:VEVENT
DTSTART;TZID=America/New_York:20210810T080000
DTEND;TZID=America/New_York:20210810T170000
DTSTAMP:20260424T004422
CREATED:20210302T163709Z
LAST-MODIFIED:20210302T163709Z
UID:10000613-1628582400-1628614800@esdcta.org
SUMMARY:Red Tail Farm Aug II
DESCRIPTION:USEF/USDF Dressage
URL:https://esdcta.org/event/red-tail-farm-aug-ii/
LOCATION:Red Tail Farm\, 1100 Rattlesnake Bridge Rd\, Bedminster Township\, NJ\, 07921\, United States
CATEGORIES:Dressage
ATTACH;FMTTYPE=:
GEO:40.6437934;-74.7160768
X-APPLE-STRUCTURED-LOCATION;VALUE=URI;X-ADDRESS=Red Tail Farm 1100 Rattlesnake Bridge Rd Bedminster Township NJ 07921 United States;X-APPLE-RADIUS=500;X-TITLE=1100 Rattlesnake Bridge Rd:geo:-74.7160768,40.6437934
END:VEVENT
BEGIN:VEVENT
DTSTART;TZID=America/New_York:20210809T080000
DTEND;TZID=America/New_York:20210809T170000
DTSTAMP:20260424T004422
CREATED:20210302T163608Z
LAST-MODIFIED:20210302T163608Z
UID:10000612-1628496000-1628528400@esdcta.org
SUMMARY:Red Tail Farm Aug I
DESCRIPTION:USEF/USDF Dressage
URL:https://esdcta.org/event/red-tail-farm-aug-i/
LOCATION:Red Tail Farm\, 1100 Rattlesnake Bridge Rd\, Bedminster Township\, NJ\, 07921\, United States
CATEGORIES:Dressage
ATTACH;FMTTYPE=:
GEO:40.6437934;-74.7160768
X-APPLE-STRUCTURED-LOCATION;VALUE=URI;X-ADDRESS=Red Tail Farm 1100 Rattlesnake Bridge Rd Bedminster Township NJ 07921 United States;X-APPLE-RADIUS=500;X-TITLE=1100 Rattlesnake Bridge Rd:geo:-74.7160768,40.6437934
END:VEVENT
BEGIN:VEVENT
DTSTART;TZID=America/New_York:20210808T080000
DTEND;TZID=America/New_York:20210808T170000
DTSTAMP:20260424T004422
CREATED:20210206T202337Z
LAST-MODIFIED:20210206T202337Z
UID:10000572-1628409600-1628442000@esdcta.org
SUMMARY:Square One
DESCRIPTION:Dressage Schooling
URL:https://esdcta.org/event/square-one-19/
LOCATION:Square One\, 315 Mattison Reservoir Avenue\, Branchville\, NJ\, 07826\, United States
CATEGORIES:Dressage
ATTACH;FMTTYPE=:
GEO:41.200032;-74.680259
X-APPLE-STRUCTURED-LOCATION;VALUE=URI;X-ADDRESS=Square One 315 Mattison Reservoir Avenue Branchville NJ 07826 United States;X-APPLE-RADIUS=500;X-TITLE=315 Mattison Reservoir Avenue:geo:-74.680259,41.200032
END:VEVENT
BEGIN:VEVENT
DTSTART;TZID=America/New_York:20210808T080000
DTEND;TZID=America/New_York:20210808T170000
DTSTAMP:20260424T004422
CREATED:20210206T202335Z
LAST-MODIFIED:20210206T202335Z
UID:10000571-1628409600-1628442000@esdcta.org
SUMMARY:Bucks Co Horse Park - Dressage at the Park IV
DESCRIPTION:USEF/USDF Dressage
URL:https://esdcta.org/event/bucks-co-horse-park-dressage-at-the-park-iv/
LOCATION:Bucks County Horse Park\, 8934 Easton Rd\, Revere\, PA\, 018953\, United States
CATEGORIES:Dressage
ATTACH;FMTTYPE=:
GEO:40.5224751;-75.1684702
X-APPLE-STRUCTURED-LOCATION;VALUE=URI;X-ADDRESS=Bucks County Horse Park 8934 Easton Rd Revere PA 018953 United States;X-APPLE-RADIUS=500;X-TITLE=8934 Easton Rd:geo:-75.1684702,40.5224751
END:VEVENT
BEGIN:VEVENT
DTSTART;TZID=America/New_York:20210807T080000
DTEND;TZID=America/New_York:20210807T170000
DTSTAMP:20260424T004422
CREATED:20210206T190237Z
LAST-MODIFIED:20210206T190237Z
UID:10000560-1628323200-1628355600@esdcta.org
SUMMARY:Bit O Woods Farm
DESCRIPTION:Dressage and Clear Round
URL:https://esdcta.org/event/bit-o-woods-farm-16/
LOCATION:Bit O Woods Farm\, 2207 Fostertown Road\, Hainesport\, NJ\, 08036\, United States
CATEGORIES:Dressage,Eventing
ATTACH;FMTTYPE=:
GEO:39.963529;-74.8435267
X-APPLE-STRUCTURED-LOCATION;VALUE=URI;X-ADDRESS=Bit O Woods Farm 2207 Fostertown Road Hainesport NJ 08036 United States;X-APPLE-RADIUS=500;X-TITLE=2207 Fostertown Road:geo:-74.8435267,39.963529
END:VEVENT
BEGIN:VEVENT
DTSTART;TZID=America/New_York:20210807T080000
DTEND;TZID=America/New_York:20210807T170000
DTSTAMP:20260424T004422
CREATED:20201207T024856Z
LAST-MODIFIED:20201207T024856Z
UID:10000545-1628323200-1628355600@esdcta.org
SUMMARY:Hearts Journey Stables
DESCRIPTION:Dressage Schooling \, Combined Test
URL:https://esdcta.org/event/hearts-journey-stables-19/
LOCATION:Hearts Journey Stables\, 425 Kromer Road\, Wind Gap\, PA\, 18091\, United States
CATEGORIES:Dressage,Eventing
ATTACH;FMTTYPE=:
GEO:40.8204999;-75.3000835
X-APPLE-STRUCTURED-LOCATION;VALUE=URI;X-ADDRESS=Hearts Journey Stables 425 Kromer Road Wind Gap PA 18091 United States;X-APPLE-RADIUS=500;X-TITLE=425 Kromer Road:geo:-75.3000835,40.8204999
END:VEVENT
BEGIN:VEVENT
DTSTART;TZID=America/New_York:20210803T080000
DTEND;TZID=America/New_York:20210803T170000
DTSTAMP:20260424T004422
CREATED:20201207T024847Z
LAST-MODIFIED:20201207T024847Z
UID:10000504-1627977600-1628010000@esdcta.org
SUMMARY:Bucks Co Horse Park TEDS
DESCRIPTION:Dressage Schooling\, Tues Eve
URL:https://esdcta.org/event/bucks-co-horse-park-teds/
LOCATION:Bucks County Horse Park\, 8934 Easton Rd\, Revere\, PA\, 018953\, United States
CATEGORIES:Dressage
ATTACH;FMTTYPE=:
GEO:40.5224751;-75.1684702
X-APPLE-STRUCTURED-LOCATION;VALUE=URI;X-ADDRESS=Bucks County Horse Park 8934 Easton Rd Revere PA 018953 United States;X-APPLE-RADIUS=500;X-TITLE=8934 Easton Rd:geo:-75.1684702,40.5224751
END:VEVENT
BEGIN:VEVENT
DTSTART;TZID=America/New_York:20210801T080000
DTEND;TZID=America/New_York:20210801T170000
DTSTAMP:20260424T004422
CREATED:20201207T024846Z
LAST-MODIFIED:20201207T024846Z
UID:10000499-1627804800-1627837200@esdcta.org
SUMMARY:Bucks Co Horse Park
DESCRIPTION:Dressage\, Combined Test\, and Clear Round
URL:https://esdcta.org/event/bucks-co-horse-park-90/
LOCATION:Bucks County Horse Park\, 8934 Easton Rd\, Revere\, PA\, 018953\, United States
CATEGORIES:Dressage,Eventing
ATTACH;FMTTYPE=:
GEO:40.5224751;-75.1684702
X-APPLE-STRUCTURED-LOCATION;VALUE=URI;X-ADDRESS=Bucks County Horse Park 8934 Easton Rd Revere PA 018953 United States;X-APPLE-RADIUS=500;X-TITLE=8934 Easton Rd:geo:-75.1684702,40.5224751
END:VEVENT
BEGIN:VEVENT
DTSTART;TZID=America/New_York:20210725T080000
DTEND;TZID=America/New_York:20210725T170000
DTSTAMP:20260424T004422
CREATED:20210213T154148Z
LAST-MODIFIED:20210213T154148Z
UID:10000592-1627200000-1627232400@esdcta.org
SUMMARY:WHH Sussex County Dressage II
DESCRIPTION:USEF/USDF Dressage
URL:https://esdcta.org/event/whh-sussex-county-dressage-ii/
LOCATION:Sussex County Fairgrounds\, 37 Plains Rd\, Augusta\, NJ\, 07822\, United States
CATEGORIES:Dressage
ATTACH;FMTTYPE=:
GEO:41.1362927;-74.7164249
X-APPLE-STRUCTURED-LOCATION;VALUE=URI;X-ADDRESS=Sussex County Fairgrounds 37 Plains Rd Augusta NJ 07822 United States;X-APPLE-RADIUS=500;X-TITLE=37 Plains Rd:geo:-74.7164249,41.1362927
END:VEVENT
BEGIN:VEVENT
DTSTART;TZID=America/New_York:20210725T080000
DTEND;TZID=America/New_York:20210725T170000
DTSTAMP:20260424T004422
CREATED:20201207T024848Z
LAST-MODIFIED:20201207T024848Z
UID:10000513-1627200000-1627232400@esdcta.org
SUMMARY:LVDA Schooling Show Series
DESCRIPTION:Dressage Schooling
URL:https://esdcta.org/event/lvda-schooling-show-series-4/
LOCATION:Hidden Creek Equestrian Ctr\, Mountainview Drive\, Kunkletown\, PA\, 18058\, United States
CATEGORIES:Dressage
ATTACH;FMTTYPE=:
GEO:40.896775;-75.470304
X-APPLE-STRUCTURED-LOCATION;VALUE=URI;X-ADDRESS=Hidden Creek Equestrian Ctr Mountainview Drive Kunkletown PA 18058 United States;X-APPLE-RADIUS=500;X-TITLE=Mountainview Drive:geo:-75.470304,40.896775
END:VEVENT
BEGIN:VEVENT
DTSTART;TZID=America/New_York:20210723T080000
DTEND;TZID=America/New_York:20210725T170000
DTSTAMP:20260424T004422
CREATED:20201207T024857Z
LAST-MODIFIED:20201207T024857Z
UID:10000547-1627027200-1627232400@esdcta.org
SUMMARY:Horse Park of NJ HT II
DESCRIPTION:USEA Horse Trials
URL:https://esdcta.org/event/horse-park-of-nj-ht-ii/
LOCATION:Horse Park of New Jersey\, 626 Rte 524\, Allentown\, NJ\, 08501\, United States
CATEGORIES:Eventing
ATTACH;FMTTYPE=:
GEO:40.1905006;-74.4935697
X-APPLE-STRUCTURED-LOCATION;VALUE=URI;X-ADDRESS=Horse Park of New Jersey 626 Rte 524 Allentown NJ 08501 United States;X-APPLE-RADIUS=500;X-TITLE=626 Rte 524:geo:-74.4935697,40.1905006
END:VEVENT
BEGIN:VEVENT
DTSTART;TZID=America/New_York:20210723T080000
DTEND;TZID=America/New_York:20210724T170000
DTSTAMP:20260424T004422
CREATED:20210213T154148Z
LAST-MODIFIED:20210213T154148Z
UID:10000591-1627027200-1627146000@esdcta.org
SUMMARY:WHH Sussex County Dressage I
DESCRIPTION:USEF/USDF Dressage
URL:https://esdcta.org/event/whh-sussex-county-dressage-i/
LOCATION:Sussex County Fairgrounds\, 37 Plains Rd\, Augusta\, NJ\, 07822\, United States
CATEGORIES:Dressage
ATTACH;FMTTYPE=:
GEO:41.1362927;-74.7164249
X-APPLE-STRUCTURED-LOCATION;VALUE=URI;X-ADDRESS=Sussex County Fairgrounds 37 Plains Rd Augusta NJ 07822 United States;X-APPLE-RADIUS=500;X-TITLE=37 Plains Rd:geo:-74.7164249,41.1362927
END:VEVENT
BEGIN:VEVENT
DTSTART;TZID=America/New_York:20210721T080000
DTEND;TZID=America/New_York:20210721T170000
DTSTAMP:20260424T004422
CREATED:20210302T163608Z
LAST-MODIFIED:20210302T163608Z
UID:10000611-1626854400-1626886800@esdcta.org
SUMMARY:Red Tail Farm July II
DESCRIPTION:USEF/USDF Dressage
URL:https://esdcta.org/event/red-tail-farm-july-ii/
LOCATION:Red Tail Farm\, 1100 Rattlesnake Bridge Rd\, Bedminster Township\, NJ\, 07921\, United States
CATEGORIES:Dressage
ATTACH;FMTTYPE=:
GEO:40.6437934;-74.7160768
X-APPLE-STRUCTURED-LOCATION;VALUE=URI;X-ADDRESS=Red Tail Farm 1100 Rattlesnake Bridge Rd Bedminster Township NJ 07921 United States;X-APPLE-RADIUS=500;X-TITLE=1100 Rattlesnake Bridge Rd:geo:-74.7160768,40.6437934
END:VEVENT
BEGIN:VEVENT
DTSTART;TZID=America/New_York:20210720T080000
DTEND;TZID=America/New_York:20210720T170000
DTSTAMP:20260424T004422
CREATED:20210302T163608Z
LAST-MODIFIED:20210302T163608Z
UID:10000610-1626768000-1626800400@esdcta.org
SUMMARY:Red Tail Farm July I
DESCRIPTION:USEF/USDF Dressage
URL:https://esdcta.org/event/red-tail-farm-july-i/
LOCATION:Red Tail Farm\, 1100 Rattlesnake Bridge Rd\, Bedminster Township\, NJ\, 07921\, United States
CATEGORIES:Dressage
ATTACH;FMTTYPE=:
GEO:40.6437934;-74.7160768
X-APPLE-STRUCTURED-LOCATION;VALUE=URI;X-ADDRESS=Red Tail Farm 1100 Rattlesnake Bridge Rd Bedminster Township NJ 07921 United States;X-APPLE-RADIUS=500;X-TITLE=1100 Rattlesnake Bridge Rd:geo:-74.7160768,40.6437934
END:VEVENT
BEGIN:VEVENT
DTSTART;TZID=America/New_York:20210720T080000
DTEND;TZID=America/New_York:20210720T170000
DTSTAMP:20260424T004422
CREATED:20201207T024852Z
LAST-MODIFIED:20201207T024852Z
UID:10000528-1626768000-1626800400@esdcta.org
SUMMARY:Bucks Co Horse Park TEDS
DESCRIPTION:Dressage Schooling\, Tues Eve
URL:https://esdcta.org/event/bucks-co-horse-park-teds-8/
LOCATION:Bucks County Horse Park\, 8934 Easton Rd\, Revere\, PA\, 018953\, United States
CATEGORIES:Dressage
ATTACH;FMTTYPE=:
GEO:40.5224751;-75.1684702
X-APPLE-STRUCTURED-LOCATION;VALUE=URI;X-ADDRESS=Bucks County Horse Park 8934 Easton Rd Revere PA 018953 United States;X-APPLE-RADIUS=500;X-TITLE=8934 Easton Rd:geo:-75.1684702,40.5224751
END:VEVENT
BEGIN:VEVENT
DTSTART;TZID=America/New_York:20210718T080000
DTEND;TZID=America/New_York:20210718T170000
DTSTAMP:20260424T004422
CREATED:20201207T024858Z
LAST-MODIFIED:20201207T024858Z
UID:10000550-1626595200-1626627600@esdcta.org
SUMMARY:Suddenly Farm
DESCRIPTION:Dressage Schooling
URL:https://esdcta.org/event/suddenly-farm-38/
LOCATION:Suddenly Farm\, 325 Main Street\, Lumberton\, NJ\, 08048\, United States
CATEGORIES:Dressage
GEO:39.9387;-74.8235
X-APPLE-STRUCTURED-LOCATION;VALUE=URI;X-ADDRESS=Suddenly Farm 325 Main Street Lumberton NJ 08048 United States;X-APPLE-RADIUS=500;X-TITLE=325 Main Street:geo:-74.8235,39.9387
END:VEVENT
BEGIN:VEVENT
DTSTART;TZID=America/New_York:20210718T080000
DTEND;TZID=America/New_York:20210718T170000
DTSTAMP:20260424T004422
CREATED:20201207T024842Z
LAST-MODIFIED:20201207T024842Z
UID:10000491-1626595200-1626627600@esdcta.org
SUMMARY:Jersey Palms
DESCRIPTION:Dressage Schooling
URL:https://esdcta.org/event/jersey-palms-14/
LOCATION:Jersey Palms Farm\, 177 S. Stump Tavern Road\, Jackson\, NJ\, 08527\, United States
CATEGORIES:Dressage
ATTACH;FMTTYPE=:
GEO:40.0900691;-74.4057337
X-APPLE-STRUCTURED-LOCATION;VALUE=URI;X-ADDRESS=Jersey Palms Farm 177 S. Stump Tavern Road Jackson NJ 08527 United States;X-APPLE-RADIUS=500;X-TITLE=177 S. Stump Tavern Road:geo:-74.4057337,40.0900691
END:VEVENT
BEGIN:VEVENT
DTSTART;TZID=America/New_York:20210717T080000
DTEND;TZID=America/New_York:20210717T170000
DTSTAMP:20260424T004422
CREATED:20210206T202335Z
LAST-MODIFIED:20210206T202335Z
UID:10000570-1626508800-1626541200@esdcta.org
SUMMARY:Bucks Co Horse Park - Dressage at the Park III
DESCRIPTION:USEF/USDF Dressage
URL:https://esdcta.org/event/bucks-co-horse-park-dressage-at-the-park-iii/
LOCATION:Bucks County Horse Park\, 8934 Easton Rd\, Revere\, PA\, 018953\, United States
CATEGORIES:Dressage
ATTACH;FMTTYPE=:
GEO:40.5224751;-75.1684702
X-APPLE-STRUCTURED-LOCATION;VALUE=URI;X-ADDRESS=Bucks County Horse Park 8934 Easton Rd Revere PA 018953 United States;X-APPLE-RADIUS=500;X-TITLE=8934 Easton Rd:geo:-75.1684702,40.5224751
END:VEVENT
BEGIN:VEVENT
DTSTART;TZID=America/New_York:20210717T080000
DTEND;TZID=America/New_York:20210717T170000
DTSTAMP:20260424T004422
CREATED:20210206T190236Z
LAST-MODIFIED:20210206T190236Z
UID:10000559-1626508800-1626541200@esdcta.org
SUMMARY:Bit O Woods Farm
DESCRIPTION:Dressage and Clear Round
URL:https://esdcta.org/event/bit-o-woods-farm-15/
LOCATION:Bit O Woods Farm\, 2207 Fostertown Road\, Hainesport\, NJ\, 08036\, United States
CATEGORIES:Dressage,Eventing
ATTACH;FMTTYPE=:
GEO:39.963529;-74.8435267
X-APPLE-STRUCTURED-LOCATION;VALUE=URI;X-ADDRESS=Bit O Woods Farm 2207 Fostertown Road Hainesport NJ 08036 United States;X-APPLE-RADIUS=500;X-TITLE=2207 Fostertown Road:geo:-74.8435267,39.963529
END:VEVENT
BEGIN:VEVENT
DTSTART;TZID=America/New_York:20210714T080000
DTEND;TZID=America/New_York:20210714T170000
DTSTAMP:20260424T004422
CREATED:20210302T163507Z
LAST-MODIFIED:20210302T163507Z
UID:10000606-1626249600-1626282000@esdcta.org
SUMMARY:SLM Dressage
DESCRIPTION:USEF/USDF Dressage
URL:https://esdcta.org/event/slm-dressage-7/
LOCATION:NJ
CATEGORIES:Dressage
END:VEVENT
BEGIN:VEVENT
DTSTART;TZID=America/New_York:20210711T080000
DTEND;TZID=America/New_York:20210711T170000
DTSTAMP:20260424T004422
CREATED:20201207T024854Z
LAST-MODIFIED:20201207T024854Z
UID:10000535-1625990400-1626022800@esdcta.org
SUMMARY:Phoenix Eq. Center
DESCRIPTION:Dressage\, Combined Test\, and Horse Trials
URL:https://esdcta.org/event/phoenix-eq-center-4/
LOCATION:Phoenix Equestrian Center\, 39 Orts Rd\, Hamburg\, NJ\, 07419\, United States
CATEGORIES:Dressage,Eventing
ATTACH;FMTTYPE=:
END:VEVENT
BEGIN:VEVENT
DTSTART;TZID=America/New_York:20210711T080000
DTEND;TZID=America/New_York:20210711T170000
DTSTAMP:20260424T004422
CREATED:20201207T024845Z
LAST-MODIFIED:20201207T024845Z
UID:10000498-1625990400-1626022800@esdcta.org
SUMMARY:Bucks Co Horse Park
DESCRIPTION:Schooling Horse Trial
URL:https://esdcta.org/event/bucks-co-horse-park-89/
LOCATION:Bucks County Horse Park\, 8934 Easton Rd\, Revere\, PA\, 018953\, United States
CATEGORIES:Dressage,Eventing
ATTACH;FMTTYPE=:
GEO:40.5224751;-75.1684702
X-APPLE-STRUCTURED-LOCATION;VALUE=URI;X-ADDRESS=Bucks County Horse Park 8934 Easton Rd Revere PA 018953 United States;X-APPLE-RADIUS=500;X-TITLE=8934 Easton Rd:geo:-75.1684702,40.5224751
END:VEVENT
BEGIN:VEVENT
DTSTART;TZID=America/New_York:20210710T080000
DTEND;TZID=America/New_York:20210711T170000
DTSTAMP:20260424T004422
CREATED:20210314T213137Z
LAST-MODIFIED:20210314T213137Z
UID:10000618-1625904000-1626022800@esdcta.org
SUMMARY:Dressage at the Park
DESCRIPTION:USEF/USDF Dressage
URL:https://esdcta.org/event/dressage-at-the-park-4/
LOCATION:Horse Park of New Jersey\, 626 Rte 524\, Allentown\, NJ\, 08501\, United States
CATEGORIES:Dressage
ATTACH;FMTTYPE=:
GEO:40.1905006;-74.4935697
X-APPLE-STRUCTURED-LOCATION;VALUE=URI;X-ADDRESS=Horse Park of New Jersey 626 Rte 524 Allentown NJ 08501 United States;X-APPLE-RADIUS=500;X-TITLE=626 Rte 524:geo:-74.4935697,40.1905006
END:VEVENT
BEGIN:VEVENT
DTSTART;TZID=America/New_York:20210710T080000
DTEND;TZID=America/New_York:20210710T170000
DTSTAMP:20260424T004422
CREATED:20210314T213140Z
LAST-MODIFIED:20210314T213140Z
UID:10000624-1625904000-1625936400@esdcta.org
SUMMARY:Rhythm&Blues Equestrian Center (PA)
DESCRIPTION:Dressage Schooling
URL:https://esdcta.org/event/rhythmblues-equestrian-center-pa-3/
LOCATION:Rhythm & Blues Equestrian Center\, 2450 Steinsburg Rd\, Quakertown\, PA\, 18951\, United States
CATEGORIES:Dressage
ATTACH;FMTTYPE=:
GEO:40.4551978;-75.4324816
X-APPLE-STRUCTURED-LOCATION;VALUE=URI;X-ADDRESS=Rhythm & Blues Equestrian Center 2450 Steinsburg Rd Quakertown PA 18951 United States;X-APPLE-RADIUS=500;X-TITLE=2450 Steinsburg Rd:geo:-75.4324816,40.4551978
END:VEVENT
BEGIN:VEVENT
DTSTART;TZID=America/New_York:20210710T080000
DTEND;TZID=America/New_York:20210710T170000
DTSTAMP:20260424T004422
CREATED:20210213T153949Z
LAST-MODIFIED:20210213T153949Z
UID:10000584-1625904000-1625936400@esdcta.org
SUMMARY:SLM Dressage
DESCRIPTION:Dressage Schooling
URL:https://esdcta.org/event/slm-dressage-3/
LOCATION:NJ
CATEGORIES:Dressage
END:VEVENT
BEGIN:VEVENT
DTSTART;TZID=America/New_York:20210710T080000
DTEND;TZID=America/New_York:20210710T170000
DTSTAMP:20260424T004422
CREATED:20210213T153948Z
LAST-MODIFIED:20210213T153948Z
UID:10000581-1625904000-1625936400@esdcta.org
SUMMARY:Applewood Farm YEH/FEH & Mini Event
DESCRIPTION:USEA Young Event Horse\, Future Event Horse\, & Mini Event
URL:https://esdcta.org/event/applewood-farm-yeh-feh-mini-event/
LOCATION:Applewood Farm\, 30 Fox Hill Road\, Califon\, NJ\, 07830\, United States
CATEGORIES:Eventing
ATTACH;FMTTYPE=:
GEO:40.704441;-74.764977
X-APPLE-STRUCTURED-LOCATION;VALUE=URI;X-ADDRESS=Applewood Farm 30 Fox Hill Road Califon NJ 07830 United States;X-APPLE-RADIUS=500;X-TITLE=30 Fox Hill Road:geo:-74.764977,40.704441
END:VEVENT
BEGIN:VEVENT
DTSTART;TZID=America/New_York:20210710T080000
DTEND;TZID=America/New_York:20210710T170000
DTSTAMP:20260424T004422
CREATED:20201207T024900Z
LAST-MODIFIED:20201207T024900Z
UID:10000556-1625904000-1625936400@esdcta.org
SUMMARY:Hidden Creek Eq. Ctr
DESCRIPTION:Dressage Schooling\, Combined Test
URL:https://esdcta.org/event/hidden-creek-eq-ctr-11/
LOCATION:Hidden Creek Equestrian Ctr\, Mountainview Drive\, Kunkletown\, PA\, 18058\, United States
CATEGORIES:Dressage,Eventing
ATTACH;FMTTYPE=:
GEO:40.896775;-75.470304
X-APPLE-STRUCTURED-LOCATION;VALUE=URI;X-ADDRESS=Hidden Creek Equestrian Ctr Mountainview Drive Kunkletown PA 18058 United States;X-APPLE-RADIUS=500;X-TITLE=Mountainview Drive:geo:-75.470304,40.896775
END:VEVENT
BEGIN:VEVENT
DTSTART;TZID=America/New_York:20210707T080000
DTEND;TZID=America/New_York:20210707T170000
DTSTAMP:20260424T004422
CREATED:20210213T153944Z
LAST-MODIFIED:20210213T153944Z
UID:10000578-1625644800-1625677200@esdcta.org
SUMMARY:Applewood Farm
DESCRIPTION:Dressage\, Combined Test\, and Clear Round
URL:https://esdcta.org/event/applewood-farm-25/
LOCATION:Applewood Farm\, 30 Fox Hill Road\, Califon\, NJ\, 07830\, United States
CATEGORIES:Dressage,Eventing
ATTACH;FMTTYPE=:
GEO:40.704441;-74.764977
X-APPLE-STRUCTURED-LOCATION;VALUE=URI;X-ADDRESS=Applewood Farm 30 Fox Hill Road Califon NJ 07830 United States;X-APPLE-RADIUS=500;X-TITLE=30 Fox Hill Road:geo:-74.764977,40.704441
END:VEVENT
BEGIN:VEVENT
DTSTART;TZID=America/New_York:20210706T080000
DTEND;TZID=America/New_York:20210706T170000
DTSTAMP:20260424T004422
CREATED:20201207T024852Z
LAST-MODIFIED:20201207T024852Z
UID:10000527-1625558400-1625590800@esdcta.org
SUMMARY:Bucks Co Horse Park TEDS
DESCRIPTION:Dressage Schooling\, Tues Eve
URL:https://esdcta.org/event/bucks-co-horse-park-teds-7/
LOCATION:Bucks County Horse Park\, 8934 Easton Rd\, Revere\, PA\, 018953\, United States
CATEGORIES:Dressage
ATTACH;FMTTYPE=:
GEO:40.5224751;-75.1684702
X-APPLE-STRUCTURED-LOCATION;VALUE=URI;X-ADDRESS=Bucks County Horse Park 8934 Easton Rd Revere PA 018953 United States;X-APPLE-RADIUS=500;X-TITLE=8934 Easton Rd:geo:-75.1684702,40.5224751
END:VEVENT
END:VCALENDAR