BEGIN:VCALENDAR
VERSION:2.0
PRODID:-//ESDCTA - ECPv6.15.20//NONSGML v1.0//EN
CALSCALE:GREGORIAN
METHOD:PUBLISH
X-WR-CALNAME:ESDCTA
X-ORIGINAL-URL:https://esdcta.org
X-WR-CALDESC:Events for ESDCTA
REFRESH-INTERVAL;VALUE=DURATION:PT1H
X-Robots-Tag:noindex
X-PUBLISHED-TTL:PT1H
BEGIN:VTIMEZONE
TZID:America/New_York
BEGIN:DAYLIGHT
TZOFFSETFROM:-0500
TZOFFSETTO:-0400
TZNAME:EDT
DTSTART:20200308T070000
END:DAYLIGHT
BEGIN:STANDARD
TZOFFSETFROM:-0400
TZOFFSETTO:-0500
TZNAME:EST
DTSTART:20201101T060000
END:STANDARD
BEGIN:DAYLIGHT
TZOFFSETFROM:-0500
TZOFFSETTO:-0400
TZNAME:EDT
DTSTART:20210314T070000
END:DAYLIGHT
BEGIN:STANDARD
TZOFFSETFROM:-0400
TZOFFSETTO:-0500
TZNAME:EST
DTSTART:20211107T060000
END:STANDARD
BEGIN:DAYLIGHT
TZOFFSETFROM:-0500
TZOFFSETTO:-0400
TZNAME:EDT
DTSTART:20220313T070000
END:DAYLIGHT
BEGIN:STANDARD
TZOFFSETFROM:-0400
TZOFFSETTO:-0500
TZNAME:EST
DTSTART:20221106T060000
END:STANDARD
BEGIN:DAYLIGHT
TZOFFSETFROM:-0500
TZOFFSETTO:-0400
TZNAME:EDT
DTSTART:20230312T070000
END:DAYLIGHT
BEGIN:STANDARD
TZOFFSETFROM:-0400
TZOFFSETTO:-0500
TZNAME:EST
DTSTART:20231105T060000
END:STANDARD
END:VTIMEZONE
BEGIN:VEVENT
DTSTART;TZID=America/New_York:20220129T080000
DTEND;TZID=America/New_York:20220130T170000
DTSTAMP:20260423T191111
CREATED:20211120T152220Z
LAST-MODIFIED:20211120T152220Z
UID:10000637-1643443200-1643562000@esdcta.org
SUMMARY:Applewood Farm New Eventing Dressage Tests Clinic
DESCRIPTION:Clinic
URL:https://esdcta.org/event/applewood-farm-new-eventing-dressage-tests-clinic/
LOCATION:Applewood Farm\, 30 Fox Hill Road\, Califon\, NJ\, 07830\, United States
CATEGORIES:Eventing
ATTACH;FMTTYPE=:
GEO:40.704441;-74.764977
X-APPLE-STRUCTURED-LOCATION;VALUE=URI;X-ADDRESS=Applewood Farm 30 Fox Hill Road Califon NJ 07830 United States;X-APPLE-RADIUS=500;X-TITLE=30 Fox Hill Road:geo:-74.764977,40.704441
END:VEVENT
BEGIN:VEVENT
DTSTART;TZID=America/New_York:20220114T080000
DTEND;TZID=America/New_York:20220116T170000
DTSTAMP:20260423T191111
CREATED:20211120T152220Z
LAST-MODIFIED:20211120T152220Z
UID:10000636-1642147200-1642352400@esdcta.org
SUMMARY:Applewood Farm Winter Jumping and Cavaletti Clinic
DESCRIPTION:Clinic
URL:https://esdcta.org/event/applewood-farm-winter-jumping-and-cavaletti-clinic/
LOCATION:Applewood Farm\, 30 Fox Hill Road\, Califon\, NJ\, 07830\, United States
CATEGORIES:Eventing
ATTACH;FMTTYPE=:
GEO:40.704441;-74.764977
X-APPLE-STRUCTURED-LOCATION;VALUE=URI;X-ADDRESS=Applewood Farm 30 Fox Hill Road Califon NJ 07830 United States;X-APPLE-RADIUS=500;X-TITLE=30 Fox Hill Road:geo:-74.764977,40.704441
END:VEVENT
BEGIN:VEVENT
DTSTART;TZID=America/New_York:20211212T080000
DTEND;TZID=America/New_York:20211212T170000
DTSTAMP:20260423T191111
CREATED:20211021T000823Z
LAST-MODIFIED:20240303T194136Z
UID:10000634-1639296000-1639328400@esdcta.org
SUMMARY:Dressage Jericho Holiday Show Series
DESCRIPTION:Dressage\, Combined Test\, and Clear Round
URL:https://esdcta.org/event/dressage-jericho-holiday-show-series-3/
CATEGORIES:Dressage
END:VEVENT
BEGIN:VEVENT
DTSTART;TZID=America/New_York:20211121T080000
DTEND;TZID=America/New_York:20211121T170000
DTSTAMP:20260423T191111
CREATED:20210213T154249Z
LAST-MODIFIED:20210213T154249Z
UID:10000599-1637481600-1637514000@esdcta.org
SUMMARY:ESDCTA Turkey Trot
DESCRIPTION:Benefit Pleasure Ride & Drive
URL:https://esdcta.org/event/esdcta-turkey-trot/
LOCATION:Horse Park of New Jersey\, 626 Rte 524\, Allentown\, NJ\, 08501\, United States
CATEGORIES:Benefit
ATTACH;FMTTYPE=:
GEO:40.1905006;-74.4935697
X-APPLE-STRUCTURED-LOCATION;VALUE=URI;X-ADDRESS=Horse Park of New Jersey 626 Rte 524 Allentown NJ 08501 United States;X-APPLE-RADIUS=500;X-TITLE=626 Rte 524:geo:-74.4935697,40.1905006
END:VEVENT
BEGIN:VEVENT
DTSTART;TZID=America/New_York:20211120T080000
DTEND;TZID=America/New_York:20211120T170000
DTSTAMP:20260423T191111
CREATED:20211021T000823Z
LAST-MODIFIED:20240303T194157Z
UID:10000633-1637395200-1637427600@esdcta.org
SUMMARY:Dressage Jericho Holiday Show Series
DESCRIPTION:Dressage\, Combined Test\, and Clear Round
URL:https://esdcta.org/event/dressage-jericho-holiday-show-series-2/
CATEGORIES:Dressage
END:VEVENT
BEGIN:VEVENT
DTSTART;TZID=America/New_York:20211107T080000
DTEND;TZID=America/New_York:20211107T170000
DTSTAMP:20260423T191111
CREATED:20210206T190241Z
LAST-MODIFIED:20210206T190241Z
UID:10000561-1636272000-1636304400@esdcta.org
SUMMARY:Bit O Woods Farm
DESCRIPTION:Dressage and Clear Round
URL:https://esdcta.org/event/bit-o-woods-farm-17/
LOCATION:Bit O Woods Farm\, 2207 Fostertown Road\, Hainesport\, NJ\, 08036\, United States
CATEGORIES:Dressage,Eventing
ATTACH;FMTTYPE=:
GEO:39.963529;-74.8435267
X-APPLE-STRUCTURED-LOCATION;VALUE=URI;X-ADDRESS=Bit O Woods Farm 2207 Fostertown Road Hainesport NJ 08036 United States;X-APPLE-RADIUS=500;X-TITLE=2207 Fostertown Road:geo:-74.8435267,39.963529
END:VEVENT
BEGIN:VEVENT
DTSTART;TZID=America/New_York:20211106T080000
DTEND;TZID=America/New_York:20211106T170000
DTSTAMP:20260423T191111
CREATED:20201207T024856Z
LAST-MODIFIED:20201207T024856Z
UID:10000543-1636185600-1636218000@esdcta.org
SUMMARY:Saddlebrook Ridge
DESCRIPTION:Dressage & Western Dressage Schooling
URL:https://esdcta.org/event/saddlebrook-ridge-33/
LOCATION:Saddlebrook Ridge Equestrian Center\, 10 Saddlebrook Court\, Shamong\, NJ\, 08088\, United States
CATEGORIES:Dressage
ATTACH;FMTTYPE=:
GEO:39.8205251;-74.7828144
X-APPLE-STRUCTURED-LOCATION;VALUE=URI;X-ADDRESS=Saddlebrook Ridge Equestrian Center 10 Saddlebrook Court Shamong NJ 08088 United States;X-APPLE-RADIUS=500;X-TITLE=10 Saddlebrook Court:geo:-74.7828144,39.8205251
END:VEVENT
BEGIN:VEVENT
DTSTART;TZID=America/New_York:20211031T080000
DTEND;TZID=America/New_York:20211031T170000
DTSTAMP:20260423T191111
CREATED:20210905T154011Z
LAST-MODIFIED:20210905T154011Z
UID:10000630-1635667200-1635699600@esdcta.org
SUMMARY:Jersey Shore Pony Club
DESCRIPTION:Dressage Schooling \, Combined Test
URL:https://esdcta.org/event/jersey-shore-pony-club-2/
LOCATION:Tri-Brook Equestrian\, 283 Long Swamp Road\, New Egypt\, NJ\, 8533
CATEGORIES:Dressage,Eventing
END:VEVENT
BEGIN:VEVENT
DTSTART;TZID=America/New_York:20211031T080000
DTEND;TZID=America/New_York:20211031T170000
DTSTAMP:20260423T191111
CREATED:20201207T024846Z
LAST-MODIFIED:20201207T024846Z
UID:10000501-1635667200-1635699600@esdcta.org
SUMMARY:Bucks Co Horse Park
DESCRIPTION:Schooling Horse Trials
URL:https://esdcta.org/event/bucks-co-horse-park-92/
LOCATION:Bucks County Horse Park\, 8934 Easton Rd\, Revere\, PA\, 018953\, United States
CATEGORIES:Dressage,Eventing
ATTACH;FMTTYPE=:
GEO:40.5224751;-75.1684702
X-APPLE-STRUCTURED-LOCATION;VALUE=URI;X-ADDRESS=Bucks County Horse Park 8934 Easton Rd Revere PA 018953 United States;X-APPLE-RADIUS=500;X-TITLE=8934 Easton Rd:geo:-75.1684702,40.5224751
END:VEVENT
BEGIN:VEVENT
DTSTART;TZID=America/New_York:20211030T080000
DTEND;TZID=America/New_York:20211030T170000
DTSTAMP:20260423T191111
CREATED:20210919T161414Z
LAST-MODIFIED:20210919T161414Z
UID:10000631-1635580800-1635613200@esdcta.org
SUMMARY:SLM Dressage
DESCRIPTION:Dressage Schooling
URL:https://esdcta.org/event/slm-dressage-8/
LOCATION:SLM Dressage\, 150 Kings Road\, Westampton\, NJ\, 08060
CATEGORIES:Dressage
END:VEVENT
BEGIN:VEVENT
DTSTART;TZID=America/New_York:20211024T080000
DTEND;TZID=America/New_York:20211024T170000
DTSTAMP:20260423T191111
CREATED:20201207T024854Z
LAST-MODIFIED:20201207T024854Z
UID:10000538-1635062400-1635094800@esdcta.org
SUMMARY:Phoenix Eq. Center
DESCRIPTION:Dressage\, Combined Test\, and Horse Trials
URL:https://esdcta.org/event/phoenix-eq-center-7/
LOCATION:Phoenix Equestrian Center\, 39 Orts Rd\, Hamburg\, NJ\, 07419\, United States
CATEGORIES:Dressage,Eventing
ATTACH;FMTTYPE=:
END:VEVENT
BEGIN:VEVENT
DTSTART;TZID=America/New_York:20211024T080000
DTEND;TZID=America/New_York:20211024T170000
DTSTAMP:20260423T191111
CREATED:20201207T024843Z
LAST-MODIFIED:20201207T024843Z
UID:10000492-1635062400-1635094800@esdcta.org
SUMMARY:Jersey Palms
DESCRIPTION:Dressage Schooling
URL:https://esdcta.org/event/jersey-palms-15/
LOCATION:Jersey Palms Farm\, 177 S. Stump Tavern Road\, Jackson\, NJ\, 08527\, United States
CATEGORIES:Dressage
ATTACH;FMTTYPE=:
GEO:40.0900691;-74.4057337
X-APPLE-STRUCTURED-LOCATION;VALUE=URI;X-ADDRESS=Jersey Palms Farm 177 S. Stump Tavern Road Jackson NJ 08527 United States;X-APPLE-RADIUS=500;X-TITLE=177 S. Stump Tavern Road:geo:-74.4057337,40.0900691
END:VEVENT
BEGIN:VEVENT
DTSTART;TZID=America/New_York:20211023T080000
DTEND;TZID=America/New_York:20211023T170000
DTSTAMP:20260423T191111
CREATED:20211021T000823Z
LAST-MODIFIED:20240303T194221Z
UID:10000632-1634976000-1635008400@esdcta.org
SUMMARY:Dressage Jericho Holiday Show Series
DESCRIPTION:Dressage\, Combined Test\, and Clear Round
URL:https://esdcta.org/event/dressage-jericho-holiday-show-series/
CATEGORIES:Dressage
END:VEVENT
BEGIN:VEVENT
DTSTART;TZID=America/New_York:20211023T080000
DTEND;TZID=America/New_York:20211023T170000
DTSTAMP:20260423T191111
CREATED:20210302T163507Z
LAST-MODIFIED:20210302T163507Z
UID:10000604-1634976000-1635008400@esdcta.org
SUMMARY:Greendell Dressage
DESCRIPTION:Dressage Schooling
URL:https://esdcta.org/event/greendell-dressage-6/
CATEGORIES:Dressage
END:VEVENT
BEGIN:VEVENT
DTSTART;TZID=America/New_York:20211023T080000
DTEND;TZID=America/New_York:20211023T170000
DTSTAMP:20260423T191111
CREATED:20201207T024850Z
LAST-MODIFIED:20201207T024850Z
UID:10000518-1634976000-1635008400@esdcta.org
SUMMARY:Skip Ahead Dressage
DESCRIPTION:Dressage Schooling
URL:https://esdcta.org/event/skip-ahead-dressage-13/
LOCATION:Skip Ahead Dressage\, 235 Braddock Mill Road\, Marlton\, NJ\, 08503\, United States
CATEGORIES:Dressage
ATTACH;FMTTYPE=:
GEO:39.8511;-74.9141
X-APPLE-STRUCTURED-LOCATION;VALUE=URI;X-ADDRESS=Skip Ahead Dressage 235 Braddock Mill Road Marlton NJ 08503 United States;X-APPLE-RADIUS=500;X-TITLE=235 Braddock Mill Road:geo:-74.9141,39.8511
END:VEVENT
BEGIN:VEVENT
DTSTART;TZID=America/New_York:20211017T080000
DTEND;TZID=America/New_York:20211017T170000
DTSTAMP:20260423T191111
CREATED:20210206T202337Z
LAST-MODIFIED:20210206T202337Z
UID:10000575-1634457600-1634490000@esdcta.org
SUMMARY:Square One
DESCRIPTION:Dressage Schooling
URL:https://esdcta.org/event/square-one-21/
LOCATION:Square One\, 315 Mattison Reservoir Avenue\, Branchville\, NJ\, 07826\, United States
CATEGORIES:Dressage
ATTACH;FMTTYPE=:
GEO:41.200032;-74.680259
X-APPLE-STRUCTURED-LOCATION;VALUE=URI;X-ADDRESS=Square One 315 Mattison Reservoir Avenue Branchville NJ 07826 United States;X-APPLE-RADIUS=500;X-TITLE=315 Mattison Reservoir Avenue:geo:-74.680259,41.200032
END:VEVENT
BEGIN:VEVENT
DTSTART;TZID=America/New_York:20211016T080000
DTEND;TZID=America/New_York:20211016T170000
DTSTAMP:20260423T191111
CREATED:20210213T154149Z
LAST-MODIFIED:20210213T154149Z
UID:10000593-1634371200-1634403600@esdcta.org
SUMMARY:ESDCTA Championships & Dressage Schooling
DESCRIPTION:Dressage Schooling
URL:https://esdcta.org/event/esdcta-championships-dressage-schooling/
LOCATION:Horse Park of New Jersey\, 626 Rte 524\, Allentown\, NJ\, 08501\, United States
CATEGORIES:Dressage
ATTACH;FMTTYPE=:
GEO:40.1905006;-74.4935697
X-APPLE-STRUCTURED-LOCATION;VALUE=URI;X-ADDRESS=Horse Park of New Jersey 626 Rte 524 Allentown NJ 08501 United States;X-APPLE-RADIUS=500;X-TITLE=626 Rte 524:geo:-74.4935697,40.1905006
END:VEVENT
BEGIN:VEVENT
DTSTART;TZID=America/New_York:20211010T080000
DTEND;TZID=America/New_York:20211010T170000
DTSTAMP:20260423T191111
CREATED:20210302T163709Z
LAST-MODIFIED:20210302T163709Z
UID:10000615-1633852800-1633885200@esdcta.org
SUMMARY:Red Tail Farm Oct II
DESCRIPTION:USEF/USDF Dressage
URL:https://esdcta.org/event/red-tail-farm-oct-ii/
LOCATION:Red Tail Farm\, 1100 Rattlesnake Bridge Rd\, Bedminster Township\, NJ\, 07921\, United States
CATEGORIES:Dressage
ATTACH;FMTTYPE=:
GEO:40.6437934;-74.7160768
X-APPLE-STRUCTURED-LOCATION;VALUE=URI;X-ADDRESS=Red Tail Farm 1100 Rattlesnake Bridge Rd Bedminster Township NJ 07921 United States;X-APPLE-RADIUS=500;X-TITLE=1100 Rattlesnake Bridge Rd:geo:-74.7160768,40.6437934
END:VEVENT
BEGIN:VEVENT
DTSTART;TZID=America/New_York:20211009T080000
DTEND;TZID=America/New_York:20211009T170000
DTSTAMP:20260423T191111
CREATED:20210302T163709Z
LAST-MODIFIED:20210302T163709Z
UID:10000614-1633766400-1633798800@esdcta.org
SUMMARY:Red Tail Farm Oct I
DESCRIPTION:USEF/USDF Dressage
URL:https://esdcta.org/event/red-tail-farm-oct-i/
LOCATION:Red Tail Farm\, 1100 Rattlesnake Bridge Rd\, Bedminster Township\, NJ\, 07921\, United States
CATEGORIES:Dressage
ATTACH;FMTTYPE=:
GEO:40.6437934;-74.7160768
X-APPLE-STRUCTURED-LOCATION;VALUE=URI;X-ADDRESS=Red Tail Farm 1100 Rattlesnake Bridge Rd Bedminster Township NJ 07921 United States;X-APPLE-RADIUS=500;X-TITLE=1100 Rattlesnake Bridge Rd:geo:-74.7160768,40.6437934
END:VEVENT
BEGIN:VEVENT
DTSTART;TZID=America/New_York:20211009T080000
DTEND;TZID=America/New_York:20211009T170000
DTSTAMP:20260423T191111
CREATED:20210206T202337Z
LAST-MODIFIED:20210206T202337Z
UID:10000574-1633766400-1633798800@esdcta.org
SUMMARY:Bucks Co Horse Park - Team Challenge
DESCRIPTION:Dressage Schooling and Team Challenge
URL:https://esdcta.org/event/bucks-co-horse-park-team-challenge/
LOCATION:Bucks County Horse Park\, 8934 Easton Rd\, Revere\, PA\, 018953\, United States
CATEGORIES:Dressage
ATTACH;FMTTYPE=:
GEO:40.5224751;-75.1684702
X-APPLE-STRUCTURED-LOCATION;VALUE=URI;X-ADDRESS=Bucks County Horse Park 8934 Easton Rd Revere PA 018953 United States;X-APPLE-RADIUS=500;X-TITLE=8934 Easton Rd:geo:-75.1684702,40.5224751
END:VEVENT
BEGIN:VEVENT
DTSTART;TZID=America/New_York:20211009T080000
DTEND;TZID=America/New_York:20211009T170000
DTSTAMP:20260423T191111
CREATED:20201207T024855Z
LAST-MODIFIED:20201207T024855Z
UID:10000542-1633766400-1633798800@esdcta.org
SUMMARY:Saddlebrook Ridge
DESCRIPTION:Dressage & Western Dressage Schooling
URL:https://esdcta.org/event/saddlebrook-ridge-32/
LOCATION:Saddlebrook Ridge Equestrian Center\, 10 Saddlebrook Court\, Shamong\, NJ\, 08088\, United States
CATEGORIES:Dressage
ATTACH;FMTTYPE=:
GEO:39.8205251;-74.7828144
X-APPLE-STRUCTURED-LOCATION;VALUE=URI;X-ADDRESS=Saddlebrook Ridge Equestrian Center 10 Saddlebrook Court Shamong NJ 08088 United States;X-APPLE-RADIUS=500;X-TITLE=10 Saddlebrook Court:geo:-74.7828144,39.8205251
END:VEVENT
BEGIN:VEVENT
DTSTART;TZID=America/New_York:20211003T080000
DTEND;TZID=America/New_York:20211003T170000
DTSTAMP:20260423T191111
CREATED:20201207T024846Z
LAST-MODIFIED:20201207T024846Z
UID:10000500-1633248000-1633280400@esdcta.org
SUMMARY:Bucks Co Horse Park
DESCRIPTION:Schooling Horse Trials
URL:https://esdcta.org/event/bucks-co-horse-park-91/
LOCATION:Bucks County Horse Park\, 8934 Easton Rd\, Revere\, PA\, 018953\, United States
CATEGORIES:Dressage,Eventing
ATTACH;FMTTYPE=:
GEO:40.5224751;-75.1684702
X-APPLE-STRUCTURED-LOCATION;VALUE=URI;X-ADDRESS=Bucks County Horse Park 8934 Easton Rd Revere PA 018953 United States;X-APPLE-RADIUS=500;X-TITLE=8934 Easton Rd:geo:-75.1684702,40.5224751
END:VEVENT
BEGIN:VEVENT
DTSTART;TZID=America/New_York:20211002T080000
DTEND;TZID=America/New_York:20211002T170000
DTSTAMP:20260423T191111
CREATED:20201207T024859Z
LAST-MODIFIED:20201207T024859Z
UID:10000553-1633161600-1633194000@esdcta.org
SUMMARY:Suddenly Farm
DESCRIPTION:Dressage Schooling
URL:https://esdcta.org/event/suddenly-farm-41/
LOCATION:Suddenly Farm\, 325 Main Street\, Lumberton\, NJ\, 08048\, United States
CATEGORIES:Dressage
GEO:39.9387;-74.8235
X-APPLE-STRUCTURED-LOCATION;VALUE=URI;X-ADDRESS=Suddenly Farm 325 Main Street Lumberton NJ 08048 United States;X-APPLE-RADIUS=500;X-TITLE=325 Main Street:geo:-74.8235,39.9387
END:VEVENT
BEGIN:VEVENT
DTSTART;TZID=America/New_York:20210925T080000
DTEND;TZID=America/New_York:20210926T170000
DTSTAMP:20260423T191111
CREATED:20210213T154249Z
LAST-MODIFIED:20210213T154249Z
UID:10000596-1632556800-1632675600@esdcta.org
SUMMARY:ESDCTA NJ Horse Trials
DESCRIPTION:USEA Horse Trials
URL:https://esdcta.org/event/esdcta-nj-horse-trials-5/
LOCATION:Horse Park of New Jersey\, 626 Rte 524\, Allentown\, NJ\, 08501\, United States
CATEGORIES:Eventing
ATTACH;FMTTYPE=:
GEO:40.1905006;-74.4935697
X-APPLE-STRUCTURED-LOCATION;VALUE=URI;X-ADDRESS=Horse Park of New Jersey 626 Rte 524 Allentown NJ 08501 United States;X-APPLE-RADIUS=500;X-TITLE=626 Rte 524:geo:-74.4935697,40.1905006
END:VEVENT
BEGIN:VEVENT
DTSTART;TZID=America/New_York:20210919T080000
DTEND;TZID=America/New_York:20210919T170000
DTSTAMP:20260423T191111
CREATED:20201207T024854Z
LAST-MODIFIED:20201207T024854Z
UID:10000537-1632038400-1632070800@esdcta.org
SUMMARY:Phoenix Eq. Center
DESCRIPTION:Dressage\, Combined Test\, and Horse Trials
URL:https://esdcta.org/event/phoenix-eq-center-6/
LOCATION:Phoenix Equestrian Center\, 39 Orts Rd\, Hamburg\, NJ\, 07419\, United States
CATEGORIES:Dressage,Eventing
ATTACH;FMTTYPE=:
END:VEVENT
BEGIN:VEVENT
DTSTART;TZID=America/New_York:20210918T080000
DTEND;TZID=America/New_York:20210918T170000
DTSTAMP:20260423T191111
CREATED:20210302T163506Z
LAST-MODIFIED:20210302T163506Z
UID:10000603-1631952000-1631984400@esdcta.org
SUMMARY:Greendell Dressage
DESCRIPTION:Dressage Schooling
URL:https://esdcta.org/event/greendell-dressage-5/
CATEGORIES:Dressage
END:VEVENT
BEGIN:VEVENT
DTSTART;TZID=America/New_York:20210918T080000
DTEND;TZID=America/New_York:20210918T170000
DTSTAMP:20260423T191111
CREATED:20210213T154048Z
LAST-MODIFIED:20210213T154048Z
UID:10000586-1631952000-1631984400@esdcta.org
SUMMARY:SLM Dressage
DESCRIPTION:Dressage Schooling
URL:https://esdcta.org/event/slm-dressage-5/
CATEGORIES:Dressage
END:VEVENT
BEGIN:VEVENT
DTSTART;TZID=America/New_York:20210915T080000
DTEND;TZID=America/New_York:20210915T170000
DTSTAMP:20260423T191111
CREATED:20210213T153944Z
LAST-MODIFIED:20210213T153944Z
UID:10000580-1631692800-1631725200@esdcta.org
SUMMARY:Applewood Farm
DESCRIPTION:Dressage\, Combined Test\, and Clear Round
URL:https://esdcta.org/event/applewood-farm-27/
LOCATION:Applewood Farm\, 30 Fox Hill Road\, Califon\, NJ\, 07830\, United States
CATEGORIES:Dressage,Eventing
ATTACH;FMTTYPE=:
GEO:40.704441;-74.764977
X-APPLE-STRUCTURED-LOCATION;VALUE=URI;X-ADDRESS=Applewood Farm 30 Fox Hill Road Califon NJ 07830 United States;X-APPLE-RADIUS=500;X-TITLE=30 Fox Hill Road:geo:-74.764977,40.704441
END:VEVENT
BEGIN:VEVENT
DTSTART;TZID=America/New_York:20210912T080000
DTEND;TZID=America/New_York:20210912T170000
DTSTAMP:20260423T191111
CREATED:20210314T213137Z
LAST-MODIFIED:20210314T213137Z
UID:10000617-1631433600-1631466000@esdcta.org
SUMMARY:Dressage at Stone Tavern II
DESCRIPTION:USEF/USDF Dressage
URL:https://esdcta.org/event/dressage-at-stone-tavern-ii-4/
LOCATION:Horse Park of New Jersey\, 626 Rte 524\, Allentown\, NJ\, 08501\, United States
CATEGORIES:Dressage
ATTACH;FMTTYPE=:
GEO:40.1905006;-74.4935697
X-APPLE-STRUCTURED-LOCATION;VALUE=URI;X-ADDRESS=Horse Park of New Jersey 626 Rte 524 Allentown NJ 08501 United States;X-APPLE-RADIUS=500;X-TITLE=626 Rte 524:geo:-74.4935697,40.1905006
END:VEVENT
BEGIN:VEVENT
DTSTART;TZID=America/New_York:20210912T080000
DTEND;TZID=America/New_York:20210912T170000
DTSTAMP:20260423T191111
CREATED:20210206T202337Z
LAST-MODIFIED:20210206T202337Z
UID:10000573-1631433600-1631466000@esdcta.org
SUMMARY:Square One
DESCRIPTION:Dressage Schooling
URL:https://esdcta.org/event/square-one-20/
LOCATION:Square One\, 315 Mattison Reservoir Avenue\, Branchville\, NJ\, 07826\, United States
CATEGORIES:Dressage
ATTACH;FMTTYPE=:
GEO:41.200032;-74.680259
X-APPLE-STRUCTURED-LOCATION;VALUE=URI;X-ADDRESS=Square One 315 Mattison Reservoir Avenue Branchville NJ 07826 United States;X-APPLE-RADIUS=500;X-TITLE=315 Mattison Reservoir Avenue:geo:-74.680259,41.200032
END:VEVENT
END:VCALENDAR