BEGIN:VCALENDAR
VERSION:2.0
PRODID:-//ESDCTA - ECPv6.15.20//NONSGML v1.0//EN
CALSCALE:GREGORIAN
METHOD:PUBLISH
X-WR-CALNAME:ESDCTA
X-ORIGINAL-URL:https://esdcta.org
X-WR-CALDESC:Events for ESDCTA
REFRESH-INTERVAL;VALUE=DURATION:PT1H
X-Robots-Tag:noindex
X-PUBLISHED-TTL:PT1H
BEGIN:VTIMEZONE
TZID:America/New_York
BEGIN:DAYLIGHT
TZOFFSETFROM:-0500
TZOFFSETTO:-0400
TZNAME:EDT
DTSTART:20210314T070000
END:DAYLIGHT
BEGIN:STANDARD
TZOFFSETFROM:-0400
TZOFFSETTO:-0500
TZNAME:EST
DTSTART:20211107T060000
END:STANDARD
BEGIN:DAYLIGHT
TZOFFSETFROM:-0500
TZOFFSETTO:-0400
TZNAME:EDT
DTSTART:20220313T070000
END:DAYLIGHT
BEGIN:STANDARD
TZOFFSETFROM:-0400
TZOFFSETTO:-0500
TZNAME:EST
DTSTART:20221106T060000
END:STANDARD
BEGIN:DAYLIGHT
TZOFFSETFROM:-0500
TZOFFSETTO:-0400
TZNAME:EDT
DTSTART:20230312T070000
END:DAYLIGHT
BEGIN:STANDARD
TZOFFSETFROM:-0400
TZOFFSETTO:-0500
TZNAME:EST
DTSTART:20231105T060000
END:STANDARD
END:VTIMEZONE
BEGIN:VEVENT
DTSTART;TZID=America/New_York:20220702T090000
DTEND;TZID=America/New_York:20220702T160000
DTSTAMP:20260423T094428
CREATED:20220113T183624Z
LAST-MODIFIED:20220113T183624Z
UID:10000722-1656752400-1656777600@esdcta.org
SUMMARY:ESDCTA Cross Country Schooling
DESCRIPTION:Cross Country Schooling at the Horse Park of New Jersey
URL:https://esdcta.org/event/esdcta-cross-country-schooling-10/
LOCATION:Horse Park of New Jersey\, 626 Rte 524\, Allentown\, New Jersey\, 08501
CATEGORIES:Eventing
ATTACH;FMTTYPE=:
END:VEVENT
BEGIN:VEVENT
DTSTART;TZID=America/New_York:20220702T080000
DTEND;TZID=America/New_York:20220702T170000
DTSTAMP:20260423T094428
CREATED:20220113T173440Z
LAST-MODIFIED:20220113T173440Z
UID:10000682-1656748800-1656781200@esdcta.org
SUMMARY:Hearts Journey Stables
DESCRIPTION:Dressage Schooling \, Combined Test
URL:https://esdcta.org/event/hearts-journey-stables-20/
LOCATION:Hearts Journey Stables\, 425 Kromer Road\, Wind Gap\, PA\, 18091\, United States
CATEGORIES:Dressage,Eventing
ATTACH;FMTTYPE=:
GEO:40.8204999;-75.3000835
X-APPLE-STRUCTURED-LOCATION;VALUE=URI;X-ADDRESS=Hearts Journey Stables 425 Kromer Road Wind Gap PA 18091 United States;X-APPLE-RADIUS=500;X-TITLE=425 Kromer Road:geo:-75.3000835,40.8204999
END:VEVENT
BEGIN:VEVENT
DTSTART;TZID=America/New_York:20220626T080000
DTEND;TZID=America/New_York:20220626T170000
DTSTAMP:20260423T094428
CREATED:20220113T180910Z
LAST-MODIFIED:20220113T180910Z
UID:10000699-1656230400-1656262800@esdcta.org
SUMMARY:Red Tail Farm June II
DESCRIPTION:USEF/USDF Dressage
URL:https://esdcta.org/event/red-tail-farm-june-ii-7/
LOCATION:Red Tail Farm\, 1100 Rattlesnake Bridge Rd\, Bedminster Township\, NJ\, 07921\, United States
CATEGORIES:Dressage
ATTACH;FMTTYPE=:
GEO:40.6437934;-74.7160768
X-APPLE-STRUCTURED-LOCATION;VALUE=URI;X-ADDRESS=Red Tail Farm 1100 Rattlesnake Bridge Rd Bedminster Township NJ 07921 United States;X-APPLE-RADIUS=500;X-TITLE=1100 Rattlesnake Bridge Rd:geo:-74.7160768,40.6437934
END:VEVENT
BEGIN:VEVENT
DTSTART;TZID=America/New_York:20220626T080000
DTEND;TZID=America/New_York:20220626T170000
DTSTAMP:20260423T094428
CREATED:20220113T174832Z
LAST-MODIFIED:20220113T174832Z
UID:10000692-1656230400-1656262800@esdcta.org
SUMMARY:Phoenix Eq. Center
DESCRIPTION:Dressage\, Combined Test\, and Horse Trials
URL:https://esdcta.org/event/phoenix-eq-center-10/
LOCATION:Phoenix Equestrian Center\, 39 Orts Rd\, Hamburg\, NJ\, 07419\, United States
CATEGORIES:Dressage,Eventing
ATTACH;FMTTYPE=:
END:VEVENT
BEGIN:VEVENT
DTSTART;TZID=America/New_York:20220625T080000
DTEND;TZID=America/New_York:20220626T170000
DTSTAMP:20260423T094428
CREATED:20220113T163006Z
LAST-MODIFIED:20220113T163006Z
UID:10000650-1656144000-1656262800@esdcta.org
SUMMARY:Horse Park of NJ Horse Trials I
DESCRIPTION:USEA Horse Trials
URL:https://esdcta.org/event/horse-park-of-nj-horse-trials-i/
LOCATION:Horse Park of New Jersey\, 626 Rte 524\, Allentown\, New Jersey\, 08501
CATEGORIES:Eventing
ATTACH;FMTTYPE=:
END:VEVENT
BEGIN:VEVENT
DTSTART;TZID=America/New_York:20220625T080000
DTEND;TZID=America/New_York:20220625T170000
DTSTAMP:20260423T094428
CREATED:20220113T180910Z
LAST-MODIFIED:20220113T180910Z
UID:10000698-1656144000-1656176400@esdcta.org
SUMMARY:Red Tail Farm June I
DESCRIPTION:USEF/USDF Dressage
URL:https://esdcta.org/event/red-tail-farm-june-i-7/
LOCATION:Red Tail Farm\, 1100 Rattlesnake Bridge Rd\, Bedminster Township\, NJ\, 07921\, United States
CATEGORIES:Dressage
ATTACH;FMTTYPE=:
GEO:40.6437934;-74.7160768
X-APPLE-STRUCTURED-LOCATION;VALUE=URI;X-ADDRESS=Red Tail Farm 1100 Rattlesnake Bridge Rd Bedminster Township NJ 07921 United States;X-APPLE-RADIUS=500;X-TITLE=1100 Rattlesnake Bridge Rd:geo:-74.7160768,40.6437934
END:VEVENT
BEGIN:VEVENT
DTSTART;TZID=America/New_York:20220625T080000
DTEND;TZID=America/New_York:20220625T170000
DTSTAMP:20260423T094428
CREATED:20220113T163010Z
LAST-MODIFIED:20220113T163010Z
UID:10000657-1656144000-1656176400@esdcta.org
SUMMARY:SLM Dressage
DESCRIPTION:Dressage Schooling w/ Western Dresage
URL:https://esdcta.org/event/slm-dressage-11/
LOCATION:SLM Dressage\, 150 Kings Road\, Westampton\, NJ\, 08060
CATEGORIES:Dressage
END:VEVENT
BEGIN:VEVENT
DTSTART;TZID=America/New_York:20220621T020000
DTEND;TZID=America/New_York:20220621T200000
DTSTAMP:20260423T094428
CREATED:20220130T184051Z
LAST-MODIFIED:20220130T184051Z
UID:10000742-1655776800-1655841600@esdcta.org
SUMMARY:Bucks Co Horse Park TEDS
DESCRIPTION:Dressage Schooling\, Tues Eve
URL:https://esdcta.org/event/bucks-co-horse-park-teds-12/
LOCATION:Bucks County Horse Park\, 8934 Easton Rd\, Revere\, PA\, 018953\, United States
CATEGORIES:Dressage
ATTACH;FMTTYPE=:
GEO:40.5224751;-75.1684702
X-APPLE-STRUCTURED-LOCATION;VALUE=URI;X-ADDRESS=Bucks County Horse Park 8934 Easton Rd Revere PA 018953 United States;X-APPLE-RADIUS=500;X-TITLE=8934 Easton Rd:geo:-75.1684702,40.5224751
END:VEVENT
BEGIN:VEVENT
DTSTART;TZID=America/New_York:20220619T080000
DTEND;TZID=America/New_York:20220619T170000
DTSTAMP:20260423T094428
CREATED:20220318T152321Z
LAST-MODIFIED:20220318T152321Z
UID:10000778-1655625600-1655658000@esdcta.org
SUMMARY:Greendell Dressage
DESCRIPTION:Dressage Schooling
URL:https://esdcta.org/event/greendell-dressage-7/
LOCATION:Greendell Dressage\, 81 Henry Road\, Newton\, NJ\, 07860\, United States
CATEGORIES:Dressage
END:VEVENT
BEGIN:VEVENT
DTSTART;TZID=America/New_York:20220619T080000
DTEND;TZID=America/New_York:20220619T170000
DTSTAMP:20260423T094428
CREATED:20220130T183951Z
LAST-MODIFIED:20220130T183951Z
UID:10000737-1655625600-1655658000@esdcta.org
SUMMARY:Bucks Co Horse Park HT
DESCRIPTION:USEA Horse Trials
URL:https://esdcta.org/event/bucks-co-horse-park-ht-24/
LOCATION:Bucks County Horse Park\, 8934 Easton Rd\, Revere\, PA\, 018953\, United States
CATEGORIES:Eventing
ATTACH;FMTTYPE=:
GEO:40.5224751;-75.1684702
X-APPLE-STRUCTURED-LOCATION;VALUE=URI;X-ADDRESS=Bucks County Horse Park 8934 Easton Rd Revere PA 018953 United States;X-APPLE-RADIUS=500;X-TITLE=8934 Easton Rd:geo:-75.1684702,40.5224751
END:VEVENT
BEGIN:VEVENT
DTSTART;TZID=America/New_York:20220619T080000
DTEND;TZID=America/New_York:20220619T170000
DTSTAMP:20260423T094428
CREATED:20220113T163006Z
LAST-MODIFIED:20220113T163006Z
UID:10000653-1655625600-1655658000@esdcta.org
SUMMARY:Rhythm&Blues Equestrian Center (PA)
DESCRIPTION:USEF/USDF Dressage
URL:https://esdcta.org/event/rhythmblues-equestrian-center-pa-6/
LOCATION:Rhythm & Blues Equestrian Center\, 2450 Steinsburg Rd\, Quakertown\, PA\, 18951\, United States
CATEGORIES:Dressage
ATTACH;FMTTYPE=:
GEO:40.4551978;-75.4324816
X-APPLE-STRUCTURED-LOCATION;VALUE=URI;X-ADDRESS=Rhythm & Blues Equestrian Center 2450 Steinsburg Rd Quakertown PA 18951 United States;X-APPLE-RADIUS=500;X-TITLE=2450 Steinsburg Rd:geo:-75.4324816,40.4551978
END:VEVENT
BEGIN:VEVENT
DTSTART;TZID=America/New_York:20220618T080000
DTEND;TZID=America/New_York:20220618T170000
DTSTAMP:20260423T094428
CREATED:20220113T173440Z
LAST-MODIFIED:20220113T173440Z
UID:10000681-1655539200-1655571600@esdcta.org
SUMMARY:Good Times Farm
DESCRIPTION:Dressage Schooling
URL:https://esdcta.org/event/good-times-farm-8/
LOCATION:Good Times Farm\, 278 Jackson Mills Road\, Freehold\, NJ\, 07728\, United States
CATEGORIES:Dressage
ATTACH;FMTTYPE=:
GEO:40.1868303;-74.2885136
X-APPLE-STRUCTURED-LOCATION;VALUE=URI;X-ADDRESS=Good Times Farm 278 Jackson Mills Road Freehold NJ 07728 United States;X-APPLE-RADIUS=500;X-TITLE=278 Jackson Mills Road:geo:-74.2885136,40.1868303
END:VEVENT
BEGIN:VEVENT
DTSTART;TZID=America/New_York:20220618T080000
DTEND;TZID=America/New_York:20220618T170000
DTSTAMP:20260423T094428
CREATED:20220113T163006Z
LAST-MODIFIED:20220113T163006Z
UID:10000652-1655539200-1655571600@esdcta.org
SUMMARY:Rhythm&Blues Equestrian Center (PA)
DESCRIPTION:USEF/USDF Dressage
URL:https://esdcta.org/event/rhythmblues-equestrian-center-pa-5/
LOCATION:Rhythm & Blues Equestrian Center\, 2450 Steinsburg Rd\, Quakertown\, PA\, 18951\, United States
CATEGORIES:Dressage
ATTACH;FMTTYPE=:
GEO:40.4551978;-75.4324816
X-APPLE-STRUCTURED-LOCATION;VALUE=URI;X-ADDRESS=Rhythm & Blues Equestrian Center 2450 Steinsburg Rd Quakertown PA 18951 United States;X-APPLE-RADIUS=500;X-TITLE=2450 Steinsburg Rd:geo:-75.4324816,40.4551978
END:VEVENT
BEGIN:VEVENT
DTSTART;TZID=America/New_York:20220615T080000
DTEND;TZID=America/New_York:20220615T170000
DTSTAMP:20260423T094428
CREATED:20220113T171129Z
LAST-MODIFIED:20220113T171129Z
UID:10000667-1655280000-1655312400@esdcta.org
SUMMARY:Applewood Farm
DESCRIPTION:Dressage\, Combined Test\, and Clear Round
URL:https://esdcta.org/event/applewood-farm-29/
LOCATION:Applewood Farm\, 30 Fox Hill Road\, Califon\, NJ\, 07830\, United States
CATEGORIES:Dressage,Eventing
ATTACH;FMTTYPE=:
GEO:40.704441;-74.764977
X-APPLE-STRUCTURED-LOCATION;VALUE=URI;X-ADDRESS=Applewood Farm 30 Fox Hill Road Califon NJ 07830 United States;X-APPLE-RADIUS=500;X-TITLE=30 Fox Hill Road:geo:-74.764977,40.704441
END:VEVENT
BEGIN:VEVENT
DTSTART;TZID=America/New_York:20220612T080000
DTEND;TZID=America/New_York:20220612T170000
DTSTAMP:20260423T094428
CREATED:20220211T145936Z
LAST-MODIFIED:20220211T145936Z
UID:10000772-1655020800-1655053200@esdcta.org
SUMMARY:Windy Hollow Hunt June II
DESCRIPTION:USEF/USDF Dressage
URL:https://esdcta.org/event/windy-hollow-hunt-june-ii/
LOCATION:Sussex County Fairgrounds\, 37 Plains Rd\, Augusta\, NJ\, 07822\, United States
CATEGORIES:Dressage
ATTACH;FMTTYPE=:
GEO:41.1362927;-74.7164249
X-APPLE-STRUCTURED-LOCATION;VALUE=URI;X-ADDRESS=Sussex County Fairgrounds 37 Plains Rd Augusta NJ 07822 United States;X-APPLE-RADIUS=500;X-TITLE=37 Plains Rd:geo:-74.7164249,41.1362927
END:VEVENT
BEGIN:VEVENT
DTSTART;TZID=America/New_York:20220612T080000
DTEND;TZID=America/New_York:20220612T170000
DTSTAMP:20260423T094428
CREATED:20220113T182345Z
LAST-MODIFIED:20220113T182345Z
UID:10000716-1655020800-1655053200@esdcta.org
SUMMARY:Suddenly Farm
DESCRIPTION:Dressage Schooling w/ Western Dresage
URL:https://esdcta.org/event/suddenly-farm-44/
LOCATION:Suddenly Farm\, 325 Main Street\, Lumberton\, NJ\, 08048\, United States
CATEGORIES:Dressage
GEO:39.9387;-74.8235
X-APPLE-STRUCTURED-LOCATION;VALUE=URI;X-ADDRESS=Suddenly Farm 325 Main Street Lumberton NJ 08048 United States;X-APPLE-RADIUS=500;X-TITLE=325 Main Street:geo:-74.8235,39.9387
END:VEVENT
BEGIN:VEVENT
DTSTART;TZID=America/New_York:20220612T080000
DTEND;TZID=America/New_York:20220612T170000
DTSTAMP:20260423T094428
CREATED:20220113T173440Z
LAST-MODIFIED:20220113T173440Z
UID:10000684-1655020800-1655053200@esdcta.org
SUMMARY:Hidden Creek Eq. Ctr
DESCRIPTION:Dressage\, Western Dressage\, Combined Test\, and Clear Round
URL:https://esdcta.org/event/hidden-creek-eq-ctr-13/
LOCATION:NJ
CATEGORIES:Dressage,Eventing
ATTACH;FMTTYPE=:
END:VEVENT
BEGIN:VEVENT
DTSTART;TZID=America/New_York:20220611T080000
DTEND;TZID=America/New_York:20220611T170000
DTSTAMP:20260423T094428
CREATED:20220211T143631Z
LAST-MODIFIED:20220211T143631Z
UID:10000769-1654934400-1654966800@esdcta.org
SUMMARY:Dressage at Jericho
DESCRIPTION:USEF/USDF Dressage
URL:https://esdcta.org/event/dressage-at-jericho-6/
LOCATION:NJ
CATEGORIES:Dressage
END:VEVENT
BEGIN:VEVENT
DTSTART;TZID=America/New_York:20220611T080000
DTEND;TZID=America/New_York:20220611T170000
DTSTAMP:20260423T094428
CREATED:20220113T171234Z
LAST-MODIFIED:20220113T171234Z
UID:10000679-1654934400-1654966800@esdcta.org
SUMMARY:Carousel Farm
DESCRIPTION:Dressage Schooling
URL:https://esdcta.org/event/carousel-farm-16/
LOCATION:Level Up Equestrian/Augusta Training Center\, 8 Linn Smith Road\, Augusta\, NJ\, 07822\, United States
CATEGORIES:Dressage
ATTACH;FMTTYPE=:
GEO:41.138794;-74.7039379
X-APPLE-STRUCTURED-LOCATION;VALUE=URI;X-ADDRESS=Level Up Equestrian/Augusta Training Center 8 Linn Smith Road Augusta NJ 07822 United States;X-APPLE-RADIUS=500;X-TITLE=8 Linn Smith Road:geo:-74.7039379,41.138794
END:VEVENT
BEGIN:VEVENT
DTSTART;TZID=America/New_York:20220610T080000
DTEND;TZID=America/New_York:20220611T170000
DTSTAMP:20260423T094428
CREATED:20220211T143631Z
LAST-MODIFIED:20220211T143631Z
UID:10000771-1654848000-1654966800@esdcta.org
SUMMARY:Windy Hollow Hunt June I
DESCRIPTION:USEF/USDF Dressage
URL:https://esdcta.org/event/windy-hollow-hunt-june-i/
LOCATION:Sussex County Fairgrounds\, 37 Plains Rd\, Augusta\, NJ\, 07822\, United States
CATEGORIES:Dressage
ATTACH;FMTTYPE=:
GEO:41.1362927;-74.7164249
X-APPLE-STRUCTURED-LOCATION;VALUE=URI;X-ADDRESS=Sussex County Fairgrounds 37 Plains Rd Augusta NJ 07822 United States;X-APPLE-RADIUS=500;X-TITLE=37 Plains Rd:geo:-74.7164249,41.1362927
END:VEVENT
BEGIN:VEVENT
DTSTART;TZID=America/New_York:20220608T080000
DTEND;TZID=America/New_York:20220608T170000
DTSTAMP:20260423T094428
CREATED:20220113T163109Z
LAST-MODIFIED:20220113T163109Z
UID:10000664-1654675200-1654707600@esdcta.org
SUMMARY:SLM Dressage
DESCRIPTION:USEF/USDF Dressage
URL:https://esdcta.org/event/slm-dressage-18/
LOCATION:SLM Dressage\, 150 Kings Road\, Westampton\, NJ\, 08060
CATEGORIES:Dressage
END:VEVENT
BEGIN:VEVENT
DTSTART;TZID=America/New_York:20220607T020000
DTEND;TZID=America/New_York:20220607T200000
DTSTAMP:20260423T094428
CREATED:20220130T184051Z
LAST-MODIFIED:20220130T184051Z
UID:10000741-1654567200-1654632000@esdcta.org
SUMMARY:Bucks Co Horse Park TEDS
DESCRIPTION:Dressage Schooling\, Tues Eve
URL:https://esdcta.org/event/bucks-co-horse-park-teds-11/
LOCATION:Bucks County Horse Park\, 8934 Easton Rd\, Revere\, PA\, 018953\, United States
CATEGORIES:Dressage
ATTACH;FMTTYPE=:
GEO:40.5224751;-75.1684702
X-APPLE-STRUCTURED-LOCATION;VALUE=URI;X-ADDRESS=Bucks County Horse Park 8934 Easton Rd Revere PA 018953 United States;X-APPLE-RADIUS=500;X-TITLE=8934 Easton Rd:geo:-75.1684702,40.5224751
END:VEVENT
BEGIN:VEVENT
DTSTART;TZID=America/New_York:20220606T090000
DTEND;TZID=America/New_York:20220606T160000
DTSTAMP:20260423T094428
CREATED:20220113T183623Z
LAST-MODIFIED:20220113T183623Z
UID:10000721-1654506000-1654531200@esdcta.org
SUMMARY:ESDCTA Cross Country Schooling
DESCRIPTION:Cross Country Schooling at the Horse Park of New Jersey
URL:https://esdcta.org/event/esdcta-cross-country-schooling-9/
LOCATION:Horse Park of New Jersey\, 626 Rte 524\, Allentown\, New Jersey\, 08501
CATEGORIES:Eventing
ATTACH;FMTTYPE=:
END:VEVENT
BEGIN:VEVENT
DTSTART;TZID=America/New_York:20220605T080000
DTEND;TZID=America/New_York:20220605T170000
DTSTAMP:20260423T094428
CREATED:20220130T191928Z
LAST-MODIFIED:20220130T191928Z
UID:10000762-1654416000-1654448400@esdcta.org
SUMMARY:Square One
DESCRIPTION:Dressage Schooling
URL:https://esdcta.org/event/square-one-22/
LOCATION:Square One\, 315 Mattison Reservoir Avenue\, Branchville\, NJ\, 07826\, United States
CATEGORIES:Dressage
ATTACH;FMTTYPE=:
GEO:41.200032;-74.680259
X-APPLE-STRUCTURED-LOCATION;VALUE=URI;X-ADDRESS=Square One 315 Mattison Reservoir Avenue Branchville NJ 07826 United States;X-APPLE-RADIUS=500;X-TITLE=315 Mattison Reservoir Avenue:geo:-74.680259,41.200032
END:VEVENT
BEGIN:VEVENT
DTSTART;TZID=America/New_York:20220605T080000
DTEND;TZID=America/New_York:20220605T170000
DTSTAMP:20260423T094428
CREATED:20220130T183851Z
LAST-MODIFIED:20220130T183851Z
UID:10000731-1654416000-1654448400@esdcta.org
SUMMARY:Bucks Co Horse Park - Dressage at the Park II
DESCRIPTION:USEF/USDF Dressage
URL:https://esdcta.org/event/bucks-co-horse-park-dressage-at-the-park-ii-2/
LOCATION:Bucks County Horse Park\, 8934 Easton Rd\, Revere\, PA\, 018953\, United States
CATEGORIES:Dressage
ATTACH;FMTTYPE=:
GEO:40.5224751;-75.1684702
X-APPLE-STRUCTURED-LOCATION;VALUE=URI;X-ADDRESS=Bucks County Horse Park 8934 Easton Rd Revere PA 018953 United States;X-APPLE-RADIUS=500;X-TITLE=8934 Easton Rd:geo:-75.1684702,40.5224751
END:VEVENT
BEGIN:VEVENT
DTSTART;TZID=America/New_York:20220604T080000
DTEND;TZID=America/New_York:20220604T170000
DTSTAMP:20260423T094429
CREATED:20220407T231306Z
LAST-MODIFIED:20220407T231306Z
UID:10000780-1654329600-1654362000@esdcta.org
SUMMARY:Stone Tavern Schooling HT & CT
DESCRIPTION:Schooling Horse Trials + Combined Test
URL:https://esdcta.org/event/stone-tavern-schooling-ht-ct/
LOCATION:Horse Park of New Jersey\, 626 Rte 524\, Allentown\, New Jersey\, 08501
CATEGORIES:Eventing
ATTACH;FMTTYPE=:
END:VEVENT
BEGIN:VEVENT
DTSTART;TZID=America/New_York:20220604T080000
DTEND;TZID=America/New_York:20220604T170000
DTSTAMP:20260423T094429
CREATED:20220130T191928Z
LAST-MODIFIED:20220130T191928Z
UID:10000760-1654329600-1654362000@esdcta.org
SUMMARY:Good Times Farm I
DESCRIPTION:USEF/USDF Dressage
URL:https://esdcta.org/event/good-times-farm-i-5/
LOCATION:Good Times Farm\, 278 Jackson Mills Road\, Freehold\, NJ\, 07728\, United States
CATEGORIES:Dressage
ATTACH;FMTTYPE=:
GEO:40.1868303;-74.2885136
X-APPLE-STRUCTURED-LOCATION;VALUE=URI;X-ADDRESS=Good Times Farm 278 Jackson Mills Road Freehold NJ 07728 United States;X-APPLE-RADIUS=500;X-TITLE=278 Jackson Mills Road:geo:-74.2885136,40.1868303
END:VEVENT
BEGIN:VEVENT
DTSTART;TZID=America/New_York:20220604T080000
DTEND;TZID=America/New_York:20220604T170000
DTSTAMP:20260423T094429
CREATED:20220130T190301Z
LAST-MODIFIED:20220130T190301Z
UID:10000750-1654329600-1654362000@esdcta.org
SUMMARY:LVDA Schooling Show 2
DESCRIPTION:Dressage Schooling
URL:https://esdcta.org/event/lvda-schooling-show-2/
LOCATION:Hearts Journey Stables\, 425 Kromer Road\, Wind Gap\, PA\, 18091\, United States
CATEGORIES:Dressage
ATTACH;FMTTYPE=:
GEO:40.8204999;-75.3000835
X-APPLE-STRUCTURED-LOCATION;VALUE=URI;X-ADDRESS=Hearts Journey Stables 425 Kromer Road Wind Gap PA 18091 United States;X-APPLE-RADIUS=500;X-TITLE=425 Kromer Road:geo:-75.3000835,40.8204999
END:VEVENT
BEGIN:VEVENT
DTSTART;TZID=America/New_York:20220604T080000
DTEND;TZID=America/New_York:20220604T170000
DTSTAMP:20260423T094429
CREATED:20220113T181014Z
LAST-MODIFIED:20220113T181014Z
UID:10000708-1654329600-1654362000@esdcta.org
SUMMARY:Saddlebrook Ridge
DESCRIPTION:Dressage\, Western Dressage\, Combined Test\, and Clear Round
URL:https://esdcta.org/event/saddlebrook-ridge-36/
LOCATION:Saddlebrook Ridge Equestrian Center\, 10 Saddlebrook Court\, Shamong\, NJ\, 08088\, United States
CATEGORIES:Dressage,Eventing
ATTACH;FMTTYPE=:
GEO:39.8205251;-74.7828144
X-APPLE-STRUCTURED-LOCATION;VALUE=URI;X-ADDRESS=Saddlebrook Ridge Equestrian Center 10 Saddlebrook Court Shamong NJ 08088 United States;X-APPLE-RADIUS=500;X-TITLE=10 Saddlebrook Court:geo:-74.7828144,39.8205251
END:VEVENT
BEGIN:VEVENT
DTSTART;TZID=America/New_York:20220601T080000
DTEND;TZID=America/New_York:20220601T170000
DTSTAMP:20260423T094429
CREATED:20220113T182344Z
LAST-MODIFIED:20220113T182344Z
UID:10000712-1654070400-1654102800@esdcta.org
SUMMARY:Sara Schmitt Dressage
DESCRIPTION:Dressage Schooling
URL:https://esdcta.org/event/sara-schmitt-dressage/
LOCATION:NJ
CATEGORIES:Dressage
END:VEVENT
END:VCALENDAR