BEGIN:VCALENDAR
VERSION:2.0
PRODID:-//ESDCTA - ECPv6.15.20//NONSGML v1.0//EN
CALSCALE:GREGORIAN
METHOD:PUBLISH
X-ORIGINAL-URL:https://esdcta.org
X-WR-CALDESC:Events for ESDCTA
REFRESH-INTERVAL;VALUE=DURATION:PT1H
X-Robots-Tag:noindex
X-PUBLISHED-TTL:PT1H
BEGIN:VTIMEZONE
TZID:America/New_York
BEGIN:DAYLIGHT
TZOFFSETFROM:-0500
TZOFFSETTO:-0400
TZNAME:EDT
DTSTART:20210314T070000
END:DAYLIGHT
BEGIN:STANDARD
TZOFFSETFROM:-0400
TZOFFSETTO:-0500
TZNAME:EST
DTSTART:20211107T060000
END:STANDARD
BEGIN:DAYLIGHT
TZOFFSETFROM:-0500
TZOFFSETTO:-0400
TZNAME:EDT
DTSTART:20220313T070000
END:DAYLIGHT
BEGIN:STANDARD
TZOFFSETFROM:-0400
TZOFFSETTO:-0500
TZNAME:EST
DTSTART:20221106T060000
END:STANDARD
BEGIN:DAYLIGHT
TZOFFSETFROM:-0500
TZOFFSETTO:-0400
TZNAME:EDT
DTSTART:20230312T070000
END:DAYLIGHT
BEGIN:STANDARD
TZOFFSETFROM:-0400
TZOFFSETTO:-0500
TZNAME:EST
DTSTART:20231105T060000
END:STANDARD
END:VTIMEZONE
BEGIN:VEVENT
DTSTART;TZID=America/New_York:20220925T080000
DTEND;TZID=America/New_York:20220925T170000
DTSTAMP:20260423T012535
CREATED:20220130T183850Z
LAST-MODIFIED:20220130T183850Z
UID:10000728-1664092800-1664125200@esdcta.org
SUMMARY:Bucks Co Horse Park
DESCRIPTION:Schooling Horse Trials
URL:https://esdcta.org/event/bucks-co-horse-park-99/
LOCATION:Bucks County Horse Park\, 8934 Easton Rd\, Revere\, PA\, 018953\, United States
CATEGORIES:Eventing
ATTACH;FMTTYPE=:
GEO:40.5224751;-75.1684702
X-APPLE-STRUCTURED-LOCATION;VALUE=URI;X-ADDRESS=Bucks County Horse Park 8934 Easton Rd Revere PA 018953 United States;X-APPLE-RADIUS=500;X-TITLE=8934 Easton Rd:geo:-75.1684702,40.5224751
END:VEVENT
BEGIN:VEVENT
DTSTART;TZID=America/New_York:20220924T080000
DTEND;TZID=America/New_York:20220925T170000
DTSTAMP:20260423T012535
CREATED:20220113T183624Z
LAST-MODIFIED:20220113T183624Z
UID:10000723-1664006400-1664125200@esdcta.org
SUMMARY:ESDCTA NJ Horse Trials
DESCRIPTION:USEA Horse Trials
URL:https://esdcta.org/event/esdcta-nj-horse-trials-6/
LOCATION:Horse Park of New Jersey\, 626 Rte 524\, Allentown\, New Jersey\, 08501
CATEGORIES:Eventing
ATTACH;FMTTYPE=:
END:VEVENT
BEGIN:VEVENT
DTSTART;TZID=America/New_York:20220918T080000
DTEND;TZID=America/New_York:20220918T170000
DTSTAMP:20260423T012535
CREATED:20220113T174833Z
LAST-MODIFIED:20220113T174833Z
UID:10000695-1663488000-1663520400@esdcta.org
SUMMARY:Phoenix Eq. Center
DESCRIPTION:Dressage\, Combined Test\, and Horse Trials
URL:https://esdcta.org/event/phoenix-eq-center-13/
LOCATION:Phoenix Equestrian Center\, 39 Orts Rd\, Hamburg\, NJ\, 07419\, United States
CATEGORIES:Dressage,Eventing
ATTACH;FMTTYPE=:
END:VEVENT
BEGIN:VEVENT
DTSTART;TZID=America/New_York:20220917T080000
DTEND;TZID=America/New_York:20220917T170000
DTSTAMP:20260423T012535
CREATED:20220113T163010Z
LAST-MODIFIED:20220113T163010Z
UID:10000659-1663401600-1663434000@esdcta.org
SUMMARY:SLM Dressage
DESCRIPTION:Dressage Schooling w/ Western Dresage
URL:https://esdcta.org/event/slm-dressage-13/
LOCATION:SLM Dressage\, 150 Kings Road\, Westampton\, NJ\, 08060
CATEGORIES:Dressage
END:VEVENT
BEGIN:VEVENT
DTSTART;TZID=America/New_York:20220911T080000
DTEND;TZID=America/New_York:20220911T170000
DTSTAMP:20260423T012535
CREATED:20220521T183500Z
LAST-MODIFIED:20220521T183500Z
UID:10000783-1662883200-1662915600@esdcta.org
SUMMARY:Dressage at Stone Tavern II
DESCRIPTION:USEF/USDF Dressage
URL:https://esdcta.org/event/dressage-at-stone-tavern-ii-5/
LOCATION:Horse Park of New Jersey\, 626 Rte 524\, Allentown\, New Jersey\, 08501
CATEGORIES:Dressage
ATTACH;FMTTYPE=:
END:VEVENT
BEGIN:VEVENT
DTSTART;TZID=America/New_York:20220911T080000
DTEND;TZID=America/New_York:20220911T170000
DTSTAMP:20260423T012535
CREATED:20220130T191928Z
LAST-MODIFIED:20220130T191928Z
UID:10000764-1662883200-1662915600@esdcta.org
SUMMARY:Square One
DESCRIPTION:Dressage Schooling
URL:https://esdcta.org/event/square-one-24/
LOCATION:Square One\, 315 Mattison Reservoir Avenue\, Branchville\, NJ\, 07826\, United States
CATEGORIES:Dressage
ATTACH;FMTTYPE=:
GEO:41.200032;-74.680259
X-APPLE-STRUCTURED-LOCATION;VALUE=URI;X-ADDRESS=Square One 315 Mattison Reservoir Avenue Branchville NJ 07826 United States;X-APPLE-RADIUS=500;X-TITLE=315 Mattison Reservoir Avenue:geo:-74.680259,41.200032
END:VEVENT
BEGIN:VEVENT
DTSTART;TZID=America/New_York:20220911T080000
DTEND;TZID=America/New_York:20220911T170000
DTSTAMP:20260423T012535
CREATED:20220113T182349Z
LAST-MODIFIED:20220113T182349Z
UID:10000719-1662883200-1662915600@esdcta.org
SUMMARY:Suddenly Farm
DESCRIPTION:Dressage Schooling w/ Western Dresage
URL:https://esdcta.org/event/suddenly-farm-47/
LOCATION:Suddenly Farm\, 325 Main Street\, Lumberton\, NJ\, 08048\, United States
CATEGORIES:Dressage
GEO:39.9387;-74.8235
X-APPLE-STRUCTURED-LOCATION;VALUE=URI;X-ADDRESS=Suddenly Farm 325 Main Street Lumberton NJ 08048 United States;X-APPLE-RADIUS=500;X-TITLE=325 Main Street:geo:-74.8235,39.9387
END:VEVENT
BEGIN:VEVENT
DTSTART;TZID=America/New_York:20220910T080000
DTEND;TZID=America/New_York:20220910T170000
DTSTAMP:20260423T012535
CREATED:20220130T190303Z
LAST-MODIFIED:20220130T190303Z
UID:10000752-1662796800-1662829200@esdcta.org
SUMMARY:LVDA Schooling Show 4
DESCRIPTION:Dressage Schooling
URL:https://esdcta.org/event/lvda-schooling-show-4/
LOCATION:NJ
CATEGORIES:Dressage
ATTACH;FMTTYPE=:
END:VEVENT
BEGIN:VEVENT
DTSTART;TZID=America/New_York:20220910T080000
DTEND;TZID=America/New_York:20220910T170000
DTSTAMP:20260423T012535
CREATED:20220113T181014Z
LAST-MODIFIED:20220113T181014Z
UID:10000709-1662796800-1662829200@esdcta.org
SUMMARY:Saddlebrook Ridge
DESCRIPTION:Dressage & Western Dressage Schooling
URL:https://esdcta.org/event/saddlebrook-ridge-37/
LOCATION:Saddlebrook Ridge Equestrian Center\, 10 Saddlebrook Court\, Shamong\, NJ\, 08088\, United States
CATEGORIES:Dressage
ATTACH;FMTTYPE=:
GEO:39.8205251;-74.7828144
X-APPLE-STRUCTURED-LOCATION;VALUE=URI;X-ADDRESS=Saddlebrook Ridge Equestrian Center 10 Saddlebrook Court Shamong NJ 08088 United States;X-APPLE-RADIUS=500;X-TITLE=10 Saddlebrook Court:geo:-74.7828144,39.8205251
END:VEVENT
BEGIN:VEVENT
DTSTART;TZID=America/New_York:20220909T080000
DTEND;TZID=America/New_York:20220910T170000
DTSTAMP:20260423T012535
CREATED:20220521T183500Z
LAST-MODIFIED:20220521T183500Z
UID:10000782-1662710400-1662829200@esdcta.org
SUMMARY:Dressage at Stone Tavern I
DESCRIPTION:USEF/USDF Dressage
URL:https://esdcta.org/event/dressage-at-stone-tavern-i-5/
LOCATION:Horse Park of New Jersey\, 626 Rte 524\, Allentown\, New Jersey\, 08501
CATEGORIES:Dressage
ATTACH;FMTTYPE=:
END:VEVENT
BEGIN:VEVENT
DTSTART;TZID=America/New_York:20220907T080000
DTEND;TZID=America/New_York:20220907T170000
DTSTAMP:20260423T012535
CREATED:20220113T171129Z
LAST-MODIFIED:20220113T171129Z
UID:10000670-1662537600-1662570000@esdcta.org
SUMMARY:Applewood Farm
DESCRIPTION:Dressage\, Combined Test\, and Clear Round
URL:https://esdcta.org/event/applewood-farm-32/
LOCATION:Applewood Farm\, 30 Fox Hill Road\, Califon\, NJ\, 07830\, United States
CATEGORIES:Dressage,Eventing
ATTACH;FMTTYPE=:
GEO:40.704441;-74.764977
X-APPLE-STRUCTURED-LOCATION;VALUE=URI;X-ADDRESS=Applewood Farm 30 Fox Hill Road Califon NJ 07830 United States;X-APPLE-RADIUS=500;X-TITLE=30 Fox Hill Road:geo:-74.764977,40.704441
END:VEVENT
BEGIN:VEVENT
DTSTART;TZID=America/New_York:20220904T080000
DTEND;TZID=America/New_York:20220904T170000
DTSTAMP:20260423T012535
CREATED:20220130T184051Z
LAST-MODIFIED:20220130T184051Z
UID:10000738-1662278400-1662310800@esdcta.org
SUMMARY:Bucks Co Horse Park HT
DESCRIPTION:USEA Horse Trials
URL:https://esdcta.org/event/bucks-co-horse-park-ht-25/
LOCATION:Bucks County Horse Park\, 8934 Easton Rd\, Revere\, PA\, 018953\, United States
CATEGORIES:Eventing
ATTACH;FMTTYPE=:
GEO:40.5224751;-75.1684702
X-APPLE-STRUCTURED-LOCATION;VALUE=URI;X-ADDRESS=Bucks County Horse Park 8934 Easton Rd Revere PA 018953 United States;X-APPLE-RADIUS=500;X-TITLE=8934 Easton Rd:geo:-75.1684702,40.5224751
END:VEVENT
BEGIN:VEVENT
DTSTART;TZID=America/New_York:20220828T080000
DTEND;TZID=America/New_York:20220828T170000
DTSTAMP:20260423T012535
CREATED:20220130T183951Z
LAST-MODIFIED:20220130T183951Z
UID:10000735-1661673600-1661706000@esdcta.org
SUMMARY:Bucks Co Horse Park
DESCRIPTION:Dressage Schooling
URL:https://esdcta.org/event/bucks-co-horse-park-102/
LOCATION:Bucks County Horse Park\, 8934 Easton Rd\, Revere\, PA\, 018953\, United States
CATEGORIES:Dressage
ATTACH;FMTTYPE=:
GEO:40.5224751;-75.1684702
X-APPLE-STRUCTURED-LOCATION;VALUE=URI;X-ADDRESS=Bucks County Horse Park 8934 Easton Rd Revere PA 018953 United States;X-APPLE-RADIUS=500;X-TITLE=8934 Easton Rd:geo:-75.1684702,40.5224751
END:VEVENT
BEGIN:VEVENT
DTSTART;TZID=America/New_York:20220827T080000
DTEND;TZID=America/New_York:20220828T170000
DTSTAMP:20260423T012535
CREATED:20220221T162757Z
LAST-MODIFIED:20220221T162757Z
UID:10000776-1661587200-1661706000@esdcta.org
SUMMARY:Dressage Experience
DESCRIPTION:USEF/USDF Dressage
URL:https://esdcta.org/event/dressage-experience-22/
LOCATION:Horse Park of New Jersey\, 626 Rte 524\, Allentown\, New Jersey\, 08501
CATEGORIES:Dressage
END:VEVENT
BEGIN:VEVENT
DTSTART;TZID=America/New_York:20220824T080000
DTEND;TZID=America/New_York:20220824T170000
DTSTAMP:20260423T012535
CREATED:20220607T153556Z
LAST-MODIFIED:20220607T153556Z
UID:10000786-1661328000-1661360400@esdcta.org
SUMMARY:Sara Schmitt Dressage
DESCRIPTION:Dressage Schooling
URL:https://esdcta.org/event/sara-schmitt-dressage-3/
LOCATION:NJ
CATEGORIES:Dressage
END:VEVENT
BEGIN:VEVENT
DTSTART;TZID=America/New_York:20220821T080000
DTEND;TZID=America/New_York:20220821T170000
DTSTAMP:20260423T012535
CREATED:20220130T190301Z
LAST-MODIFIED:20220130T190301Z
UID:10000748-1661068800-1661101200@esdcta.org
SUMMARY:LVDA USDF Show
DESCRIPTION:USEF/USDF Dressage
URL:https://esdcta.org/event/lvda-usdf-show/
LOCATION:Bucks County Horse Park\, 8934 Easton Rd\, Revere\, PA\, 018953\, United States
CATEGORIES:Dressage
ATTACH;FMTTYPE=:
GEO:40.5224751;-75.1684702
X-APPLE-STRUCTURED-LOCATION;VALUE=URI;X-ADDRESS=Bucks County Horse Park 8934 Easton Rd Revere PA 018953 United States;X-APPLE-RADIUS=500;X-TITLE=8934 Easton Rd:geo:-75.1684702,40.5224751
END:VEVENT
BEGIN:VEVENT
DTSTART;TZID=America/New_York:20220821T080000
DTEND;TZID=America/New_York:20220821T170000
DTSTAMP:20260423T012535
CREATED:20220113T173444Z
LAST-MODIFIED:20220113T173444Z
UID:10000686-1661068800-1661101200@esdcta.org
SUMMARY:Hidden Creek Eq. Ctr
DESCRIPTION:Dressage\, Western Dressage\, Combined Test\, and Clear Round
URL:https://esdcta.org/event/hidden-creek-eq-ctr-15/
LOCATION:NJ
CATEGORIES:Dressage,Eventing
ATTACH;FMTTYPE=:
END:VEVENT
BEGIN:VEVENT
DTSTART;TZID=America/New_York:20220820T080000
DTEND;TZID=America/New_York:20220820T170000
DTSTAMP:20260423T012535
CREATED:20220130T191928Z
LAST-MODIFIED:20220130T191928Z
UID:10000761-1660982400-1661014800@esdcta.org
SUMMARY:Good Times Farm II
DESCRIPTION:USEF/USDF Dressage
URL:https://esdcta.org/event/good-times-farm-ii-5/
LOCATION:Good Times Farm\, 278 Jackson Mills Road\, Freehold\, NJ\, 07728\, United States
CATEGORIES:Dressage
ATTACH;FMTTYPE=:
GEO:40.1868303;-74.2885136
X-APPLE-STRUCTURED-LOCATION;VALUE=URI;X-ADDRESS=Good Times Farm 278 Jackson Mills Road Freehold NJ 07728 United States;X-APPLE-RADIUS=500;X-TITLE=278 Jackson Mills Road:geo:-74.2885136,40.1868303
END:VEVENT
BEGIN:VEVENT
DTSTART;TZID=America/New_York:20220820T080000
DTEND;TZID=America/New_York:20220820T170000
DTSTAMP:20260423T012535
CREATED:20211120T152223Z
LAST-MODIFIED:20211120T152223Z
UID:10000642-1660982400-1661014800@esdcta.org
SUMMARY:Applewood Farm Summer Cross Country Clinic
DESCRIPTION:Clinic
URL:https://esdcta.org/event/applewood-farm-summer-cross-country-clinic-2/
LOCATION:Applewood Farm\, 30 Fox Hill Road\, Califon\, NJ\, 07830\, United States
CATEGORIES:Eventing
ATTACH;FMTTYPE=:
GEO:40.704441;-74.764977
X-APPLE-STRUCTURED-LOCATION;VALUE=URI;X-ADDRESS=Applewood Farm 30 Fox Hill Road Califon NJ 07830 United States;X-APPLE-RADIUS=500;X-TITLE=30 Fox Hill Road:geo:-74.764977,40.704441
END:VEVENT
BEGIN:VEVENT
DTSTART;TZID=America/New_York:20220817T080000
DTEND;TZID=America/New_York:20220817T170000
DTSTAMP:20260423T012535
CREATED:20220113T171133Z
LAST-MODIFIED:20220113T171133Z
UID:10000673-1660723200-1660755600@esdcta.org
SUMMARY:Applewood Farm YEH/FEH & Mini Event
DESCRIPTION:USEA Young Event Horse\, Future Event Horse\, & Mini Event
URL:https://esdcta.org/event/applewood-farm-yeh-feh-mini-event-3/
LOCATION:Applewood Farm\, 30 Fox Hill Road\, Califon\, NJ\, 07830\, United States
CATEGORIES:Eventing
ATTACH;FMTTYPE=:
GEO:40.704441;-74.764977
X-APPLE-STRUCTURED-LOCATION;VALUE=URI;X-ADDRESS=Applewood Farm 30 Fox Hill Road Califon NJ 07830 United States;X-APPLE-RADIUS=500;X-TITLE=30 Fox Hill Road:geo:-74.764977,40.704441
END:VEVENT
BEGIN:VEVENT
DTSTART;TZID=America/New_York:20220816T020000
DTEND;TZID=America/New_York:20220816T200000
DTSTAMP:20260423T012535
CREATED:20220130T184151Z
LAST-MODIFIED:20220130T184151Z
UID:10000746-1660615200-1660680000@esdcta.org
SUMMARY:Bucks Co Horse Park TEDS
DESCRIPTION:Dressage Schooling\, Tues Eve
URL:https://esdcta.org/event/bucks-co-horse-park-teds-16/
LOCATION:Bucks County Horse Park\, 8934 Easton Rd\, Revere\, PA\, 018953\, United States
CATEGORIES:Dressage
ATTACH;FMTTYPE=:
GEO:40.5224751;-75.1684702
X-APPLE-STRUCTURED-LOCATION;VALUE=URI;X-ADDRESS=Bucks County Horse Park 8934 Easton Rd Revere PA 018953 United States;X-APPLE-RADIUS=500;X-TITLE=8934 Easton Rd:geo:-75.1684702,40.5224751
END:VEVENT
BEGIN:VEVENT
DTSTART;TZID=America/New_York:20220814T080000
DTEND;TZID=America/New_York:20220814T170000
DTSTAMP:20260423T012535
CREATED:20220130T183848Z
LAST-MODIFIED:20220130T183848Z
UID:10000727-1660464000-1660496400@esdcta.org
SUMMARY:Bucks Co Horse Park
DESCRIPTION:Dressage Schooling and CT
URL:https://esdcta.org/event/bucks-co-horse-park-98/
LOCATION:Bucks County Horse Park\, 8934 Easton Rd\, Revere\, PA\, 018953\, United States
CATEGORIES:Dressage,Eventing
ATTACH;FMTTYPE=:
GEO:40.5224751;-75.1684702
X-APPLE-STRUCTURED-LOCATION;VALUE=URI;X-ADDRESS=Bucks County Horse Park 8934 Easton Rd Revere PA 018953 United States;X-APPLE-RADIUS=500;X-TITLE=8934 Easton Rd:geo:-75.1684702,40.5224751
END:VEVENT
BEGIN:VEVENT
DTSTART;TZID=America/New_York:20220814T080000
DTEND;TZID=America/New_York:20220814T170000
DTSTAMP:20260423T012535
CREATED:20220113T182348Z
LAST-MODIFIED:20220113T182348Z
UID:10000718-1660464000-1660496400@esdcta.org
SUMMARY:Suddenly Farm
DESCRIPTION:Dressage Schooling w/ Western Dresage
URL:https://esdcta.org/event/suddenly-farm-46/
LOCATION:Suddenly Farm\, 325 Main Street\, Lumberton\, NJ\, 08048\, United States
CATEGORIES:Dressage
GEO:39.9387;-74.8235
X-APPLE-STRUCTURED-LOCATION;VALUE=URI;X-ADDRESS=Suddenly Farm 325 Main Street Lumberton NJ 08048 United States;X-APPLE-RADIUS=500;X-TITLE=325 Main Street:geo:-74.8235,39.9387
END:VEVENT
BEGIN:VEVENT
DTSTART;TZID=America/New_York:20220814T080000
DTEND;TZID=America/New_York:20220814T170000
DTSTAMP:20260423T012535
CREATED:20220113T174833Z
LAST-MODIFIED:20220113T174833Z
UID:10000694-1660464000-1660496400@esdcta.org
SUMMARY:Phoenix Eq. Center
DESCRIPTION:Dressage\, Combined Test\, and Horse Trials
URL:https://esdcta.org/event/phoenix-eq-center-12/
LOCATION:Phoenix Equestrian Center\, 39 Orts Rd\, Hamburg\, NJ\, 07419\, United States
CATEGORIES:Dressage,Eventing
ATTACH;FMTTYPE=:
END:VEVENT
BEGIN:VEVENT
DTSTART;TZID=America/New_York:20220810T080000
DTEND;TZID=America/New_York:20220810T170000
DTSTAMP:20260423T012535
CREATED:20220113T171129Z
LAST-MODIFIED:20220113T171129Z
UID:10000669-1660118400-1660150800@esdcta.org
SUMMARY:Applewood Farm
DESCRIPTION:Dressage\, Combined Test\, and Clear Round
URL:https://esdcta.org/event/applewood-farm-31/
LOCATION:Applewood Farm\, 30 Fox Hill Road\, Califon\, NJ\, 07830\, United States
CATEGORIES:Dressage,Eventing
ATTACH;FMTTYPE=:
GEO:40.704441;-74.764977
X-APPLE-STRUCTURED-LOCATION;VALUE=URI;X-ADDRESS=Applewood Farm 30 Fox Hill Road Califon NJ 07830 United States;X-APPLE-RADIUS=500;X-TITLE=30 Fox Hill Road:geo:-74.764977,40.704441
END:VEVENT
BEGIN:VEVENT
DTSTART;TZID=America/New_York:20220810T080000
DTEND;TZID=America/New_York:20220810T170000
DTSTAMP:20260423T012535
CREATED:20220113T163006Z
LAST-MODIFIED:20220113T163006Z
UID:10000654-1660118400-1660150800@esdcta.org
SUMMARY:Rhythm&Blues Equestrian Center (PA)
DESCRIPTION:USEF/USDF Dressage
URL:https://esdcta.org/event/rhythmblues-equestrian-center-pa-7/
LOCATION:Rhythm & Blues Equestrian Center\, 2450 Steinsburg Rd\, Quakertown\, PA\, 18951\, United States
CATEGORIES:Dressage
ATTACH;FMTTYPE=:
GEO:40.4551978;-75.4324816
X-APPLE-STRUCTURED-LOCATION;VALUE=URI;X-ADDRESS=Rhythm & Blues Equestrian Center 2450 Steinsburg Rd Quakertown PA 18951 United States;X-APPLE-RADIUS=500;X-TITLE=2450 Steinsburg Rd:geo:-75.4324816,40.4551978
END:VEVENT
BEGIN:VEVENT
DTSTART;TZID=America/New_York:20220809T080000
DTEND;TZID=America/New_York:20220809T170000
DTSTAMP:20260423T012535
CREATED:20220113T180913Z
LAST-MODIFIED:20220113T180913Z
UID:10000703-1660032000-1660064400@esdcta.org
SUMMARY:Red Tail Farm Aug II
DESCRIPTION:USEF/USDF Dressage
URL:https://esdcta.org/event/red-tail-farm-aug-ii-2/
LOCATION:Red Tail Farm\, 1100 Rattlesnake Bridge Rd\, Bedminster Township\, NJ\, 07921\, United States
CATEGORIES:Dressage
ATTACH;FMTTYPE=:
GEO:40.6437934;-74.7160768
X-APPLE-STRUCTURED-LOCATION;VALUE=URI;X-ADDRESS=Red Tail Farm 1100 Rattlesnake Bridge Rd Bedminster Township NJ 07921 United States;X-APPLE-RADIUS=500;X-TITLE=1100 Rattlesnake Bridge Rd:geo:-74.7160768,40.6437934
END:VEVENT
BEGIN:VEVENT
DTSTART;TZID=America/New_York:20220808T080000
DTEND;TZID=America/New_York:20220808T170000
DTSTAMP:20260423T012535
CREATED:20220113T180913Z
LAST-MODIFIED:20220113T180913Z
UID:10000702-1659945600-1659978000@esdcta.org
SUMMARY:Red Tail Farm Aug I
DESCRIPTION:USEF/USDF Dressage
URL:https://esdcta.org/event/red-tail-farm-aug-i-2/
LOCATION:Red Tail Farm\, 1100 Rattlesnake Bridge Rd\, Bedminster Township\, NJ\, 07921\, United States
CATEGORIES:Dressage
ATTACH;FMTTYPE=:
GEO:40.6437934;-74.7160768
X-APPLE-STRUCTURED-LOCATION;VALUE=URI;X-ADDRESS=Red Tail Farm 1100 Rattlesnake Bridge Rd Bedminster Township NJ 07921 United States;X-APPLE-RADIUS=500;X-TITLE=1100 Rattlesnake Bridge Rd:geo:-74.7160768,40.6437934
END:VEVENT
BEGIN:VEVENT
DTSTART;TZID=America/New_York:20220807T080000
DTEND;TZID=America/New_York:20220807T170000
DTSTAMP:20260423T012535
CREATED:20220130T191928Z
LAST-MODIFIED:20220130T191928Z
UID:10000763-1659859200-1659891600@esdcta.org
SUMMARY:Square One
DESCRIPTION:Dressage Schooling
URL:https://esdcta.org/event/square-one-23/
LOCATION:Square One\, 315 Mattison Reservoir Avenue\, Branchville\, NJ\, 07826\, United States
CATEGORIES:Dressage
ATTACH;FMTTYPE=:
GEO:41.200032;-74.680259
X-APPLE-STRUCTURED-LOCATION;VALUE=URI;X-ADDRESS=Square One 315 Mattison Reservoir Avenue Branchville NJ 07826 United States;X-APPLE-RADIUS=500;X-TITLE=315 Mattison Reservoir Avenue:geo:-74.680259,41.200032
END:VEVENT
BEGIN:VEVENT
DTSTART;TZID=America/New_York:20220807T080000
DTEND;TZID=America/New_York:20220807T170000
DTSTAMP:20260423T012535
CREATED:20220130T183951Z
LAST-MODIFIED:20220130T183951Z
UID:10000734-1659859200-1659891600@esdcta.org
SUMMARY:Bucks Co Horse Park - Dressage at the Park IV
DESCRIPTION:USEF/USDF Dressage
URL:https://esdcta.org/event/bucks-co-horse-park-dressage-at-the-park-iv-2/
LOCATION:Bucks County Horse Park\, 8934 Easton Rd\, Revere\, PA\, 018953\, United States
CATEGORIES:Dressage
ATTACH;FMTTYPE=:
GEO:40.5224751;-75.1684702
X-APPLE-STRUCTURED-LOCATION;VALUE=URI;X-ADDRESS=Bucks County Horse Park 8934 Easton Rd Revere PA 018953 United States;X-APPLE-RADIUS=500;X-TITLE=8934 Easton Rd:geo:-75.1684702,40.5224751
END:VEVENT
END:VCALENDAR