BEGIN:VCALENDAR
VERSION:2.0
PRODID:-//ESDCTA - ECPv6.15.20//NONSGML v1.0//EN
CALSCALE:GREGORIAN
METHOD:PUBLISH
X-ORIGINAL-URL:https://esdcta.org
X-WR-CALDESC:Events for ESDCTA
REFRESH-INTERVAL;VALUE=DURATION:PT1H
X-Robots-Tag:noindex
X-PUBLISHED-TTL:PT1H
BEGIN:VTIMEZONE
TZID:America/New_York
BEGIN:DAYLIGHT
TZOFFSETFROM:-0500
TZOFFSETTO:-0400
TZNAME:EDT
DTSTART:20210314T070000
END:DAYLIGHT
BEGIN:STANDARD
TZOFFSETFROM:-0400
TZOFFSETTO:-0500
TZNAME:EST
DTSTART:20211107T060000
END:STANDARD
BEGIN:DAYLIGHT
TZOFFSETFROM:-0500
TZOFFSETTO:-0400
TZNAME:EDT
DTSTART:20220313T070000
END:DAYLIGHT
BEGIN:STANDARD
TZOFFSETFROM:-0400
TZOFFSETTO:-0500
TZNAME:EST
DTSTART:20221106T060000
END:STANDARD
BEGIN:DAYLIGHT
TZOFFSETFROM:-0500
TZOFFSETTO:-0400
TZNAME:EDT
DTSTART:20230312T070000
END:DAYLIGHT
BEGIN:STANDARD
TZOFFSETFROM:-0400
TZOFFSETTO:-0500
TZNAME:EST
DTSTART:20231105T060000
END:STANDARD
BEGIN:DAYLIGHT
TZOFFSETFROM:-0500
TZOFFSETTO:-0400
TZNAME:EDT
DTSTART:20240310T070000
END:DAYLIGHT
BEGIN:STANDARD
TZOFFSETFROM:-0400
TZOFFSETTO:-0500
TZNAME:EST
DTSTART:20241103T060000
END:STANDARD
END:VTIMEZONE
BEGIN:VEVENT
DTSTART;TZID=America/New_York:20230401T080000
DTEND;TZID=America/New_York:20230401T170000
DTSTAMP:20260422T204453
CREATED:20230119T220643Z
LAST-MODIFIED:20230119T220643Z
UID:10000873-1680336000-1680368400@esdcta.org
SUMMARY:Saddlebrook Ridge
DESCRIPTION:Dressage\, Western Dressage\, Combined Test\, and Clear Round
URL:https://esdcta.org/event/saddlebrook-ridge-40/
LOCATION:Saddlebrook Ridge Equestrian Center\, 10 Saddlebrook Court\, Shamong\, NJ\, 08088\, United States
CATEGORIES:Dressage
ATTACH;FMTTYPE=:
GEO:39.8205251;-74.7828144
X-APPLE-STRUCTURED-LOCATION;VALUE=URI;X-ADDRESS=Saddlebrook Ridge Equestrian Center 10 Saddlebrook Court Shamong NJ 08088 United States;X-APPLE-RADIUS=500;X-TITLE=10 Saddlebrook Court:geo:-74.7828144,39.8205251
END:VEVENT
BEGIN:VEVENT
DTSTART;TZID=America/New_York:20230325T080000
DTEND;TZID=America/New_York:20230325T170000
DTSTAMP:20260422T204453
CREATED:20230215T205453Z
LAST-MODIFIED:20230215T205530Z
UID:10000925-1679731200-1679763600@esdcta.org
SUMMARY:Alexandria Eq. Assoc. Winter Series
DESCRIPTION:Dressage Schooling
URL:https://esdcta.org/event/alexandria-eq-assoc-winter-series-8/
LOCATION:Alexandria Park\, 242 Little York-Mt. Pleasant Road\, Milford\, NJ\, 08848\, United States
CATEGORIES:Dressage
END:VEVENT
BEGIN:VEVENT
DTSTART;TZID=America/New_York:20230319T080000
DTEND;TZID=America/New_York:20230319T170000
DTSTAMP:20260422T204453
CREATED:20230119T220440Z
LAST-MODIFIED:20230119T220440Z
UID:10000872-1679212800-1679245200@esdcta.org
SUMMARY:Bit O Woods Farm
DESCRIPTION:Dressage and Clear Round
URL:https://esdcta.org/event/bit-o-woods-farm-22/
LOCATION:Bit O Woods Farm\, 2207 Fostertown Road\, Hainesport\, NJ\, 08036\, United States
CATEGORIES:Dressage,Eventing
ATTACH;FMTTYPE=:
GEO:39.963529;-74.8435267
X-APPLE-STRUCTURED-LOCATION;VALUE=URI;X-ADDRESS=Bit O Woods Farm 2207 Fostertown Road Hainesport NJ 08036 United States;X-APPLE-RADIUS=500;X-TITLE=2207 Fostertown Road:geo:-74.8435267,39.963529
END:VEVENT
BEGIN:VEVENT
DTSTART;TZID=America/New_York:20230318T080000
DTEND;TZID=America/New_York:20230318T170000
DTSTAMP:20260422T204453
CREATED:20230215T204711Z
LAST-MODIFIED:20230215T204711Z
UID:10000921-1679126400-1679158800@esdcta.org
SUMMARY:Horse Park of NJ Winter Series
DESCRIPTION:Dressage Schooling
URL:https://esdcta.org/event/horse-park-of-nj-winter-series-9/
LOCATION:Horse Park of New Jersey\, 626 Rte 524\, Allentown\, NJ\, 08501\, United States
CATEGORIES:Dressage
GEO:40.1905006;-74.4935697
X-APPLE-STRUCTURED-LOCATION;VALUE=URI;X-ADDRESS=Horse Park of New Jersey 626 Rte 524 Allentown NJ 08501 United States;X-APPLE-RADIUS=500;X-TITLE=626 Rte 524:geo:-74.4935697,40.1905006
END:VEVENT
BEGIN:VEVENT
DTSTART;TZID=America/New_York:20230311T080000
DTEND;TZID=America/New_York:20230311T170000
DTSTAMP:20260422T204453
CREATED:20230215T205414Z
LAST-MODIFIED:20230215T205519Z
UID:10000924-1678521600-1678554000@esdcta.org
SUMMARY:Alexandria Eq. Assoc. Winter Series
DESCRIPTION:Dressage Schooling
URL:https://esdcta.org/event/alexandria-eq-assoc-winter-series-7/
LOCATION:Alexandria Park\, 242 Little York-Mt. Pleasant Road\, Milford\, NJ\, 08848\, United States
CATEGORIES:Dressage
END:VEVENT
BEGIN:VEVENT
DTSTART;TZID=America/New_York:20230310T080000
DTEND;TZID=America/New_York:20230312T170000
DTSTAMP:20260422T204453
CREATED:20230308T122338Z
LAST-MODIFIED:20230308T122338Z
UID:10000972-1678435200-1678640400@esdcta.org
SUMMARY:Applewood Farm Winter Jumping & Cavaletti Clinic
DESCRIPTION:Clinic
URL:https://esdcta.org/event/applewood-farm-winter-jumping-cavaletti-clinic/
LOCATION:Applewood Farm\, 30 Fox Hill Road\, Califon\, NJ\, 07830\, United States
CATEGORIES:Clinic
GEO:40.704441;-74.764977
X-APPLE-STRUCTURED-LOCATION;VALUE=URI;X-ADDRESS=Applewood Farm 30 Fox Hill Road Califon NJ 07830 United States;X-APPLE-RADIUS=500;X-TITLE=30 Fox Hill Road:geo:-74.764977,40.704441
END:VEVENT
BEGIN:VEVENT
DTSTART;TZID=America/New_York:20230305T080000
DTEND;TZID=America/New_York:20230305T170000
DTSTAMP:20260422T204453
CREATED:20230308T122213Z
LAST-MODIFIED:20230308T122213Z
UID:10000971-1678003200-1678035600@esdcta.org
SUMMARY:Applewood Farm New 2023 Dressage Tests - Fix-a-Test
DESCRIPTION:Fix-a-Test
URL:https://esdcta.org/event/applewood-farm-new-2023-dressage-tests-fix-a-test/
LOCATION:Applewood Farm\, 30 Fox Hill Road\, Califon\, NJ\, 07830\, United States
CATEGORIES:Clinic
GEO:40.704441;-74.764977
X-APPLE-STRUCTURED-LOCATION;VALUE=URI;X-ADDRESS=Applewood Farm 30 Fox Hill Road Califon NJ 07830 United States;X-APPLE-RADIUS=500;X-TITLE=30 Fox Hill Road:geo:-74.764977,40.704441
END:VEVENT
BEGIN:VEVENT
DTSTART;TZID=America/New_York:20230304T080000
DTEND;TZID=America/New_York:20230304T170000
DTSTAMP:20260422T204453
CREATED:20230308T122104Z
LAST-MODIFIED:20230308T122235Z
UID:10000970-1677916800-1677949200@esdcta.org
SUMMARY:Applewood Farm New 2023 Dressage Tests – Demos
DESCRIPTION:Clinic
URL:https://esdcta.org/event/applewood-farm-new-2023-dressage-tests-demos/
LOCATION:Applewood Farm\, 30 Fox Hill Road\, Califon\, NJ\, 07830\, United States
CATEGORIES:Clinic
GEO:40.704441;-74.764977
X-APPLE-STRUCTURED-LOCATION;VALUE=URI;X-ADDRESS=Applewood Farm 30 Fox Hill Road Califon NJ 07830 United States;X-APPLE-RADIUS=500;X-TITLE=30 Fox Hill Road:geo:-74.764977,40.704441
END:VEVENT
BEGIN:VEVENT
DTSTART;TZID=America/New_York:20230226T130000
DTEND;TZID=America/New_York:20230226T170000
DTSTAMP:20260422T204453
CREATED:20221206T023943Z
LAST-MODIFIED:20221206T023943Z
UID:10000811-1677416400-1677430800@esdcta.org
SUMMARY:ESDCTA Year End Awards
DESCRIPTION:Join us in celebrating all of your accomplishments this year \nat the\n2022 ESDCTA Awards Luncheon\nCopper Hill Country Club  \nRingoes\, NJ  \n1PM – 5PM \nDoors open at 12:30 to drop off silent auction items \n  \nSee your final standings here:  2022 ESDCTA Year End Awards – Final
URL:https://esdcta.org/event/esdcta-year-end-awards/
LOCATION:Copper Hill Country Club\, 100 Copper Hill Road\, Ringoes\, NJ\, 08551\, United States
GEO:40.466437;-74.870259
X-APPLE-STRUCTURED-LOCATION;VALUE=URI;X-ADDRESS=Copper Hill Country Club 100 Copper Hill Road Ringoes NJ 08551 United States;X-APPLE-RADIUS=500;X-TITLE=100 Copper Hill Road:geo:-74.870259,40.466437
END:VEVENT
BEGIN:VEVENT
DTSTART;TZID=America/New_York:20230226T080000
DTEND;TZID=America/New_York:20230226T170000
DTSTAMP:20260422T204453
CREATED:20230215T204604Z
LAST-MODIFIED:20230215T204758Z
UID:10000920-1677398400-1677430800@esdcta.org
SUMMARY:Horse Park of NJ Winter Series
DESCRIPTION:Dressage Schooling
URL:https://esdcta.org/event/horse-park-of-nj-winter-series-8/
LOCATION:Horse Park of New Jersey\, 626 Rte 524\, Allentown\, NJ\, 08501\, United States
CATEGORIES:Dressage
GEO:40.1905006;-74.4935697
X-APPLE-STRUCTURED-LOCATION;VALUE=URI;X-ADDRESS=Horse Park of New Jersey 626 Rte 524 Allentown NJ 08501 United States;X-APPLE-RADIUS=500;X-TITLE=626 Rte 524:geo:-74.4935697,40.1905006
END:VEVENT
BEGIN:VEVENT
DTSTART;TZID=America/New_York:20230225T080000
DTEND;TZID=America/New_York:20230225T170000
DTSTAMP:20260422T204453
CREATED:20230215T205043Z
LAST-MODIFIED:20230215T205609Z
UID:10000923-1677312000-1677344400@esdcta.org
SUMMARY:Alexandria Eq. Assoc. Winter Series
DESCRIPTION:Dressage Schooling
URL:https://esdcta.org/event/alexandria-eq-assoc-winter-series-6/
LOCATION:Alexandria Park\, 242 Little York-Mt. Pleasant Road\, Milford\, NJ\, 08848\, United States
CATEGORIES:Dressage
END:VEVENT
BEGIN:VEVENT
DTSTART;TZID=America/New_York:20230211T080000
DTEND;TZID=America/New_York:20230211T170000
DTSTAMP:20260422T204453
CREATED:20230215T204956Z
LAST-MODIFIED:20230215T205625Z
UID:10000922-1676102400-1676134800@esdcta.org
SUMMARY:Alexandria Eq. Assoc. Winter Series
DESCRIPTION:Dressage Schooling
URL:https://esdcta.org/event/alexandria-eq-assoc-winter-series-5/
LOCATION:Alexandria Park\, 242 Little York-Mt. Pleasant Road\, Milford\, NJ\, 08848\, United States
CATEGORIES:Dressage
END:VEVENT
BEGIN:VEVENT
DTSTART;TZID=America/New_York:20230129T080000
DTEND;TZID=America/New_York:20230129T170000
DTSTAMP:20260422T204453
CREATED:20230215T204442Z
LAST-MODIFIED:20230215T204814Z
UID:10000919-1674979200-1675011600@esdcta.org
SUMMARY:Horse Park of NJ Winter Series
DESCRIPTION:Dressage Schooling
URL:https://esdcta.org/event/horse-park-of-nj-winter-series-7/
LOCATION:Horse Park of New Jersey\, 626 Rte 524\, Allentown\, NJ\, 08501\, United States
CATEGORIES:Dressage
GEO:40.1905006;-74.4935697
X-APPLE-STRUCTURED-LOCATION;VALUE=URI;X-ADDRESS=Horse Park of New Jersey 626 Rte 524 Allentown NJ 08501 United States;X-APPLE-RADIUS=500;X-TITLE=626 Rte 524:geo:-74.4935697,40.1905006
END:VEVENT
BEGIN:VEVENT
DTSTART;TZID=America/New_York:20221203T080000
DTEND;TZID=America/New_York:20221203T170000
DTSTAMP:20260422T204453
CREATED:20221015T152458Z
LAST-MODIFIED:20221015T152458Z
UID:10000790-1670054400-1670086800@esdcta.org
SUMMARY:Alexandria Eq. Assoc. Fall Series
DESCRIPTION:Dressage Schooling
URL:https://esdcta.org/event/alexandria-eq-assoc-fall-series-3/
LOCATION:Alexandria Park\, 242 Little York-Mt. Pleasant Road\, Milford\, NJ\, 08848\, United States
CATEGORIES:Dressage
ATTACH;FMTTYPE=:
GEO:40.5877982;-75.0565806
X-APPLE-STRUCTURED-LOCATION;VALUE=URI;X-ADDRESS=Alexandria Park 242 Little York-Mt. Pleasant Road Milford NJ 08848 United States;X-APPLE-RADIUS=500;X-TITLE=242 Little York-Mt. Pleasant Road:geo:-75.0565806,40.5877982
END:VEVENT
BEGIN:VEVENT
DTSTART;TZID=America/New_York:20221125T080000
DTEND;TZID=America/New_York:20221125T170000
DTSTAMP:20260422T204453
CREATED:20220113T163109Z
LAST-MODIFIED:20220113T163109Z
UID:10000661-1669363200-1669395600@esdcta.org
SUMMARY:SLM Dressage
DESCRIPTION:Dressage Schooling w/ Western Dresage
URL:https://esdcta.org/event/slm-dressage-15/
LOCATION:SLM Dressage\, 150 Kings Road\, Westampton\, NJ\, 08060
CATEGORIES:Dressage
END:VEVENT
BEGIN:VEVENT
DTSTART;TZID=America/New_York:20221112T080000
DTEND;TZID=America/New_York:20221112T170000
DTSTAMP:20260422T204453
CREATED:20221015T152458Z
LAST-MODIFIED:20221015T152458Z
UID:10000789-1668240000-1668272400@esdcta.org
SUMMARY:Alexandria Eq. Assoc. Fall Series
DESCRIPTION:Dressage Schooling
URL:https://esdcta.org/event/alexandria-eq-assoc-fall-series-2-2/
LOCATION:Alexandria Park\, 242 Little York-Mt. Pleasant Road\, Milford\, NJ\, 08848\, United States
CATEGORIES:Dressage
ATTACH;FMTTYPE=:
GEO:40.5877982;-75.0565806
X-APPLE-STRUCTURED-LOCATION;VALUE=URI;X-ADDRESS=Alexandria Park 242 Little York-Mt. Pleasant Road Milford NJ 08848 United States;X-APPLE-RADIUS=500;X-TITLE=242 Little York-Mt. Pleasant Road:geo:-75.0565806,40.5877982
END:VEVENT
BEGIN:VEVENT
DTSTART;TZID=America/New_York:20221106T080000
DTEND;TZID=America/New_York:20221106T170000
DTSTAMP:20260422T204453
CREATED:20221101T190603Z
LAST-MODIFIED:20221101T190603Z
UID:10000810-1667721600-1667754000@esdcta.org
SUMMARY:Horse Park of NJ Schooling Fun Show
DESCRIPTION:Dressage Schooling
URL:https://esdcta.org/event/horse-park-of-nj-schooling-fun-show-2/
LOCATION:Horse Park of New Jersey\, 626 Rte 524\, Allentown\, New Jersey\, 08501
CATEGORIES:Dressage
ATTACH;FMTTYPE=:
END:VEVENT
BEGIN:VEVENT
DTSTART;TZID=America/New_York:20221106T080000
DTEND;TZID=America/New_York:20221106T170000
DTSTAMP:20260422T204453
CREATED:20220113T171234Z
LAST-MODIFIED:20220113T171234Z
UID:10000677-1667721600-1667754000@esdcta.org
SUMMARY:Bit O Woods Farm
DESCRIPTION:Dressage and Clear Round
URL:https://esdcta.org/event/bit-o-woods-farm-21/
LOCATION:Bit O Woods Farm\, 2207 Fostertown Road\, Hainesport\, NJ\, 08036\, United States
CATEGORIES:Dressage,Eventing
ATTACH;FMTTYPE=:
GEO:39.963529;-74.8435267
X-APPLE-STRUCTURED-LOCATION;VALUE=URI;X-ADDRESS=Bit O Woods Farm 2207 Fostertown Road Hainesport NJ 08036 United States;X-APPLE-RADIUS=500;X-TITLE=2207 Fostertown Road:geo:-74.8435267,39.963529
END:VEVENT
BEGIN:VEVENT
DTSTART;TZID=America/New_York:20221105T080000
DTEND;TZID=America/New_York:20221105T170000
DTSTAMP:20260422T204453
CREATED:20220113T181014Z
LAST-MODIFIED:20220113T181014Z
UID:10000711-1667635200-1667667600@esdcta.org
SUMMARY:Saddlebrook Ridge
DESCRIPTION:Dressage & Western Dressage Schooling
URL:https://esdcta.org/event/saddlebrook-ridge-39/
LOCATION:Saddlebrook Ridge Equestrian Center\, 10 Saddlebrook Court\, Shamong\, NJ\, 08088\, United States
CATEGORIES:Dressage
ATTACH;FMTTYPE=:
GEO:39.8205251;-74.7828144
X-APPLE-STRUCTURED-LOCATION;VALUE=URI;X-ADDRESS=Saddlebrook Ridge Equestrian Center 10 Saddlebrook Court Shamong NJ 08088 United States;X-APPLE-RADIUS=500;X-TITLE=10 Saddlebrook Court:geo:-74.7828144,39.8205251
END:VEVENT
BEGIN:VEVENT
DTSTART;TZID=America/New_York:20221030T080000
DTEND;TZID=America/New_York:20221030T170000
DTSTAMP:20260422T204453
CREATED:20220130T183851Z
LAST-MODIFIED:20220130T183851Z
UID:10000729-1667116800-1667149200@esdcta.org
SUMMARY:Bucks Co Horse Park
DESCRIPTION:Horse Trials
URL:https://esdcta.org/event/bucks-co-horse-park-100/
LOCATION:Bucks County Horse Park\, 8934 Easton Rd\, Revere\, PA\, 018953\, United States
CATEGORIES:Eventing
ATTACH;FMTTYPE=:
GEO:40.5224751;-75.1684702
X-APPLE-STRUCTURED-LOCATION;VALUE=URI;X-ADDRESS=Bucks County Horse Park 8934 Easton Rd Revere PA 018953 United States;X-APPLE-RADIUS=500;X-TITLE=8934 Easton Rd:geo:-75.1684702,40.5224751
END:VEVENT
BEGIN:VEVENT
DTSTART;TZID=America/New_York:20221029T080000
DTEND;TZID=America/New_York:20221029T170000
DTSTAMP:20260422T204453
CREATED:20221015T152458Z
LAST-MODIFIED:20221015T152458Z
UID:10000788-1667030400-1667062800@esdcta.org
SUMMARY:Alexandria Eq. Assoc. Fall Series
DESCRIPTION:Dressage Schooling
URL:https://esdcta.org/event/alexandria-eq-assoc-fall-series-2/
LOCATION:Alexandria Park\, 242 Little York-Mt. Pleasant Road\, Milford\, NJ\, 08848\, United States
CATEGORIES:Dressage
ATTACH;FMTTYPE=:
GEO:40.5877982;-75.0565806
X-APPLE-STRUCTURED-LOCATION;VALUE=URI;X-ADDRESS=Alexandria Park 242 Little York-Mt. Pleasant Road Milford NJ 08848 United States;X-APPLE-RADIUS=500;X-TITLE=242 Little York-Mt. Pleasant Road:geo:-75.0565806,40.5877982
END:VEVENT
BEGIN:VEVENT
DTSTART;TZID=America/New_York:20221029T080000
DTEND;TZID=America/New_York:20221029T170000
DTSTAMP:20260422T204453
CREATED:20220113T163109Z
LAST-MODIFIED:20220113T163109Z
UID:10000660-1667030400-1667062800@esdcta.org
SUMMARY:SLM Dressage
DESCRIPTION:Dressage Schooling w/ Western Dresage
URL:https://esdcta.org/event/slm-dressage-14/
LOCATION:SLM Dressage\, 150 Kings Road\, Westampton\, NJ\, 08060
CATEGORIES:Dressage
END:VEVENT
BEGIN:VEVENT
DTSTART;TZID=America/New_York:20221026T080000
DTEND;TZID=America/New_York:20221026T170000
DTSTAMP:20260422T204453
CREATED:20220113T182345Z
LAST-MODIFIED:20220113T182345Z
UID:10000713-1666771200-1666803600@esdcta.org
SUMMARY:Sara Schmitt Dressage
DESCRIPTION:Dressage Schooling
URL:https://esdcta.org/event/sara-schmitt-dressage-2/
LOCATION:NJ
CATEGORIES:Dressage
END:VEVENT
BEGIN:VEVENT
DTSTART;TZID=America/New_York:20221023T080000
DTEND;TZID=America/New_York:20221023T170000
DTSTAMP:20260422T204453
CREATED:20220113T174833Z
LAST-MODIFIED:20220113T174833Z
UID:10000696-1666512000-1666544400@esdcta.org
SUMMARY:Phoenix Eq. Center
DESCRIPTION:Dressage\, Combined Test\, and Horse Trials
URL:https://esdcta.org/event/phoenix-eq-center-14/
LOCATION:Phoenix Equestrian Center\, 39 Orts Rd\, Hamburg\, NJ\, 07419\, United States
CATEGORIES:Dressage,Eventing
ATTACH;FMTTYPE=:
END:VEVENT
BEGIN:VEVENT
DTSTART;TZID=America/New_York:20221023T080000
DTEND;TZID=America/New_York:20221023T170000
DTSTAMP:20260422T204453
CREATED:20220113T174829Z
LAST-MODIFIED:20220113T174829Z
UID:10000689-1666512000-1666544400@esdcta.org
SUMMARY:Jersey Palms
DESCRIPTION:Dressage Schooling
URL:https://esdcta.org/event/jersey-palms-18/
LOCATION:Jersey Palms Farm\, 177 S. Stump Tavern Road\, Jackson\, NJ\, 08527\, United States
CATEGORIES:Dressage
ATTACH;FMTTYPE=:
GEO:40.0900691;-74.4057337
X-APPLE-STRUCTURED-LOCATION;VALUE=URI;X-ADDRESS=Jersey Palms Farm 177 S. Stump Tavern Road Jackson NJ 08527 United States;X-APPLE-RADIUS=500;X-TITLE=177 S. Stump Tavern Road:geo:-74.4057337,40.0900691
END:VEVENT
BEGIN:VEVENT
DTSTART;TZID=America/New_York:20221015T080000
DTEND;TZID=America/New_York:20221015T170000
DTSTAMP:20260422T204453
CREATED:20220130T191924Z
LAST-MODIFIED:20220130T191924Z
UID:10000755-1665820800-1665853200@esdcta.org
SUMMARY:ESDCTA Championships & Dressage Schooling
DESCRIPTION:Dressage Schooling
URL:https://esdcta.org/event/esdcta-championships-dressage-schooling-2/
LOCATION:Horse Park of New Jersey\, 626 Rte 524\, Allentown\, New Jersey\, 08501
CATEGORIES:Dressage
ATTACH;FMTTYPE=:
END:VEVENT
BEGIN:VEVENT
DTSTART;TZID=America/New_York:20221015T080000
DTEND;TZID=America/New_York:20221015T170000
DTSTAMP:20260422T204453
CREATED:20220113T181014Z
LAST-MODIFIED:20220113T181014Z
UID:10000710-1665820800-1665853200@esdcta.org
SUMMARY:Saddlebrook Ridge
DESCRIPTION:Dressage & Western Dressage Schooling
URL:https://esdcta.org/event/saddlebrook-ridge-38/
LOCATION:Saddlebrook Ridge Equestrian Center\, 10 Saddlebrook Court\, Shamong\, NJ\, 08088\, United States
CATEGORIES:Dressage
ATTACH;FMTTYPE=:
GEO:39.8205251;-74.7828144
X-APPLE-STRUCTURED-LOCATION;VALUE=URI;X-ADDRESS=Saddlebrook Ridge Equestrian Center 10 Saddlebrook Court Shamong NJ 08088 United States;X-APPLE-RADIUS=500;X-TITLE=10 Saddlebrook Court:geo:-74.7828144,39.8205251
END:VEVENT
BEGIN:VEVENT
DTSTART;TZID=America/New_York:20221009T080000
DTEND;TZID=America/New_York:20221009T170000
DTSTAMP:20260422T204453
CREATED:20220130T192027Z
LAST-MODIFIED:20220130T192027Z
UID:10000765-1665302400-1665334800@esdcta.org
SUMMARY:Square One
DESCRIPTION:Dressage Schooling
URL:https://esdcta.org/event/square-one-25/
LOCATION:Square One\, 315 Mattison Reservoir Avenue\, Branchville\, NJ\, 07826\, United States
CATEGORIES:Dressage
ATTACH;FMTTYPE=:
GEO:41.200032;-74.680259
X-APPLE-STRUCTURED-LOCATION;VALUE=URI;X-ADDRESS=Square One 315 Mattison Reservoir Avenue Branchville NJ 07826 United States;X-APPLE-RADIUS=500;X-TITLE=315 Mattison Reservoir Avenue:geo:-74.680259,41.200032
END:VEVENT
BEGIN:VEVENT
DTSTART;TZID=America/New_York:20221009T080000
DTEND;TZID=America/New_York:20221009T170000
DTSTAMP:20260422T204453
CREATED:20220113T180913Z
LAST-MODIFIED:20220113T180913Z
UID:10000705-1665302400-1665334800@esdcta.org
SUMMARY:Red Tail Farm Oct II
DESCRIPTION:USEF/USDF Dressage
URL:https://esdcta.org/event/red-tail-farm-oct-ii-2/
LOCATION:Red Tail Farm\, 1100 Rattlesnake Bridge Rd\, Bedminster Township\, NJ\, 07921\, United States
CATEGORIES:Dressage
ATTACH;FMTTYPE=:
GEO:40.6437934;-74.7160768
X-APPLE-STRUCTURED-LOCATION;VALUE=URI;X-ADDRESS=Red Tail Farm 1100 Rattlesnake Bridge Rd Bedminster Township NJ 07921 United States;X-APPLE-RADIUS=500;X-TITLE=1100 Rattlesnake Bridge Rd:geo:-74.7160768,40.6437934
END:VEVENT
BEGIN:VEVENT
DTSTART;TZID=America/New_York:20221008T080000
DTEND;TZID=America/New_York:20221008T170000
DTSTAMP:20260422T204453
CREATED:20220130T183951Z
LAST-MODIFIED:20220130T183951Z
UID:10000736-1665216000-1665248400@esdcta.org
SUMMARY:Bucks Co Horse Park - Team Challenge
DESCRIPTION:Dressage Schooling and Team Challenge
URL:https://esdcta.org/event/bucks-co-horse-park-team-challenge-2/
LOCATION:Bucks County Horse Park\, 8934 Easton Rd\, Revere\, PA\, 018953\, United States
CATEGORIES:Dressage
ATTACH;FMTTYPE=:
GEO:40.5224751;-75.1684702
X-APPLE-STRUCTURED-LOCATION;VALUE=URI;X-ADDRESS=Bucks County Horse Park 8934 Easton Rd Revere PA 018953 United States;X-APPLE-RADIUS=500;X-TITLE=8934 Easton Rd:geo:-75.1684702,40.5224751
END:VEVENT
END:VCALENDAR