BEGIN:VCALENDAR
VERSION:2.0
PRODID:-//ESDCTA - ECPv6.15.20//NONSGML v1.0//EN
CALSCALE:GREGORIAN
METHOD:PUBLISH
X-WR-CALNAME:ESDCTA
X-ORIGINAL-URL:https://esdcta.org
X-WR-CALDESC:Events for ESDCTA
REFRESH-INTERVAL;VALUE=DURATION:PT1H
X-Robots-Tag:noindex
X-PUBLISHED-TTL:PT1H
BEGIN:VTIMEZONE
TZID:America/New_York
BEGIN:DAYLIGHT
TZOFFSETFROM:-0500
TZOFFSETTO:-0400
TZNAME:EDT
DTSTART:20220313T070000
END:DAYLIGHT
BEGIN:STANDARD
TZOFFSETFROM:-0400
TZOFFSETTO:-0500
TZNAME:EST
DTSTART:20221106T060000
END:STANDARD
BEGIN:DAYLIGHT
TZOFFSETFROM:-0500
TZOFFSETTO:-0400
TZNAME:EDT
DTSTART:20230312T070000
END:DAYLIGHT
BEGIN:STANDARD
TZOFFSETFROM:-0400
TZOFFSETTO:-0500
TZNAME:EST
DTSTART:20231105T060000
END:STANDARD
BEGIN:DAYLIGHT
TZOFFSETFROM:-0500
TZOFFSETTO:-0400
TZNAME:EDT
DTSTART:20240310T070000
END:DAYLIGHT
BEGIN:STANDARD
TZOFFSETFROM:-0400
TZOFFSETTO:-0500
TZNAME:EST
DTSTART:20241103T060000
END:STANDARD
END:VTIMEZONE
BEGIN:VEVENT
DTSTART;TZID=America/New_York:20230625T080000
DTEND;TZID=America/New_York:20230625T170000
DTSTAMP:20260422T125205
CREATED:20230331T210046Z
LAST-MODIFIED:20230331T210046Z
UID:10001010-1687680000-1687712400@esdcta.org
SUMMARY:Old Field Farm June Dressage Schooling Show
DESCRIPTION:
URL:https://esdcta.org/event/old-field-farm-june-dressage-schooling-show/
LOCATION:Old Field Farm\, 349 Sarah Wells Trail\, Goshen\, NY\, 10924\, United States
ORGANIZER;CN="Old Field Farm":MAILTO:debcorr10924@gmail.com
END:VEVENT
BEGIN:VEVENT
DTSTART;TZID=America/New_York:20230625T080000
DTEND;TZID=America/New_York:20230625T170000
DTSTAMP:20260422T125205
CREATED:20230215T220718Z
LAST-MODIFIED:20230215T220718Z
UID:10000944-1687680000-1687712400@esdcta.org
SUMMARY:Bucks Co Horse Park USEA
DESCRIPTION:USEA Horse Trials
URL:https://esdcta.org/event/bucks-co-horse-park-usea-2/
LOCATION:Bucks County Horse Park\, 8934 Easton Rd\, Revere\, PA\, 018953\, United States
CATEGORIES:Eventing
GEO:40.5224751;-75.1684702
X-APPLE-STRUCTURED-LOCATION;VALUE=URI;X-ADDRESS=Bucks County Horse Park 8934 Easton Rd Revere PA 018953 United States;X-APPLE-RADIUS=500;X-TITLE=8934 Easton Rd:geo:-75.1684702,40.5224751
END:VEVENT
BEGIN:VEVENT
DTSTART;TZID=America/New_York:20230625T080000
DTEND;TZID=America/New_York:20230625T170000
DTSTAMP:20260422T125205
CREATED:20230123T150726Z
LAST-MODIFIED:20230123T150726Z
UID:10000889-1687680000-1687712400@esdcta.org
SUMMARY:Red Tail Farm June II
DESCRIPTION:USEF/USDF Dressage
URL:https://esdcta.org/event/red-tail-farm-june-ii-8/
LOCATION:Red Tail Farm\, 1100 Rattlesnake Bridge Rd\, Bedminster Township\, NJ\, 07921\, United States
CATEGORIES:Dressage
ATTACH;FMTTYPE=:
GEO:40.6437934;-74.7160768
X-APPLE-STRUCTURED-LOCATION;VALUE=URI;X-ADDRESS=Red Tail Farm 1100 Rattlesnake Bridge Rd Bedminster Township NJ 07921 United States;X-APPLE-RADIUS=500;X-TITLE=1100 Rattlesnake Bridge Rd:geo:-74.7160768,40.6437934
END:VEVENT
BEGIN:VEVENT
DTSTART;TZID=America/New_York:20230624T080000
DTEND;TZID=America/New_York:20230624T170000
DTSTAMP:20260422T125205
CREATED:20230123T150542Z
LAST-MODIFIED:20230123T150542Z
UID:10000888-1687593600-1687626000@esdcta.org
SUMMARY:SLM Dressage
DESCRIPTION:Dressage Schooling w/ Western Dressage
URL:https://esdcta.org/event/slm-dressage-25/
LOCATION:SLM Dressage\, 150 Kings Road\, Westampton\, NJ\, 08060
CATEGORIES:Dressage
END:VEVENT
BEGIN:VEVENT
DTSTART;TZID=America/New_York:20230624T080000
DTEND;TZID=America/New_York:20230624T170000
DTSTAMP:20260422T125205
CREATED:20230123T150422Z
LAST-MODIFIED:20230123T150422Z
UID:10000887-1687593600-1687626000@esdcta.org
SUMMARY:Red Tail Farm June I
DESCRIPTION:USEF/USDF Dressage
URL:https://esdcta.org/event/red-tail-farm-june-i-8/
LOCATION:Red Tail Farm\, 1100 Rattlesnake Bridge Rd\, Bedminster Township\, NJ\, 07921\, United States
CATEGORIES:Dressage
ATTACH;FMTTYPE=:
GEO:40.6437934;-74.7160768
X-APPLE-STRUCTURED-LOCATION;VALUE=URI;X-ADDRESS=Red Tail Farm 1100 Rattlesnake Bridge Rd Bedminster Township NJ 07921 United States;X-APPLE-RADIUS=500;X-TITLE=1100 Rattlesnake Bridge Rd:geo:-74.7160768,40.6437934
END:VEVENT
BEGIN:VEVENT
DTSTART;TZID=America/New_York:20230622T080000
DTEND;TZID=America/New_York:20230625T170000
DTSTAMP:20260422T125205
CREATED:20230420T172205Z
LAST-MODIFIED:20230420T174907Z
UID:10001014-1687420800-1687712400@esdcta.org
SUMMARY:Rhythm&Blues CDI
DESCRIPTION:USEF/USDF Dressage
URL:https://esdcta.org/event/rhythmblues-cdi/
LOCATION:Rhythm & Blues Equestrian Center\, 2450 Steinsburg Rd\, Quakertown\, PA\, 18951\, United States
CATEGORIES:Dressage
GEO:40.4551978;-75.4324816
X-APPLE-STRUCTURED-LOCATION;VALUE=URI;X-ADDRESS=Rhythm & Blues Equestrian Center 2450 Steinsburg Rd Quakertown PA 18951 United States;X-APPLE-RADIUS=500;X-TITLE=2450 Steinsburg Rd:geo:-75.4324816,40.4551978
END:VEVENT
BEGIN:VEVENT
DTSTART;TZID=America/New_York:20230620T140000
DTEND;TZID=America/New_York:20230620T200000
DTSTAMP:20260422T125205
CREATED:20230215T220306Z
LAST-MODIFIED:20230215T220306Z
UID:10000941-1687269600-1687291200@esdcta.org
SUMMARY:Bucks Co Horse Park TEDS
DESCRIPTION:Dressage Schooling\, Tues Eve
URL:https://esdcta.org/event/bucks-co-horse-park-teds-23/
LOCATION:Bucks County Horse Park\, 8934 Easton Rd\, Revere\, PA\, 018953\, United States
CATEGORIES:Dressage
GEO:40.5224751;-75.1684702
X-APPLE-STRUCTURED-LOCATION;VALUE=URI;X-ADDRESS=Bucks County Horse Park 8934 Easton Rd Revere PA 018953 United States;X-APPLE-RADIUS=500;X-TITLE=8934 Easton Rd:geo:-75.1684702,40.5224751
END:VEVENT
BEGIN:VEVENT
DTSTART;TZID=America/New_York:20230618T080000
DTEND;TZID=America/New_York:20230618T170000
DTSTAMP:20260422T125205
CREATED:20230420T172205Z
LAST-MODIFIED:20230420T174934Z
UID:10001013-1687075200-1687107600@esdcta.org
SUMMARY:Rhythm&Blues II
DESCRIPTION:USEF/USDF Dressage
URL:https://esdcta.org/event/rhythmblues-ii/
LOCATION:Rhythm & Blues Equestrian Center\, 2450 Steinsburg Rd\, Quakertown\, PA\, 18951\, United States
CATEGORIES:Dressage
GEO:40.4551978;-75.4324816
X-APPLE-STRUCTURED-LOCATION;VALUE=URI;X-ADDRESS=Rhythm & Blues Equestrian Center 2450 Steinsburg Rd Quakertown PA 18951 United States;X-APPLE-RADIUS=500;X-TITLE=2450 Steinsburg Rd:geo:-75.4324816,40.4551978
END:VEVENT
BEGIN:VEVENT
DTSTART;TZID=America/New_York:20230617T080000
DTEND;TZID=America/New_York:20230618T170000
DTSTAMP:20260422T125205
CREATED:20230215T222914Z
LAST-MODIFIED:20230215T222914Z
UID:10000962-1686988800-1687107600@esdcta.org
SUMMARY:Horse Park of NJ Horse Trials II
DESCRIPTION:USEA Horse Trials
URL:https://esdcta.org/event/horse-park-of-nj-horse-trials-ii-2/
LOCATION:Horse Park of New Jersey\, 626 Rte 524\, Allentown\, NJ\, 08501\, United States
CATEGORIES:Eventing
GEO:40.1905006;-74.4935697
X-APPLE-STRUCTURED-LOCATION;VALUE=URI;X-ADDRESS=Horse Park of New Jersey 626 Rte 524 Allentown NJ 08501 United States;X-APPLE-RADIUS=500;X-TITLE=626 Rte 524:geo:-74.4935697,40.1905006
END:VEVENT
BEGIN:VEVENT
DTSTART;TZID=America/New_York:20230617T080000
DTEND;TZID=America/New_York:20230617T170000
DTSTAMP:20260422T125205
CREATED:20230420T172204Z
LAST-MODIFIED:20230420T174958Z
UID:10001012-1686988800-1687021200@esdcta.org
SUMMARY:Rhythm&Blues I
DESCRIPTION:USEF/USDF Dressage
URL:https://esdcta.org/event/rhythmblues-i/
LOCATION:Rhythm & Blues Equestrian Center\, 2450 Steinsburg Rd\, Quakertown\, PA\, 18951\, United States
CATEGORIES:Dressage
GEO:40.4551978;-75.4324816
X-APPLE-STRUCTURED-LOCATION;VALUE=URI;X-ADDRESS=Rhythm & Blues Equestrian Center 2450 Steinsburg Rd Quakertown PA 18951 United States;X-APPLE-RADIUS=500;X-TITLE=2450 Steinsburg Rd:geo:-75.4324816,40.4551978
END:VEVENT
BEGIN:VEVENT
DTSTART;TZID=America/New_York:20230617T080000
DTEND;TZID=America/New_York:20230617T170000
DTSTAMP:20260422T125205
CREATED:20230123T150308Z
LAST-MODIFIED:20230123T150308Z
UID:10000886-1686988800-1687021200@esdcta.org
SUMMARY:Good Times Farm
DESCRIPTION:Dressage Schooling
URL:https://esdcta.org/event/good-times-farm-9/
LOCATION:Good Times Farm\, 278 Jackson Mills Road\, Freehold\, NJ\, 07728\, United States
CATEGORIES:Dressage
ATTACH;FMTTYPE=:
GEO:40.1868303;-74.2885136
X-APPLE-STRUCTURED-LOCATION;VALUE=URI;X-ADDRESS=Good Times Farm 278 Jackson Mills Road Freehold NJ 07728 United States;X-APPLE-RADIUS=500;X-TITLE=278 Jackson Mills Road:geo:-74.2885136,40.1868303
END:VEVENT
BEGIN:VEVENT
DTSTART;TZID=America/New_York:20230614T080000
DTEND;TZID=America/New_York:20230614T170000
DTSTAMP:20260422T125205
CREATED:20230123T150150Z
LAST-MODIFIED:20230123T150150Z
UID:10000885-1686729600-1686762000@esdcta.org
SUMMARY:Applewood Farm
DESCRIPTION:Dressage\, Combined Test\, and Clear Round
URL:https://esdcta.org/event/applewood-farm-35/
LOCATION:Applewood Farm\, 30 Fox Hill Road\, Califon\, NJ\, 07830\, United States
CATEGORIES:Dressage,Eventing
ATTACH;FMTTYPE=:
GEO:40.704441;-74.764977
X-APPLE-STRUCTURED-LOCATION;VALUE=URI;X-ADDRESS=Applewood Farm 30 Fox Hill Road Califon NJ 07830 United States;X-APPLE-RADIUS=500;X-TITLE=30 Fox Hill Road:geo:-74.764977,40.704441
END:VEVENT
BEGIN:VEVENT
DTSTART;TZID=America/New_York:20230611T080000
DTEND;TZID=America/New_York:20230611T170000
DTSTAMP:20260422T125205
CREATED:20230316T204258Z
LAST-MODIFIED:20230325T155621Z
UID:10000995-1686470400-1686502800@esdcta.org
SUMMARY:Phoenix Eq. Center
DESCRIPTION:Dressage\, Combined Test\, and Horse Trials
URL:https://esdcta.org/event/phoenix-eq-center-17/
LOCATION:Phoenix Equestrian Center\, 39 Orts Rd\, Hamburg\, NJ\, 07419\, United States
CATEGORIES:Dressage,Eventing
END:VEVENT
BEGIN:VEVENT
DTSTART;TZID=America/New_York:20230611T080000
DTEND;TZID=America/New_York:20230611T170000
DTSTAMP:20260422T125205
CREATED:20230308T125400Z
LAST-MODIFIED:20230308T125400Z
UID:10000987-1686470400-1686502800@esdcta.org
SUMMARY:Windy Hollow Hunt June II
DESCRIPTION:USEF/USDF Dressage
URL:https://esdcta.org/event/windy-hollow-hunt-june-ii-2/
LOCATION:Sussex County Fairgrounds\, 37 Plains Rd\, Augusta\, NJ\, 07822\, United States
CATEGORIES:Dressage
GEO:41.1362927;-74.7164249
X-APPLE-STRUCTURED-LOCATION;VALUE=URI;X-ADDRESS=Sussex County Fairgrounds 37 Plains Rd Augusta NJ 07822 United States;X-APPLE-RADIUS=500;X-TITLE=37 Plains Rd:geo:-74.7164249,41.1362927
END:VEVENT
BEGIN:VEVENT
DTSTART;TZID=America/New_York:20230611T080000
DTEND;TZID=America/New_York:20230611T170000
DTSTAMP:20260422T125205
CREATED:20230215T222415Z
LAST-MODIFIED:20230512T175643Z
UID:10000958-1686470400-1686502800@esdcta.org
SUMMARY:Dressage at Jericho
DESCRIPTION:Dressage at Jericho
URL:https://esdcta.org/event/dressage-at-jericho-10/
LOCATION:Jericho Sport Horses\, 426 Pineville Rd.\, Newtown\, PA\, 18940\, United States
CATEGORIES:Dressage
GEO:40.2931234305;-74.9668876027
X-APPLE-STRUCTURED-LOCATION;VALUE=URI;X-ADDRESS=Jericho Sport Horses 426 Pineville Rd. Newtown PA 18940 United States;X-APPLE-RADIUS=500;X-TITLE=426 Pineville Rd.:geo:-74.9668876027,40.2931234305
END:VEVENT
BEGIN:VEVENT
DTSTART;TZID=America/New_York:20230611T080000
DTEND;TZID=America/New_York:20230611T170000
DTSTAMP:20260422T125205
CREATED:20230123T150049Z
LAST-MODIFIED:20230123T150049Z
UID:10000884-1686470400-1686502800@esdcta.org
SUMMARY:Suddenly Farm
DESCRIPTION:Dressage Schooling w/ Western Dressage
URL:https://esdcta.org/event/suddenly-farm-50/
LOCATION:Suddenly Farm\, 325 Main Street\, Lumberton\, NJ\, 08048\, United States
CATEGORIES:Dressage
GEO:39.9387;-74.8235
X-APPLE-STRUCTURED-LOCATION;VALUE=URI;X-ADDRESS=Suddenly Farm 325 Main Street Lumberton NJ 08048 United States;X-APPLE-RADIUS=500;X-TITLE=325 Main Street:geo:-74.8235,39.9387
END:VEVENT
BEGIN:VEVENT
DTSTART;TZID=America/New_York:20230611T080000
DTEND;TZID=America/New_York:20230611T170000
DTSTAMP:20260422T125205
CREATED:20230123T145944Z
LAST-MODIFIED:20230123T145944Z
UID:10000883-1686470400-1686502800@esdcta.org
SUMMARY:Hidden Creek Eq. Ctr
DESCRIPTION:Dressage\, Western Dressage\, Combined Test\, and Clear Round
URL:https://esdcta.org/event/hidden-creek-eq-ctr-16/
LOCATION:New Jersey
CATEGORIES:Dressage,Eventing
ATTACH;FMTTYPE=:
END:VEVENT
BEGIN:VEVENT
DTSTART;TZID=America/New_York:20230610T080000
DTEND;TZID=America/New_York:20230610T170000
DTSTAMP:20260422T125205
CREATED:20230215T222636Z
LAST-MODIFIED:20230215T222636Z
UID:10000960-1686384000-1686416400@esdcta.org
SUMMARY:Carousel Farm
DESCRIPTION:Dressage Schooling
URL:https://esdcta.org/event/carousel-farm-20/
LOCATION:Level Up Equestrian/Augusta Training Center\, 8 Linn Smith Road\, Augusta\, NJ\, 07822\, United States
CATEGORIES:Dressage
GEO:41.138794;-74.7039379
X-APPLE-STRUCTURED-LOCATION;VALUE=URI;X-ADDRESS=Level Up Equestrian/Augusta Training Center 8 Linn Smith Road Augusta NJ 07822 United States;X-APPLE-RADIUS=500;X-TITLE=8 Linn Smith Road:geo:-74.7039379,41.138794
END:VEVENT
BEGIN:VEVENT
DTSTART;TZID=America/New_York:20230609T080000
DTEND;TZID=America/New_York:20230610T170000
DTSTAMP:20260422T125205
CREATED:20230308T125257Z
LAST-MODIFIED:20230308T125257Z
UID:10000986-1686297600-1686416400@esdcta.org
SUMMARY:Windy Hollow Hunt June I
DESCRIPTION:USEF/USDF Dressage
URL:https://esdcta.org/event/windy-hollow-hunt-june-i-2/
LOCATION:Sussex County Fairgrounds\, 37 Plains Rd\, Augusta\, NJ\, 07822\, United States
CATEGORIES:Dressage
GEO:41.1362927;-74.7164249
X-APPLE-STRUCTURED-LOCATION;VALUE=URI;X-ADDRESS=Sussex County Fairgrounds 37 Plains Rd Augusta NJ 07822 United States;X-APPLE-RADIUS=500;X-TITLE=37 Plains Rd:geo:-74.7164249,41.1362927
END:VEVENT
BEGIN:VEVENT
DTSTART;TZID=America/New_York:20230607T080000
DTEND;TZID=America/New_York:20230607T170000
DTSTAMP:20260422T125205
CREATED:20221015T152500Z
LAST-MODIFIED:20221015T152500Z
UID:10000809-1686124800-1686157200@esdcta.org
SUMMARY:SLM Dressage
DESCRIPTION:USEF/USDF Dressage
URL:https://esdcta.org/event/slm-dressage-23/
LOCATION:SLM Dressage\, 150 Kings Road\, Westampton\, NJ\, 08060
CATEGORIES:Dressage
END:VEVENT
BEGIN:VEVENT
DTSTART;TZID=America/New_York:20230606T140000
DTEND;TZID=America/New_York:20230606T200000
DTSTAMP:20260422T125205
CREATED:20230215T220420Z
LAST-MODIFIED:20230215T220420Z
UID:10000942-1686060000-1686081600@esdcta.org
SUMMARY:Bucks Co Horse Park TEDS
DESCRIPTION:Dressage Schooling\, Tues Eve
URL:https://esdcta.org/event/bucks-co-horse-park-teds-24/
LOCATION:Bucks County Horse Park\, 8934 Easton Rd\, Revere\, PA\, 018953\, United States
CATEGORIES:Dressage
GEO:40.5224751;-75.1684702
X-APPLE-STRUCTURED-LOCATION;VALUE=URI;X-ADDRESS=Bucks County Horse Park 8934 Easton Rd Revere PA 018953 United States;X-APPLE-RADIUS=500;X-TITLE=8934 Easton Rd:geo:-75.1684702,40.5224751
END:VEVENT
BEGIN:VEVENT
DTSTART;TZID=America/New_York:20230604T080000
DTEND;TZID=America/New_York:20230604T170000
DTSTAMP:20260422T125205
CREATED:20230215T222247Z
LAST-MODIFIED:20230215T222247Z
UID:10000957-1685865600-1685898000@esdcta.org
SUMMARY:Square One
DESCRIPTION:Dressage Schooling
URL:https://esdcta.org/event/square-one-29/
LOCATION:Square One\, 315 Mattison Reservoir Avenue\, Branchville\, NJ\, 07826\, United States
CATEGORIES:Dressage
GEO:41.200032;-74.680259
X-APPLE-STRUCTURED-LOCATION;VALUE=URI;X-ADDRESS=Square One 315 Mattison Reservoir Avenue Branchville NJ 07826 United States;X-APPLE-RADIUS=500;X-TITLE=315 Mattison Reservoir Avenue:geo:-74.680259,41.200032
END:VEVENT
BEGIN:VEVENT
DTSTART;TZID=America/New_York:20230604T080000
DTEND;TZID=America/New_York:20230604T170000
DTSTAMP:20260422T125205
CREATED:20230215T221254Z
LAST-MODIFIED:20230215T221254Z
UID:10000949-1685865600-1685898000@esdcta.org
SUMMARY:Bucks Co Horse Park - Dressage at the Park II
DESCRIPTION:USEF/USDF Dressage
URL:https://esdcta.org/event/bucks-co-horse-park-dressage-at-the-park-ii-3/
LOCATION:Bucks County Horse Park\, 8934 Easton Rd\, Revere\, PA\, 018953\, United States
CATEGORIES:Dressage
GEO:40.5224751;-75.1684702
X-APPLE-STRUCTURED-LOCATION;VALUE=URI;X-ADDRESS=Bucks County Horse Park 8934 Easton Rd Revere PA 018953 United States;X-APPLE-RADIUS=500;X-TITLE=8934 Easton Rd:geo:-75.1684702,40.5224751
END:VEVENT
BEGIN:VEVENT
DTSTART;TZID=America/New_York:20230603T080000
DTEND;TZID=America/New_York:20230603T170000
DTSTAMP:20260422T125205
CREATED:20230325T161824Z
LAST-MODIFIED:20230325T161824Z
UID:10001005-1685779200-1685811600@esdcta.org
SUMMARY:LVDA Schooling Show II
DESCRIPTION:Dressage Schooling
URL:https://esdcta.org/event/lvda-schooling-show-ii-2/
LOCATION:Hearts Journey Stables\, 425 Kromer Road\, Wind Gap\, PA\, 18091\, United States
CATEGORIES:Dressage
GEO:40.8204999;-75.3000835
X-APPLE-STRUCTURED-LOCATION;VALUE=URI;X-ADDRESS=Hearts Journey Stables 425 Kromer Road Wind Gap PA 18091 United States;X-APPLE-RADIUS=500;X-TITLE=425 Kromer Road:geo:-75.3000835,40.8204999
END:VEVENT
BEGIN:VEVENT
DTSTART;TZID=America/New_York:20230603T080000
DTEND;TZID=America/New_York:20230603T170000
DTSTAMP:20260422T125205
CREATED:20230123T145811Z
LAST-MODIFIED:20230123T145811Z
UID:10000882-1685779200-1685811600@esdcta.org
SUMMARY:Good Times Farm I
DESCRIPTION:USEF/USDF Dressage
URL:https://esdcta.org/event/good-times-farm-i-6/
LOCATION:Good Times Farm\, 278 Jackson Mills Road\, Freehold\, NJ\, 07728\, United States
CATEGORIES:Dressage
ATTACH;FMTTYPE=:
GEO:40.1868303;-74.2885136
X-APPLE-STRUCTURED-LOCATION;VALUE=URI;X-ADDRESS=Good Times Farm 278 Jackson Mills Road Freehold NJ 07728 United States;X-APPLE-RADIUS=500;X-TITLE=278 Jackson Mills Road:geo:-74.2885136,40.1868303
END:VEVENT
BEGIN:VEVENT
DTSTART;TZID=America/New_York:20230603T080000
DTEND;TZID=America/New_York:20230603T170000
DTSTAMP:20260422T125205
CREATED:20230123T145653Z
LAST-MODIFIED:20230123T145653Z
UID:10000881-1685779200-1685811600@esdcta.org
SUMMARY:Saddlebrook Ridge
DESCRIPTION:Dressage\, Western Dressage\, Combined Test\, and Clear Round
URL:https://esdcta.org/event/saddlebrook-ridge-42/
LOCATION:Saddlebrook Ridge Equestrian Center\, 10 Saddlebrook Court\, Shamong\, NJ\, 08088\, United States
CATEGORIES:Dressage,Eventing
ATTACH;FMTTYPE=:
GEO:39.8205251;-74.7828144
X-APPLE-STRUCTURED-LOCATION;VALUE=URI;X-ADDRESS=Saddlebrook Ridge Equestrian Center 10 Saddlebrook Court Shamong NJ 08088 United States;X-APPLE-RADIUS=500;X-TITLE=10 Saddlebrook Court:geo:-74.7828144,39.8205251
END:VEVENT
BEGIN:VEVENT
DTSTART;TZID=America/New_York:20230602T080000
DTEND;TZID=America/New_York:20230602T170000
DTSTAMP:20260422T125205
CREATED:20230310T202657Z
LAST-MODIFIED:20230310T202657Z
UID:10000988-1685692800-1685725200@esdcta.org
SUMMARY:ESDCTA Cross Country Schooling
DESCRIPTION:Cross Country Schooling at the Horse Park of New Jersey
URL:https://esdcta.org/event/esdcta-cross-country-schooling-11/
LOCATION:Horse Park of New Jersey\, 626 Rte 524\, Allentown\, New Jersey\, 08501
CATEGORIES:Eventing
END:VEVENT
BEGIN:VEVENT
DTSTART;TZID=America/New_York:20230531T080000
DTEND;TZID=America/New_York:20230531T170000
DTSTAMP:20260422T125205
CREATED:20230123T145534Z
LAST-MODIFIED:20230123T145534Z
UID:10000880-1685520000-1685552400@esdcta.org
SUMMARY:Sara Schmitt Dressage
DESCRIPTION:Dressage Schooling
URL:https://esdcta.org/event/sara-schmitt-dressage-4/
LOCATION:New Jersey
CATEGORIES:Dressage
END:VEVENT
BEGIN:VEVENT
DTSTART;TZID=America/New_York:20230528T080000
DTEND;TZID=America/New_York:20230528T170000
DTSTAMP:20260422T125205
CREATED:20230308T124759Z
LAST-MODIFIED:20230308T124759Z
UID:10000982-1685260800-1685293200@esdcta.org
SUMMARY:ESDCTA Memorial W/E Dressage & Dressage Sport Horse Breed Show II
DESCRIPTION:USEF/USDF Dressage
URL:https://esdcta.org/event/esdcta-memorial-w-e-dressage-dressage-sport-horse-breed-show-ii/
LOCATION:Horse Park of New Jersey\, 626 Rte 524\, Allentown\, NJ\, 08501\, United States
CATEGORIES:Dressage
GEO:40.1905006;-74.4935697
X-APPLE-STRUCTURED-LOCATION;VALUE=URI;X-ADDRESS=Horse Park of New Jersey 626 Rte 524 Allentown NJ 08501 United States;X-APPLE-RADIUS=500;X-TITLE=626 Rte 524:geo:-74.4935697,40.1905006
END:VEVENT
BEGIN:VEVENT
DTSTART;TZID=America/New_York:20230527T080000
DTEND;TZID=America/New_York:20230527T170000
DTSTAMP:20260422T125205
CREATED:20230308T124653Z
LAST-MODIFIED:20230308T124653Z
UID:10000981-1685174400-1685206800@esdcta.org
SUMMARY:ESDCTA Memorial W/E Dressage & Dressage Sport Horse Breed Show I
DESCRIPTION:USEF/USDF Dressage
URL:https://esdcta.org/event/esdcta-memorial-w-e-dressage-dressage-sport-horse-breed-show-i/
LOCATION:Horse Park of New Jersey\, 626 Rte 524\, Allentown\, NJ\, 08501\, United States
CATEGORIES:Dressage
GEO:40.1905006;-74.4935697
X-APPLE-STRUCTURED-LOCATION;VALUE=URI;X-ADDRESS=Horse Park of New Jersey 626 Rte 524 Allentown NJ 08501 United States;X-APPLE-RADIUS=500;X-TITLE=626 Rte 524:geo:-74.4935697,40.1905006
END:VEVENT
END:VCALENDAR