BEGIN:VCALENDAR
VERSION:2.0
PRODID:-//ESDCTA - ECPv6.15.20//NONSGML v1.0//EN
CALSCALE:GREGORIAN
METHOD:PUBLISH
X-ORIGINAL-URL:https://esdcta.org
X-WR-CALDESC:Events for ESDCTA
REFRESH-INTERVAL;VALUE=DURATION:PT1H
X-Robots-Tag:noindex
X-PUBLISHED-TTL:PT1H
BEGIN:VTIMEZONE
TZID:America/New_York
BEGIN:DAYLIGHT
TZOFFSETFROM:-0500
TZOFFSETTO:-0400
TZNAME:EDT
DTSTART:20220313T070000
END:DAYLIGHT
BEGIN:STANDARD
TZOFFSETFROM:-0400
TZOFFSETTO:-0500
TZNAME:EST
DTSTART:20221106T060000
END:STANDARD
BEGIN:DAYLIGHT
TZOFFSETFROM:-0500
TZOFFSETTO:-0400
TZNAME:EDT
DTSTART:20230312T070000
END:DAYLIGHT
BEGIN:STANDARD
TZOFFSETFROM:-0400
TZOFFSETTO:-0500
TZNAME:EST
DTSTART:20231105T060000
END:STANDARD
BEGIN:DAYLIGHT
TZOFFSETFROM:-0500
TZOFFSETTO:-0400
TZNAME:EDT
DTSTART:20240310T070000
END:DAYLIGHT
BEGIN:STANDARD
TZOFFSETFROM:-0400
TZOFFSETTO:-0500
TZNAME:EST
DTSTART:20241103T060000
END:STANDARD
END:VTIMEZONE
BEGIN:VEVENT
DTSTART;TZID=America/New_York:20230729T080000
DTEND;TZID=America/New_York:20230729T170000
DTSTAMP:20260422T093527
CREATED:20230215T223902Z
LAST-MODIFIED:20230215T223902Z
UID:10000968-1690617600-1690650000@esdcta.org
SUMMARY:Stone Tavern Schooling HT & CT
DESCRIPTION:Schooling Horse Trials + Combined Test
URL:https://esdcta.org/event/stone-tavern-schooling-ht-ct-4/
LOCATION:Horse Park of New Jersey\, 626 Rte 524\, Allentown\, NJ\, 08501\, United States
CATEGORIES:Eventing
GEO:40.1905006;-74.4935697
X-APPLE-STRUCTURED-LOCATION;VALUE=URI;X-ADDRESS=Horse Park of New Jersey 626 Rte 524 Allentown NJ 08501 United States;X-APPLE-RADIUS=500;X-TITLE=626 Rte 524:geo:-74.4935697,40.1905006
END:VEVENT
BEGIN:VEVENT
DTSTART;TZID=America/New_York:20230726T080000
DTEND;TZID=America/New_York:20230726T170000
DTSTAMP:20260422T093527
CREATED:20230308T125016Z
LAST-MODIFIED:20230308T125016Z
UID:10000984-1690358400-1690390800@esdcta.org
SUMMARY:ESDCTA Summer Days II
DESCRIPTION:USEF/USDF Dressage
URL:https://esdcta.org/event/esdcta-summer-days-ii-7/
LOCATION:US Equestrian Team Headquarters\, 1040 Pottersville Road\, Gladstone\, NJ\, 07934-2053\, United States
CATEGORIES:Dressage
GEO:40.71896;-74.6873304
X-APPLE-STRUCTURED-LOCATION;VALUE=URI;X-ADDRESS=US Equestrian Team Headquarters 1040 Pottersville Road Gladstone NJ 07934-2053 United States;X-APPLE-RADIUS=500;X-TITLE=1040 Pottersville Road:geo:-74.6873304,40.71896
END:VEVENT
BEGIN:VEVENT
DTSTART;TZID=America/New_York:20230725T080000
DTEND;TZID=America/New_York:20230725T170000
DTSTAMP:20260422T093527
CREATED:20230308T124906Z
LAST-MODIFIED:20230308T124906Z
UID:10000983-1690272000-1690304400@esdcta.org
SUMMARY:ESDCTA Summer Days I
DESCRIPTION:USEF/USDF Dressage
URL:https://esdcta.org/event/esdcta-summer-days-i-6/
LOCATION:US Equestrian Team Headquarters\, 1040 Pottersville Road\, Gladstone\, NJ\, 07934-2053\, United States
CATEGORIES:Dressage
GEO:40.71896;-74.6873304
X-APPLE-STRUCTURED-LOCATION;VALUE=URI;X-ADDRESS=US Equestrian Team Headquarters 1040 Pottersville Road Gladstone NJ 07934-2053 United States;X-APPLE-RADIUS=500;X-TITLE=1040 Pottersville Road:geo:-74.6873304,40.71896
END:VEVENT
BEGIN:VEVENT
DTSTART;TZID=America/New_York:20230723T080000
DTEND;TZID=America/New_York:20230723T170000
DTSTAMP:20260422T093527
CREATED:20230325T161828Z
LAST-MODIFIED:20230325T161828Z
UID:10001006-1690099200-1690131600@esdcta.org
SUMMARY:LVDA Schooling Show III
DESCRIPTION:Dressage Schooling
URL:https://esdcta.org/event/lvda-schooling-show-iii/
LOCATION:New Jersey
CATEGORIES:Dressage
END:VEVENT
BEGIN:VEVENT
DTSTART;TZID=America/New_York:20230723T080000
DTEND;TZID=America/New_York:20230723T170000
DTSTAMP:20260422T093527
CREATED:20230308T124533Z
LAST-MODIFIED:20230308T124533Z
UID:10000980-1690099200-1690131600@esdcta.org
SUMMARY:Sussex County Dressage II
DESCRIPTION:USEF/USDF Dressage
URL:https://esdcta.org/event/sussex-county-dressage-ii/
LOCATION:Sussex County Fairgrounds\, 37 Plains Rd\, Augusta\, NJ\, 07822\, United States
CATEGORIES:Dressage
GEO:41.1362927;-74.7164249
X-APPLE-STRUCTURED-LOCATION;VALUE=URI;X-ADDRESS=Sussex County Fairgrounds 37 Plains Rd Augusta NJ 07822 United States;X-APPLE-RADIUS=500;X-TITLE=37 Plains Rd:geo:-74.7164249,41.1362927
END:VEVENT
BEGIN:VEVENT
DTSTART;TZID=America/New_York:20230722T080000
DTEND;TZID=America/New_York:20230723T170000
DTSTAMP:20260422T093527
CREATED:20230215T222805Z
LAST-MODIFIED:20230215T222805Z
UID:10000961-1690012800-1690131600@esdcta.org
SUMMARY:Horse Park of NJ Horse Trials III
DESCRIPTION:USEA Horse Trials
URL:https://esdcta.org/event/horse-park-of-nj-horse-trials-iii/
LOCATION:Horse Park of New Jersey\, 626 Rte 524\, Allentown\, NJ\, 08501\, United States
CATEGORIES:Eventing
GEO:40.1905006;-74.4935697
X-APPLE-STRUCTURED-LOCATION;VALUE=URI;X-ADDRESS=Horse Park of New Jersey 626 Rte 524 Allentown NJ 08501 United States;X-APPLE-RADIUS=500;X-TITLE=626 Rte 524:geo:-74.4935697,40.1905006
END:VEVENT
BEGIN:VEVENT
DTSTART;TZID=America/New_York:20230722T080000
DTEND;TZID=America/New_York:20230722T170000
DTSTAMP:20260422T093527
CREATED:20230517T170928Z
LAST-MODIFIED:20230517T171504Z
UID:10001016-1690012800-1690045200@esdcta.org
SUMMARY:Mane View Stables Dressage & Mini Event
DESCRIPTION:Dressage Schooling + HT
URL:https://esdcta.org/event/mane-view-stables-dressage-mini-event/
LOCATION:Mane View Stables\, 24 Oriental Road\, Shamong\, NJ\, 08088\, United States
ORGANIZER;CN="Mane View Stables":MAILTO:mvstables@outlook.com
END:VEVENT
BEGIN:VEVENT
DTSTART;TZID=America/New_York:20230721T080000
DTEND;TZID=America/New_York:20230722T170000
DTSTAMP:20260422T093527
CREATED:20230308T124427Z
LAST-MODIFIED:20230308T124427Z
UID:10000979-1689926400-1690045200@esdcta.org
SUMMARY:Sussex County Dressage I
DESCRIPTION:USEF/USDF Dressage
URL:https://esdcta.org/event/sussex-county-dressage-i/
LOCATION:Sussex County Fairgrounds\, 37 Plains Rd\, Augusta\, NJ\, 07822\, United States
CATEGORIES:Dressage
GEO:41.1362927;-74.7164249
X-APPLE-STRUCTURED-LOCATION;VALUE=URI;X-ADDRESS=Sussex County Fairgrounds 37 Plains Rd Augusta NJ 07822 United States;X-APPLE-RADIUS=500;X-TITLE=37 Plains Rd:geo:-74.7164249,41.1362927
END:VEVENT
BEGIN:VEVENT
DTSTART;TZID=America/New_York:20230719T080000
DTEND;TZID=America/New_York:20230719T170000
DTSTAMP:20260422T093527
CREATED:20230123T152149Z
LAST-MODIFIED:20230123T152149Z
UID:10000897-1689753600-1689786000@esdcta.org
SUMMARY:Red Tail Farm July II
DESCRIPTION:USEF/USDF Dressage
URL:https://esdcta.org/event/red-tail-farm-july-ii-3/
LOCATION:Red Tail Farm\, 1100 Rattlesnake Bridge Rd\, Bedminster Township\, NJ\, 07921\, United States
CATEGORIES:Dressage
ATTACH;FMTTYPE=:
GEO:40.6437934;-74.7160768
X-APPLE-STRUCTURED-LOCATION;VALUE=URI;X-ADDRESS=Red Tail Farm 1100 Rattlesnake Bridge Rd Bedminster Township NJ 07921 United States;X-APPLE-RADIUS=500;X-TITLE=1100 Rattlesnake Bridge Rd:geo:-74.7160768,40.6437934
END:VEVENT
BEGIN:VEVENT
DTSTART;TZID=America/New_York:20230719T080000
DTEND;TZID=America/New_York:20230719T170000
DTSTAMP:20260422T093527
CREATED:20230123T152043Z
LAST-MODIFIED:20230123T152043Z
UID:10000896-1689753600-1689786000@esdcta.org
SUMMARY:Applewood Farm YEH/FEH & Mini Event
DESCRIPTION:USEA Young Event Horse\, Future Event Horse\, & Mini Event
URL:https://esdcta.org/event/applewood-farm-yeh-feh-mini-event-4/
LOCATION:Applewood Farm\, 30 Fox Hill Road\, Califon\, NJ\, 07830\, United States
CATEGORIES:Eventing
ATTACH;FMTTYPE=:
GEO:40.704441;-74.764977
X-APPLE-STRUCTURED-LOCATION;VALUE=URI;X-ADDRESS=Applewood Farm 30 Fox Hill Road Califon NJ 07830 United States;X-APPLE-RADIUS=500;X-TITLE=30 Fox Hill Road:geo:-74.764977,40.704441
END:VEVENT
BEGIN:VEVENT
DTSTART;TZID=America/New_York:20230718T140000
DTEND;TZID=America/New_York:20230718T200000
DTSTAMP:20260422T093527
CREATED:20230215T215710Z
LAST-MODIFIED:20230215T215938Z
UID:10000939-1689688800-1689710400@esdcta.org
SUMMARY:Bucks Co Horse Park TEDS
DESCRIPTION:Dressage Schooling\, Tues Eve
URL:https://esdcta.org/event/bucks-co-horse-park-teds-21/
LOCATION:Bucks County Horse Park\, 8934 Easton Rd\, Revere\, PA\, 018953\, United States
CATEGORIES:Dressage
GEO:40.5224751;-75.1684702
X-APPLE-STRUCTURED-LOCATION;VALUE=URI;X-ADDRESS=Bucks County Horse Park 8934 Easton Rd Revere PA 018953 United States;X-APPLE-RADIUS=500;X-TITLE=8934 Easton Rd:geo:-75.1684702,40.5224751
END:VEVENT
BEGIN:VEVENT
DTSTART;TZID=America/New_York:20230718T080000
DTEND;TZID=America/New_York:20230718T170000
DTSTAMP:20260422T093527
CREATED:20230123T151927Z
LAST-MODIFIED:20230123T151927Z
UID:10000895-1689667200-1689699600@esdcta.org
SUMMARY:Red Tail Farm July I
DESCRIPTION:USEF/USDF Dressage
URL:https://esdcta.org/event/red-tail-farm-july-i-3/
LOCATION:Red Tail Farm\, 1100 Rattlesnake Bridge Rd\, Bedminster Township\, NJ\, 07921\, United States
CATEGORIES:Dressage
ATTACH;FMTTYPE=:
GEO:40.6437934;-74.7160768
X-APPLE-STRUCTURED-LOCATION;VALUE=URI;X-ADDRESS=Red Tail Farm 1100 Rattlesnake Bridge Rd Bedminster Township NJ 07921 United States;X-APPLE-RADIUS=500;X-TITLE=1100 Rattlesnake Bridge Rd:geo:-74.7160768,40.6437934
END:VEVENT
BEGIN:VEVENT
DTSTART;TZID=America/New_York:20230716T080000
DTEND;TZID=America/New_York:20230716T170000
DTSTAMP:20260422T093527
CREATED:20230316T204259Z
LAST-MODIFIED:20230325T155527Z
UID:10000996-1689494400-1689526800@esdcta.org
SUMMARY:Phoenix Eq. Center
DESCRIPTION:Dressage\, Combined Test\, and Horse Trials
URL:https://esdcta.org/event/phoenix-eq-center-18/
LOCATION:Phoenix Equestrian Center\, 39 Orts Rd\, Hamburg\, NJ\, 07419\, United States
CATEGORIES:Dressage,Eventing
END:VEVENT
BEGIN:VEVENT
DTSTART;TZID=America/New_York:20230716T080000
DTEND;TZID=America/New_York:20230716T170000
DTSTAMP:20260422T093527
CREATED:20230123T151818Z
LAST-MODIFIED:20230123T151818Z
UID:10000894-1689494400-1689526800@esdcta.org
SUMMARY:Suddenly Farm
DESCRIPTION:Dressage Schooling w/ Western Dressage
URL:https://esdcta.org/event/suddenly-farm-51/
LOCATION:Suddenly Farm\, 325 Main Street\, Lumberton\, NJ\, 08048\, United States
CATEGORIES:Dressage
GEO:39.9387;-74.8235
X-APPLE-STRUCTURED-LOCATION;VALUE=URI;X-ADDRESS=Suddenly Farm 325 Main Street Lumberton NJ 08048 United States;X-APPLE-RADIUS=500;X-TITLE=325 Main Street:geo:-74.8235,39.9387
END:VEVENT
BEGIN:VEVENT
DTSTART;TZID=America/New_York:20230715T080000
DTEND;TZID=America/New_York:20230715T170000
DTSTAMP:20260422T093527
CREATED:20230215T221147Z
LAST-MODIFIED:20230215T221147Z
UID:10000948-1689408000-1689440400@esdcta.org
SUMMARY:Bucks Co Horse Park - Dressage at the Park III
DESCRIPTION:USEF/USDF Dressage
URL:https://esdcta.org/event/bucks-co-horse-park-dressage-at-the-park-iii-3/
LOCATION:Bucks County Horse Park\, 8934 Easton Rd\, Revere\, PA\, 018953\, United States
CATEGORIES:Dressage
GEO:40.5224751;-75.1684702
X-APPLE-STRUCTURED-LOCATION;VALUE=URI;X-ADDRESS=Bucks County Horse Park 8934 Easton Rd Revere PA 018953 United States;X-APPLE-RADIUS=500;X-TITLE=8934 Easton Rd:geo:-75.1684702,40.5224751
END:VEVENT
BEGIN:VEVENT
DTSTART;TZID=America/New_York:20230715T080000
DTEND;TZID=America/New_York:20230715T170000
DTSTAMP:20260422T093527
CREATED:20230123T151724Z
LAST-MODIFIED:20230123T151724Z
UID:10000893-1689408000-1689440400@esdcta.org
SUMMARY:Bit O Woods Farm
DESCRIPTION:Dressage and Clear Round
URL:https://esdcta.org/event/bit-o-woods-farm-23/
LOCATION:Bit O Woods Farm\, 2207 Fostertown Road\, Hainesport\, NJ\, 08036\, United States
CATEGORIES:Dressage,Eventing
ATTACH;FMTTYPE=:
GEO:39.963529;-74.8435267
X-APPLE-STRUCTURED-LOCATION;VALUE=URI;X-ADDRESS=Bit O Woods Farm 2207 Fostertown Road Hainesport NJ 08036 United States;X-APPLE-RADIUS=500;X-TITLE=2207 Fostertown Road:geo:-74.8435267,39.963529
END:VEVENT
BEGIN:VEVENT
DTSTART;TZID=America/New_York:20230712T080000
DTEND;TZID=America/New_York:20230712T170000
DTSTAMP:20260422T093527
CREATED:20230123T151625Z
LAST-MODIFIED:20230123T151625Z
UID:10000892-1689148800-1689181200@esdcta.org
SUMMARY:Applewood Farm
DESCRIPTION:Dressage\, Combined Test\, and Clear Round
URL:https://esdcta.org/event/applewood-farm-36/
LOCATION:Applewood Farm\, 30 Fox Hill Road\, Califon\, NJ\, 07830\, United States
CATEGORIES:Dressage,Eventing
ATTACH;FMTTYPE=:
GEO:40.704441;-74.764977
X-APPLE-STRUCTURED-LOCATION;VALUE=URI;X-ADDRESS=Applewood Farm 30 Fox Hill Road Califon NJ 07830 United States;X-APPLE-RADIUS=500;X-TITLE=30 Fox Hill Road:geo:-74.764977,40.704441
END:VEVENT
BEGIN:VEVENT
DTSTART;TZID=America/New_York:20230709T080000
DTEND;TZID=America/New_York:20230709T170000
DTSTAMP:20260422T093527
CREATED:20230215T221623Z
LAST-MODIFIED:20230215T221623Z
UID:10000952-1688889600-1688922000@esdcta.org
SUMMARY:Bucks Co Horse Park
DESCRIPTION:Schooling Horse Trials
URL:https://esdcta.org/event/bucks-co-horse-park-108/
LOCATION:Bucks County Horse Park\, 8934 Easton Rd\, Revere\, PA\, 018953\, United States
CATEGORIES:Eventing
GEO:40.5224751;-75.1684702
X-APPLE-STRUCTURED-LOCATION;VALUE=URI;X-ADDRESS=Bucks County Horse Park 8934 Easton Rd Revere PA 018953 United States;X-APPLE-RADIUS=500;X-TITLE=8934 Easton Rd:geo:-75.1684702,40.5224751
END:VEVENT
BEGIN:VEVENT
DTSTART;TZID=America/New_York:20230709T080000
DTEND;TZID=America/New_York:20230709T170000
DTSTAMP:20260422T093527
CREATED:20230123T151525Z
LAST-MODIFIED:20230123T151525Z
UID:10000891-1688889600-1688922000@esdcta.org
SUMMARY:Hidden Creek Eq. Ctr
DESCRIPTION:Dressage\, Western Dressage\, Combined Test\, and Clear Round
URL:https://esdcta.org/event/hidden-creek-eq-ctr-17/
LOCATION:New Jersey
CATEGORIES:Dressage,Eventing
ATTACH;FMTTYPE=:
END:VEVENT
BEGIN:VEVENT
DTSTART;TZID=America/New_York:20230706T080000
DTEND;TZID=America/New_York:20230709T170000
DTSTAMP:20260422T093527
CREATED:20230215T223456Z
LAST-MODIFIED:20230215T223456Z
UID:10000965-1688630400-1688922000@esdcta.org
SUMMARY:Dressage at the Park CDI + National Show
DESCRIPTION:USEF/USDF Dressage
URL:https://esdcta.org/event/dressage-at-the-park-cdi-national-show/
LOCATION:Horse Park of New Jersey\, 626 Rte 524\, Allentown\, NJ\, 08501\, United States
CATEGORIES:Dressage
GEO:40.1905006;-74.4935697
X-APPLE-STRUCTURED-LOCATION;VALUE=URI;X-ADDRESS=Horse Park of New Jersey 626 Rte 524 Allentown NJ 08501 United States;X-APPLE-RADIUS=500;X-TITLE=626 Rte 524:geo:-74.4935697,40.1905006
END:VEVENT
BEGIN:VEVENT
DTSTART;TZID=America/New_York:20230704T140000
DTEND;TZID=America/New_York:20230704T200000
DTSTAMP:20260422T093527
CREATED:20230215T215908Z
LAST-MODIFIED:20230215T215908Z
UID:10000940-1688479200-1688500800@esdcta.org
SUMMARY:Bucks Co Horse Park TEDS
DESCRIPTION:Dressage Schooling\, Tues Eve
URL:https://esdcta.org/event/bucks-co-horse-park-teds-22/
LOCATION:Bucks County Horse Park\, 8934 Easton Rd\, Revere\, PA\, 018953\, United States
CATEGORIES:Dressage
GEO:40.5224751;-75.1684702
X-APPLE-STRUCTURED-LOCATION;VALUE=URI;X-ADDRESS=Bucks County Horse Park 8934 Easton Rd Revere PA 018953 United States;X-APPLE-RADIUS=500;X-TITLE=8934 Easton Rd:geo:-75.1684702,40.5224751
END:VEVENT
BEGIN:VEVENT
DTSTART;TZID=America/New_York:20230702T080000
DTEND;TZID=America/New_York:20230702T170000
DTSTAMP:20260422T093527
CREATED:20230215T223253Z
LAST-MODIFIED:20230215T223253Z
UID:10000964-1688284800-1688317200@esdcta.org
SUMMARY:Four Farthing Farm
DESCRIPTION:Dressage & Western Dressage Schooling
URL:https://esdcta.org/event/four-farthing-farm-2/
LOCATION:Four Farthing Farm\, 151 Holland Road\, Wantage\, NJ\, 07461\, United States
CATEGORIES:Dressage
END:VEVENT
BEGIN:VEVENT
DTSTART;TZID=America/New_York:20230701T080000
DTEND;TZID=America/New_York:20230701T170000
DTSTAMP:20260422T093527
CREATED:20230310T202657Z
LAST-MODIFIED:20230310T202657Z
UID:10000989-1688198400-1688230800@esdcta.org
SUMMARY:ESDCTA Cross Country Schooling
DESCRIPTION:Cross Country Schooling at the Horse Park of New Jersey
URL:https://esdcta.org/event/esdcta-cross-country-schooling-12/
LOCATION:Horse Park of New Jersey\, 626 Rte 524\, Allentown\, New Jersey\, 08501
CATEGORIES:Eventing
END:VEVENT
BEGIN:VEVENT
DTSTART;TZID=America/New_York:20230701T080000
DTEND;TZID=America/New_York:20230701T170000
DTSTAMP:20260422T093527
CREATED:20230123T151429Z
LAST-MODIFIED:20230123T161240Z
UID:10000890-1688198400-1688230800@esdcta.org
SUMMARY:Hearts Journey Stables
DESCRIPTION:Dressage Schooling\, Combined Test
URL:https://esdcta.org/event/hearts-journey-stables-22/
LOCATION:Hearts Journey Stables\, 425 Kromer Road\, Wind Gap\, PA\, 18091\, United States
CATEGORIES:Dressage,Eventing
ATTACH;FMTTYPE=:
GEO:40.8204999;-75.3000835
X-APPLE-STRUCTURED-LOCATION;VALUE=URI;X-ADDRESS=Hearts Journey Stables 425 Kromer Road Wind Gap PA 18091 United States;X-APPLE-RADIUS=500;X-TITLE=425 Kromer Road:geo:-75.3000835,40.8204999
END:VEVENT
BEGIN:VEVENT
DTSTART;TZID=America/New_York:20230625T080000
DTEND;TZID=America/New_York:20230625T170000
DTSTAMP:20260422T093527
CREATED:20230331T210046Z
LAST-MODIFIED:20230331T210046Z
UID:10001010-1687680000-1687712400@esdcta.org
SUMMARY:Old Field Farm June Dressage Schooling Show
DESCRIPTION:
URL:https://esdcta.org/event/old-field-farm-june-dressage-schooling-show/
LOCATION:Old Field Farm\, 349 Sarah Wells Trail\, Goshen\, NY\, 10924\, United States
ORGANIZER;CN="Old Field Farm":MAILTO:debcorr10924@gmail.com
END:VEVENT
BEGIN:VEVENT
DTSTART;TZID=America/New_York:20230625T080000
DTEND;TZID=America/New_York:20230625T170000
DTSTAMP:20260422T093527
CREATED:20230215T220718Z
LAST-MODIFIED:20230215T220718Z
UID:10000944-1687680000-1687712400@esdcta.org
SUMMARY:Bucks Co Horse Park USEA
DESCRIPTION:USEA Horse Trials
URL:https://esdcta.org/event/bucks-co-horse-park-usea-2/
LOCATION:Bucks County Horse Park\, 8934 Easton Rd\, Revere\, PA\, 018953\, United States
CATEGORIES:Eventing
GEO:40.5224751;-75.1684702
X-APPLE-STRUCTURED-LOCATION;VALUE=URI;X-ADDRESS=Bucks County Horse Park 8934 Easton Rd Revere PA 018953 United States;X-APPLE-RADIUS=500;X-TITLE=8934 Easton Rd:geo:-75.1684702,40.5224751
END:VEVENT
BEGIN:VEVENT
DTSTART;TZID=America/New_York:20230625T080000
DTEND;TZID=America/New_York:20230625T170000
DTSTAMP:20260422T093527
CREATED:20230123T150726Z
LAST-MODIFIED:20230123T150726Z
UID:10000889-1687680000-1687712400@esdcta.org
SUMMARY:Red Tail Farm June II
DESCRIPTION:USEF/USDF Dressage
URL:https://esdcta.org/event/red-tail-farm-june-ii-8/
LOCATION:Red Tail Farm\, 1100 Rattlesnake Bridge Rd\, Bedminster Township\, NJ\, 07921\, United States
CATEGORIES:Dressage
ATTACH;FMTTYPE=:
GEO:40.6437934;-74.7160768
X-APPLE-STRUCTURED-LOCATION;VALUE=URI;X-ADDRESS=Red Tail Farm 1100 Rattlesnake Bridge Rd Bedminster Township NJ 07921 United States;X-APPLE-RADIUS=500;X-TITLE=1100 Rattlesnake Bridge Rd:geo:-74.7160768,40.6437934
END:VEVENT
BEGIN:VEVENT
DTSTART;TZID=America/New_York:20230624T080000
DTEND;TZID=America/New_York:20230624T170000
DTSTAMP:20260422T093527
CREATED:20230123T150542Z
LAST-MODIFIED:20230123T150542Z
UID:10000888-1687593600-1687626000@esdcta.org
SUMMARY:SLM Dressage
DESCRIPTION:Dressage Schooling w/ Western Dressage
URL:https://esdcta.org/event/slm-dressage-25/
LOCATION:SLM Dressage\, 150 Kings Road\, Westampton\, NJ\, 08060
CATEGORIES:Dressage
END:VEVENT
BEGIN:VEVENT
DTSTART;TZID=America/New_York:20230624T080000
DTEND;TZID=America/New_York:20230624T170000
DTSTAMP:20260422T093527
CREATED:20230123T150422Z
LAST-MODIFIED:20230123T150422Z
UID:10000887-1687593600-1687626000@esdcta.org
SUMMARY:Red Tail Farm June I
DESCRIPTION:USEF/USDF Dressage
URL:https://esdcta.org/event/red-tail-farm-june-i-8/
LOCATION:Red Tail Farm\, 1100 Rattlesnake Bridge Rd\, Bedminster Township\, NJ\, 07921\, United States
CATEGORIES:Dressage
ATTACH;FMTTYPE=:
GEO:40.6437934;-74.7160768
X-APPLE-STRUCTURED-LOCATION;VALUE=URI;X-ADDRESS=Red Tail Farm 1100 Rattlesnake Bridge Rd Bedminster Township NJ 07921 United States;X-APPLE-RADIUS=500;X-TITLE=1100 Rattlesnake Bridge Rd:geo:-74.7160768,40.6437934
END:VEVENT
BEGIN:VEVENT
DTSTART;TZID=America/New_York:20230622T080000
DTEND;TZID=America/New_York:20230625T170000
DTSTAMP:20260422T093527
CREATED:20230420T172205Z
LAST-MODIFIED:20230420T174907Z
UID:10001014-1687420800-1687712400@esdcta.org
SUMMARY:Rhythm&Blues CDI
DESCRIPTION:USEF/USDF Dressage
URL:https://esdcta.org/event/rhythmblues-cdi/
LOCATION:Rhythm & Blues Equestrian Center\, 2450 Steinsburg Rd\, Quakertown\, PA\, 18951\, United States
CATEGORIES:Dressage
GEO:40.4551978;-75.4324816
X-APPLE-STRUCTURED-LOCATION;VALUE=URI;X-ADDRESS=Rhythm & Blues Equestrian Center 2450 Steinsburg Rd Quakertown PA 18951 United States;X-APPLE-RADIUS=500;X-TITLE=2450 Steinsburg Rd:geo:-75.4324816,40.4551978
END:VEVENT
END:VCALENDAR