BEGIN:VCALENDAR
VERSION:2.0
PRODID:-//ESDCTA - ECPv6.15.20//NONSGML v1.0//EN
CALSCALE:GREGORIAN
METHOD:PUBLISH
X-WR-CALNAME:ESDCTA
X-ORIGINAL-URL:https://esdcta.org
X-WR-CALDESC:Events for ESDCTA
REFRESH-INTERVAL;VALUE=DURATION:PT1H
X-Robots-Tag:noindex
X-PUBLISHED-TTL:PT1H
BEGIN:VTIMEZONE
TZID:America/New_York
BEGIN:DAYLIGHT
TZOFFSETFROM:-0500
TZOFFSETTO:-0400
TZNAME:EDT
DTSTART:20220313T070000
END:DAYLIGHT
BEGIN:STANDARD
TZOFFSETFROM:-0400
TZOFFSETTO:-0500
TZNAME:EST
DTSTART:20221106T060000
END:STANDARD
BEGIN:DAYLIGHT
TZOFFSETFROM:-0500
TZOFFSETTO:-0400
TZNAME:EDT
DTSTART:20230312T070000
END:DAYLIGHT
BEGIN:STANDARD
TZOFFSETFROM:-0400
TZOFFSETTO:-0500
TZNAME:EST
DTSTART:20231105T060000
END:STANDARD
BEGIN:DAYLIGHT
TZOFFSETFROM:-0500
TZOFFSETTO:-0400
TZNAME:EDT
DTSTART:20240310T070000
END:DAYLIGHT
BEGIN:STANDARD
TZOFFSETFROM:-0400
TZOFFSETTO:-0500
TZNAME:EST
DTSTART:20241103T060000
END:STANDARD
END:VTIMEZONE
BEGIN:VEVENT
DTSTART;TZID=America/New_York:20231022T080000
DTEND;TZID=America/New_York:20231022T170000
DTSTAMP:20260422T025801
CREATED:20231103T141820Z
LAST-MODIFIED:20231103T141820Z
UID:10001019-1697961600-1697994000@esdcta.org
SUMMARY:Free Walk Dressage Schooling Show
DESCRIPTION:Dressage Schooling
URL:https://esdcta.org/event/free-walk-dressage-schooling-show/
LOCATION:Free Walk Dressage\, 2522 Route 207\, Campbell Hall\, NY\, 10916\, United States
GEO:41.457415;-74.218818
X-APPLE-STRUCTURED-LOCATION;VALUE=URI;X-ADDRESS=Free Walk Dressage 2522 Route 207 Campbell Hall NY 10916 United States;X-APPLE-RADIUS=500;X-TITLE=2522 Route 207:geo:-74.218818,41.457415
END:VEVENT
BEGIN:VEVENT
DTSTART;TZID=America/New_York:20231022T080000
DTEND;TZID=America/New_York:20231022T170000
DTSTAMP:20260422T025801
CREATED:20230316T204303Z
LAST-MODIFIED:20230325T155130Z
UID:10000999-1697961600-1697994000@esdcta.org
SUMMARY:Phoenix Eq. Center
DESCRIPTION:Dressage\, Combined Test\, and Horse Trials
URL:https://esdcta.org/event/phoenix-eq-center-21/
LOCATION:Phoenix Equestrian Center\, 39 Orts Rd\, Hamburg\, NJ\, 07419\, United States
CATEGORIES:Dressage,Eventing
END:VEVENT
BEGIN:VEVENT
DTSTART;TZID=America/New_York:20231014T080000
DTEND;TZID=America/New_York:20231014T170000
DTSTAMP:20260422T025801
CREATED:20230310T202659Z
LAST-MODIFIED:20230310T202659Z
UID:10000992-1697270400-1697302800@esdcta.org
SUMMARY:WillsWay Equestrian Center
DESCRIPTION:Dressage Schooling
URL:https://esdcta.org/event/willsway-equestrian-center-4/
LOCATION:WillsWay Equestrian Center\, 120 Conklingtown Road\, Goshen\, NY\, 10924\, United States
CATEGORIES:Dressage
END:VEVENT
BEGIN:VEVENT
DTSTART;TZID=America/New_York:20231014T080000
DTEND;TZID=America/New_York:20231014T170000
DTSTAMP:20260422T025801
CREATED:20230123T154231Z
LAST-MODIFIED:20230123T154231Z
UID:10000915-1697270400-1697302800@esdcta.org
SUMMARY:Saddlebrook Ridge
DESCRIPTION:Dressage & Western Dressage Schooling
URL:https://esdcta.org/event/saddlebrook-ridge-44/
LOCATION:Saddlebrook Ridge Equestrian Center\, 10 Saddlebrook Court\, Shamong\, NJ\, 08088\, United States
CATEGORIES:Dressage
ATTACH;FMTTYPE=:
GEO:39.8205251;-74.7828144
X-APPLE-STRUCTURED-LOCATION;VALUE=URI;X-ADDRESS=Saddlebrook Ridge Equestrian Center 10 Saddlebrook Court Shamong NJ 08088 United States;X-APPLE-RADIUS=500;X-TITLE=10 Saddlebrook Court:geo:-74.7828144,39.8205251
END:VEVENT
BEGIN:VEVENT
DTSTART;TZID=America/New_York:20231012T080000
DTEND;TZID=America/New_York:20231015T170000
DTSTAMP:20260422T025801
CREATED:20230215T224036Z
LAST-MODIFIED:20230215T224036Z
UID:10000969-1697097600-1697389200@esdcta.org
SUMMARY:CBLM Championships 2023
DESCRIPTION:USEF/USDF Dressage
URL:https://esdcta.org/event/cblm-championships-2023/
LOCATION:Horse Park of New Jersey\, 626 Rte 524\, Allentown\, NJ\, 08501\, United States
CATEGORIES:Dressage
GEO:40.1905006;-74.4935697
X-APPLE-STRUCTURED-LOCATION;VALUE=URI;X-ADDRESS=Horse Park of New Jersey 626 Rte 524 Allentown NJ 08501 United States;X-APPLE-RADIUS=500;X-TITLE=626 Rte 524:geo:-74.4935697,40.1905006
END:VEVENT
BEGIN:VEVENT
DTSTART;TZID=America/New_York:20231011T080000
DTEND;TZID=America/New_York:20231011T170000
DTSTAMP:20260422T025801
CREATED:20230123T154148Z
LAST-MODIFIED:20230123T154148Z
UID:10000914-1697011200-1697043600@esdcta.org
SUMMARY:Applewood Farm
DESCRIPTION:Dressage\, Combined Test\, and Clear Round
URL:https://esdcta.org/event/applewood-farm-39/
LOCATION:Applewood Farm\, 30 Fox Hill Road\, Califon\, NJ\, 07830\, United States
CATEGORIES:Dressage,Eventing
ATTACH;FMTTYPE=:
GEO:40.704441;-74.764977
X-APPLE-STRUCTURED-LOCATION;VALUE=URI;X-ADDRESS=Applewood Farm 30 Fox Hill Road Califon NJ 07830 United States;X-APPLE-RADIUS=500;X-TITLE=30 Fox Hill Road:geo:-74.764977,40.704441
END:VEVENT
BEGIN:VEVENT
DTSTART;TZID=America/New_York:20231008T080000
DTEND;TZID=America/New_York:20231008T170000
DTSTAMP:20260422T025801
CREATED:20230215T221911Z
LAST-MODIFIED:20230215T221911Z
UID:10000954-1696752000-1696784400@esdcta.org
SUMMARY:Square One
DESCRIPTION:Dressage Schooling
URL:https://esdcta.org/event/square-one-26/
LOCATION:Square One\, 315 Mattison Reservoir Avenue\, Branchville\, NJ\, 07826\, United States
CATEGORIES:Dressage
GEO:41.200032;-74.680259
X-APPLE-STRUCTURED-LOCATION;VALUE=URI;X-ADDRESS=Square One 315 Mattison Reservoir Avenue Branchville NJ 07826 United States;X-APPLE-RADIUS=500;X-TITLE=315 Mattison Reservoir Avenue:geo:-74.680259,41.200032
END:VEVENT
BEGIN:VEVENT
DTSTART;TZID=America/New_York:20231008T080000
DTEND;TZID=America/New_York:20231008T170000
DTSTAMP:20260422T025801
CREATED:20230123T154059Z
LAST-MODIFIED:20230123T154059Z
UID:10000913-1696752000-1696784400@esdcta.org
SUMMARY:Red Tail Farm Oct II
DESCRIPTION:USEF/USDF Dressage
URL:https://esdcta.org/event/red-tail-farm-oct-ii-3/
LOCATION:Red Tail Farm\, 1100 Rattlesnake Bridge Rd\, Bedminster Township\, NJ\, 07921\, United States
CATEGORIES:Dressage
ATTACH;FMTTYPE=:
GEO:40.6437934;-74.7160768
X-APPLE-STRUCTURED-LOCATION;VALUE=URI;X-ADDRESS=Red Tail Farm 1100 Rattlesnake Bridge Rd Bedminster Township NJ 07921 United States;X-APPLE-RADIUS=500;X-TITLE=1100 Rattlesnake Bridge Rd:geo:-74.7160768,40.6437934
END:VEVENT
BEGIN:VEVENT
DTSTART;TZID=America/New_York:20231007T080000
DTEND;TZID=America/New_York:20231007T170000
DTSTAMP:20260422T025801
CREATED:20230215T220824Z
LAST-MODIFIED:20230215T220824Z
UID:10000945-1696665600-1696698000@esdcta.org
SUMMARY:Bucks Co Horse Park - Team Challenge
DESCRIPTION:Dressage Schooling and Team Challenge
URL:https://esdcta.org/event/bucks-co-horse-park-team-challenge-3/
LOCATION:Bucks County Horse Park\, 8934 Easton Rd\, Revere\, PA\, 018953\, United States
CATEGORIES:Dressage
GEO:40.5224751;-75.1684702
X-APPLE-STRUCTURED-LOCATION;VALUE=URI;X-ADDRESS=Bucks County Horse Park 8934 Easton Rd Revere PA 018953 United States;X-APPLE-RADIUS=500;X-TITLE=8934 Easton Rd:geo:-75.1684702,40.5224751
END:VEVENT
BEGIN:VEVENT
DTSTART;TZID=America/New_York:20231007T080000
DTEND;TZID=America/New_York:20231007T170000
DTSTAMP:20260422T025801
CREATED:20230123T153957Z
LAST-MODIFIED:20230123T153957Z
UID:10000912-1696665600-1696698000@esdcta.org
SUMMARY:Red Tail Farm Oct I
DESCRIPTION:USEF/USDF Dressage
URL:https://esdcta.org/event/red-tail-farm-oct-i-3/
LOCATION:Red Tail Farm\, 1100 Rattlesnake Bridge Rd\, Bedminster Township\, NJ\, 07921\, United States
CATEGORIES:Dressage
ATTACH;FMTTYPE=:
GEO:40.6437934;-74.7160768
X-APPLE-STRUCTURED-LOCATION;VALUE=URI;X-ADDRESS=Red Tail Farm 1100 Rattlesnake Bridge Rd Bedminster Township NJ 07921 United States;X-APPLE-RADIUS=500;X-TITLE=1100 Rattlesnake Bridge Rd:geo:-74.7160768,40.6437934
END:VEVENT
BEGIN:VEVENT
DTSTART;TZID=America/New_York:20230930T080000
DTEND;TZID=America/New_York:20231001T170000
DTSTAMP:20260422T025801
CREATED:20230310T202658Z
LAST-MODIFIED:20230310T202658Z
UID:10000990-1696060800-1696179600@esdcta.org
SUMMARY:ESDCTA NJ Horse Trials
DESCRIPTION:USEA Horse Trials
URL:https://esdcta.org/event/esdcta-nj-horse-trials-7/
LOCATION:Horse Park of New Jersey\, 626 Rte 524\, Allentown\, New Jersey\, 08501
CATEGORIES:Eventing
END:VEVENT
BEGIN:VEVENT
DTSTART;TZID=America/New_York:20230930T080000
DTEND;TZID=America/New_York:20230930T170000
DTSTAMP:20260422T025801
CREATED:20230215T222532Z
LAST-MODIFIED:20230215T222532Z
UID:10000959-1696060800-1696093200@esdcta.org
SUMMARY:Carousel Farm
DESCRIPTION:Dressage Schooling
URL:https://esdcta.org/event/carousel-farm-19/
LOCATION:Level Up Equestrian/Augusta Training Center\, 8 Linn Smith Road\, Augusta\, NJ\, 07822\, United States
CATEGORIES:Dressage
GEO:41.138794;-74.7039379
X-APPLE-STRUCTURED-LOCATION;VALUE=URI;X-ADDRESS=Level Up Equestrian/Augusta Training Center 8 Linn Smith Road Augusta NJ 07822 United States;X-APPLE-RADIUS=500;X-TITLE=8 Linn Smith Road:geo:-74.7039379,41.138794
END:VEVENT
BEGIN:VEVENT
DTSTART;TZID=America/New_York:20230924T080000
DTEND;TZID=America/New_York:20230924T170000
DTSTAMP:20260422T025801
CREATED:20230215T221511Z
LAST-MODIFIED:20230215T221511Z
UID:10000951-1695542400-1695574800@esdcta.org
SUMMARY:Bucks Co Horse Park
DESCRIPTION:Schooling Horse Trials
URL:https://esdcta.org/event/bucks-co-horse-park-107/
LOCATION:Bucks County Horse Park\, 8934 Easton Rd\, Revere\, PA\, 018953\, United States
CATEGORIES:Eventing
GEO:40.5224751;-75.1684702
X-APPLE-STRUCTURED-LOCATION;VALUE=URI;X-ADDRESS=Bucks County Horse Park 8934 Easton Rd Revere PA 018953 United States;X-APPLE-RADIUS=500;X-TITLE=8934 Easton Rd:geo:-75.1684702,40.5224751
END:VEVENT
BEGIN:VEVENT
DTSTART;TZID=America/New_York:20230923T080000
DTEND;TZID=America/New_York:20230923T170000
DTSTAMP:20260422T025801
CREATED:20230308T125126Z
LAST-MODIFIED:20230308T125126Z
UID:10000985-1695456000-1695488400@esdcta.org
SUMMARY:ESDCTA Championships & Dressage Schooling
DESCRIPTION:Dressage Schooling
URL:https://esdcta.org/event/esdcta-championships-dressage-schooling-3/
LOCATION:US Equestrian Team Headquarters\, 1040 Pottersville Road\, Gladstone\, NJ\, 07934-2053\, United States
CATEGORIES:Dressage
GEO:40.71896;-74.6873304
X-APPLE-STRUCTURED-LOCATION;VALUE=URI;X-ADDRESS=US Equestrian Team Headquarters 1040 Pottersville Road Gladstone NJ 07934-2053 United States;X-APPLE-RADIUS=500;X-TITLE=1040 Pottersville Road:geo:-74.6873304,40.71896
END:VEVENT
BEGIN:VEVENT
DTSTART;TZID=America/New_York:20230917T080000
DTEND;TZID=America/New_York:20230917T170000
DTSTAMP:20260422T025801
CREATED:20230331T210350Z
LAST-MODIFIED:20230331T210350Z
UID:10001011-1694937600-1694970000@esdcta.org
SUMMARY:North Wind Dressage Schooling Show
DESCRIPTION:
URL:https://esdcta.org/event/north-wind-dressage-schooling-show/
LOCATION:North Wind Horse Farm\, 2496 Bruynswick Road\, Wallkill\, NY\, 12589\, United States
ORGANIZER;CN="North Wind Horse Farm":MAILTO:northwindRosie@gmail.com
END:VEVENT
BEGIN:VEVENT
DTSTART;TZID=America/New_York:20230917T080000
DTEND;TZID=America/New_York:20230917T170000
DTSTAMP:20260422T025801
CREATED:20230325T161829Z
LAST-MODIFIED:20230325T161829Z
UID:10001007-1694937600-1694970000@esdcta.org
SUMMARY:LVDA Schooling Show IV with Championship Classes
DESCRIPTION:Dressage Schooling
URL:https://esdcta.org/event/lvda-schooling-show-iv-with-championship-classes/
LOCATION:Bucks County Horse Park\, 8934 Easton Rd\, Revere\, PA\, 018953\, United States
CATEGORIES:Dressage
GEO:40.5224751;-75.1684702
X-APPLE-STRUCTURED-LOCATION;VALUE=URI;X-ADDRESS=Bucks County Horse Park 8934 Easton Rd Revere PA 018953 United States;X-APPLE-RADIUS=500;X-TITLE=8934 Easton Rd:geo:-75.1684702,40.5224751
END:VEVENT
BEGIN:VEVENT
DTSTART;TZID=America/New_York:20230917T080000
DTEND;TZID=America/New_York:20230917T170000
DTSTAMP:20260422T025801
CREATED:20230316T204302Z
LAST-MODIFIED:20230325T155325Z
UID:10000998-1694937600-1694970000@esdcta.org
SUMMARY:Phoenix Eq. Center
DESCRIPTION:Dressage\, Combined Test\, and Horse Trials
URL:https://esdcta.org/event/phoenix-eq-center-20/
LOCATION:Phoenix Equestrian Center\, 39 Orts Rd\, Hamburg\, NJ\, 07419\, United States
CATEGORIES:Dressage,Eventing
END:VEVENT
BEGIN:VEVENT
DTSTART;TZID=America/New_York:20230916T080000
DTEND;TZID=America/New_York:20230916T170000
DTSTAMP:20260422T025801
CREATED:20230123T153752Z
LAST-MODIFIED:20230123T153752Z
UID:10000911-1694851200-1694883600@esdcta.org
SUMMARY:SLM Dressage
DESCRIPTION:Dressage Schooling w/ Western Dressage
URL:https://esdcta.org/event/slm-dressage-26/
LOCATION:SLM Dressage\, 150 Kings Road\, Westampton\, NJ\, 08060
CATEGORIES:Dressage
END:VEVENT
BEGIN:VEVENT
DTSTART;TZID=America/New_York:20230913T080000
DTEND;TZID=America/New_York:20230913T170000
DTSTAMP:20260422T025801
CREATED:20230123T153704Z
LAST-MODIFIED:20230123T153704Z
UID:10000910-1694592000-1694624400@esdcta.org
SUMMARY:Applewood Farm
DESCRIPTION:Dressage\, Combined Test\, and Clear Round
URL:https://esdcta.org/event/applewood-farm-38/
LOCATION:Applewood Farm\, 30 Fox Hill Road\, Califon\, NJ\, 07830\, United States
CATEGORIES:Dressage,Eventing
ATTACH;FMTTYPE=:
GEO:40.704441;-74.764977
X-APPLE-STRUCTURED-LOCATION;VALUE=URI;X-ADDRESS=Applewood Farm 30 Fox Hill Road Califon NJ 07830 United States;X-APPLE-RADIUS=500;X-TITLE=30 Fox Hill Road:geo:-74.764977,40.704441
END:VEVENT
BEGIN:VEVENT
DTSTART;TZID=America/New_York:20230910T080000
DTEND;TZID=America/New_York:20230910T170000
DTSTAMP:20260422T025801
CREATED:20230215T223614Z
LAST-MODIFIED:20230215T223614Z
UID:10000966-1694332800-1694365200@esdcta.org
SUMMARY:Dressage at Stone Tavern II
DESCRIPTION:USEF/USDF Dressage
URL:https://esdcta.org/event/dressage-at-stone-tavern-ii-6/
LOCATION:Horse Park of New Jersey\, 626 Rte 524\, Allentown\, NJ\, 08501\, United States
CATEGORIES:Dressage
GEO:40.1905006;-74.4935697
X-APPLE-STRUCTURED-LOCATION;VALUE=URI;X-ADDRESS=Horse Park of New Jersey 626 Rte 524 Allentown NJ 08501 United States;X-APPLE-RADIUS=500;X-TITLE=626 Rte 524:geo:-74.4935697,40.1905006
END:VEVENT
BEGIN:VEVENT
DTSTART;TZID=America/New_York:20230910T080000
DTEND;TZID=America/New_York:20230910T170000
DTSTAMP:20260422T025801
CREATED:20230215T222022Z
LAST-MODIFIED:20230215T222022Z
UID:10000955-1694332800-1694365200@esdcta.org
SUMMARY:Square One
DESCRIPTION:Dressage Schooling
URL:https://esdcta.org/event/square-one-27/
LOCATION:Square One\, 315 Mattison Reservoir Avenue\, Branchville\, NJ\, 07826\, United States
CATEGORIES:Dressage
GEO:41.200032;-74.680259
X-APPLE-STRUCTURED-LOCATION;VALUE=URI;X-ADDRESS=Square One 315 Mattison Reservoir Avenue Branchville NJ 07826 United States;X-APPLE-RADIUS=500;X-TITLE=315 Mattison Reservoir Avenue:geo:-74.680259,41.200032
END:VEVENT
BEGIN:VEVENT
DTSTART;TZID=America/New_York:20230910T080000
DTEND;TZID=America/New_York:20230910T170000
DTSTAMP:20260422T025801
CREATED:20230123T153615Z
LAST-MODIFIED:20230123T153615Z
UID:10000909-1694332800-1694365200@esdcta.org
SUMMARY:Suddenly Farm
DESCRIPTION:Dressage Schooling w/ Western Dressage
URL:https://esdcta.org/event/suddenly-farm-53/
LOCATION:Suddenly Farm\, 325 Main Street\, Lumberton\, NJ\, 08048\, United States
CATEGORIES:Dressage
GEO:39.9387;-74.8235
X-APPLE-STRUCTURED-LOCATION;VALUE=URI;X-ADDRESS=Suddenly Farm 325 Main Street Lumberton NJ 08048 United States;X-APPLE-RADIUS=500;X-TITLE=325 Main Street:geo:-74.8235,39.9387
END:VEVENT
BEGIN:VEVENT
DTSTART;TZID=America/New_York:20230909T080000
DTEND;TZID=America/New_York:20230909T170000
DTSTAMP:20260422T025801
CREATED:20230123T153525Z
LAST-MODIFIED:20230123T153525Z
UID:10000908-1694246400-1694278800@esdcta.org
SUMMARY:Saddlebrook Ridge
DESCRIPTION:Dressage & Western Dressage Schooling
URL:https://esdcta.org/event/saddlebrook-ridge-43/
LOCATION:Saddlebrook Ridge Equestrian Center\, 10 Saddlebrook Court\, Shamong\, NJ\, 08088\, United States
CATEGORIES:Dressage
ATTACH;FMTTYPE=:
GEO:39.8205251;-74.7828144
X-APPLE-STRUCTURED-LOCATION;VALUE=URI;X-ADDRESS=Saddlebrook Ridge Equestrian Center 10 Saddlebrook Court Shamong NJ 08088 United States;X-APPLE-RADIUS=500;X-TITLE=10 Saddlebrook Court:geo:-74.7828144,39.8205251
END:VEVENT
BEGIN:VEVENT
DTSTART;TZID=America/New_York:20230908T080000
DTEND;TZID=America/New_York:20230909T170000
DTSTAMP:20260422T025801
CREATED:20230215T223724Z
LAST-MODIFIED:20230215T223724Z
UID:10000967-1694160000-1694278800@esdcta.org
SUMMARY:Dressage at Stone Tavern I
DESCRIPTION:USEF/USDF Dressage
URL:https://esdcta.org/event/dressage-at-stone-tavern-i-6/
LOCATION:Horse Park of New Jersey\, 626 Rte 524\, Allentown\, NJ\, 08501\, United States
CATEGORIES:Dressage
GEO:40.1905006;-74.4935697
X-APPLE-STRUCTURED-LOCATION;VALUE=URI;X-ADDRESS=Horse Park of New Jersey 626 Rte 524 Allentown NJ 08501 United States;X-APPLE-RADIUS=500;X-TITLE=626 Rte 524:geo:-74.4935697,40.1905006
END:VEVENT
BEGIN:VEVENT
DTSTART;TZID=America/New_York:20230903T080000
DTEND;TZID=America/New_York:20230903T170000
DTSTAMP:20260422T025801
CREATED:20230215T220548Z
LAST-MODIFIED:20230215T220548Z
UID:10000943-1693728000-1693760400@esdcta.org
SUMMARY:Bucks Co Horse Park USEA
DESCRIPTION:USEA Horse Trials
URL:https://esdcta.org/event/bucks-co-horse-park-usea/
LOCATION:Bucks County Horse Park\, 8934 Easton Rd\, Revere\, PA\, 018953\, United States
CATEGORIES:Eventing
GEO:40.5224751;-75.1684702
X-APPLE-STRUCTURED-LOCATION;VALUE=URI;X-ADDRESS=Bucks County Horse Park 8934 Easton Rd Revere PA 018953 United States;X-APPLE-RADIUS=500;X-TITLE=8934 Easton Rd:geo:-75.1684702,40.5224751
END:VEVENT
BEGIN:VEVENT
DTSTART;TZID=America/New_York:20230827T080000
DTEND;TZID=America/New_York:20230827T170000
DTSTAMP:20260422T025801
CREATED:20230215T223149Z
LAST-MODIFIED:20230215T223149Z
UID:10000963-1693123200-1693155600@esdcta.org
SUMMARY:Four Farthing Farm
DESCRIPTION:Dressage & Western Dressage Schooling
URL:https://esdcta.org/event/four-farthing-farm/
LOCATION:Four Farthing Farm\, 151 Holland Road\, Wantage\, NJ\, 07461\, United States
CATEGORIES:Dressage
END:VEVENT
BEGIN:VEVENT
DTSTART;TZID=America/New_York:20230827T080000
DTEND;TZID=America/New_York:20230827T170000
DTSTAMP:20260422T025801
CREATED:20230215T220933Z
LAST-MODIFIED:20230215T220933Z
UID:10000946-1693123200-1693155600@esdcta.org
SUMMARY:Bucks Co Horse Park
DESCRIPTION:Dressage Schooling
URL:https://esdcta.org/event/bucks-co-horse-park-105/
LOCATION:Bucks County Horse Park\, 8934 Easton Rd\, Revere\, PA\, 018953\, United States
CATEGORIES:Dressage
GEO:40.5224751;-75.1684702
X-APPLE-STRUCTURED-LOCATION;VALUE=URI;X-ADDRESS=Bucks County Horse Park 8934 Easton Rd Revere PA 018953 United States;X-APPLE-RADIUS=500;X-TITLE=8934 Easton Rd:geo:-75.1684702,40.5224751
END:VEVENT
BEGIN:VEVENT
DTSTART;TZID=America/New_York:20230826T080000
DTEND;TZID=America/New_York:20230827T170000
DTSTAMP:20260422T025801
CREATED:20230308T124310Z
LAST-MODIFIED:20230308T124310Z
UID:10000978-1693036800-1693155600@esdcta.org
SUMMARY:Dressage Experience Fall Festival
DESCRIPTION:USEF/USDF Dressage
URL:https://esdcta.org/event/dressage-experience-fall-festival/
LOCATION:Horse Park of New Jersey\, 626 Rte 524\, Allentown\, NJ\, 08501\, United States
CATEGORIES:Dressage
GEO:40.1905006;-74.4935697
X-APPLE-STRUCTURED-LOCATION;VALUE=URI;X-ADDRESS=Horse Park of New Jersey 626 Rte 524 Allentown NJ 08501 United States;X-APPLE-RADIUS=500;X-TITLE=626 Rte 524:geo:-74.4935697,40.1905006
END:VEVENT
BEGIN:VEVENT
DTSTART;TZID=America/New_York:20230823T080000
DTEND;TZID=America/New_York:20230823T170000
DTSTAMP:20260422T025801
CREATED:20230123T153153Z
LAST-MODIFIED:20230123T153153Z
UID:10000907-1692777600-1692810000@esdcta.org
SUMMARY:Sara Schmitt Dressage
DESCRIPTION:Dressage Schooling
URL:https://esdcta.org/event/sara-schmitt-dressage-5/
LOCATION:PA
CATEGORIES:Dressage
END:VEVENT
BEGIN:VEVENT
DTSTART;TZID=America/New_York:20230820T080000
DTEND;TZID=America/New_York:20230820T170000
DTSTAMP:20260422T025801
CREATED:20230325T161822Z
LAST-MODIFIED:20230325T161822Z
UID:10001003-1692518400-1692550800@esdcta.org
SUMMARY:LVDA USDF Show
DESCRIPTION:USEF/USDF Dressage
URL:https://esdcta.org/event/lvda-usdf-show-2/
LOCATION:Bucks County Horse Park\, 8934 Easton Rd\, Revere\, PA\, 018953\, United States
CATEGORIES:Dressage
GEO:40.5224751;-75.1684702
X-APPLE-STRUCTURED-LOCATION;VALUE=URI;X-ADDRESS=Bucks County Horse Park 8934 Easton Rd Revere PA 018953 United States;X-APPLE-RADIUS=500;X-TITLE=8934 Easton Rd:geo:-75.1684702,40.5224751
END:VEVENT
END:VCALENDAR