BEGIN:VCALENDAR
VERSION:2.0
PRODID:-//ESDCTA - ECPv6.15.20//NONSGML v1.0//EN
CALSCALE:GREGORIAN
METHOD:PUBLISH
X-WR-CALNAME:ESDCTA
X-ORIGINAL-URL:https://esdcta.org
X-WR-CALDESC:Events for ESDCTA
REFRESH-INTERVAL;VALUE=DURATION:PT1H
X-Robots-Tag:noindex
X-PUBLISHED-TTL:PT1H
BEGIN:VTIMEZONE
TZID:America/New_York
BEGIN:DAYLIGHT
TZOFFSETFROM:-0500
TZOFFSETTO:-0400
TZNAME:EDT
DTSTART:20230312T070000
END:DAYLIGHT
BEGIN:STANDARD
TZOFFSETFROM:-0400
TZOFFSETTO:-0500
TZNAME:EST
DTSTART:20231105T060000
END:STANDARD
BEGIN:DAYLIGHT
TZOFFSETFROM:-0500
TZOFFSETTO:-0400
TZNAME:EDT
DTSTART:20240310T070000
END:DAYLIGHT
BEGIN:STANDARD
TZOFFSETFROM:-0400
TZOFFSETTO:-0500
TZNAME:EST
DTSTART:20241103T060000
END:STANDARD
BEGIN:DAYLIGHT
TZOFFSETFROM:-0500
TZOFFSETTO:-0400
TZNAME:EDT
DTSTART:20250309T070000
END:DAYLIGHT
BEGIN:STANDARD
TZOFFSETFROM:-0400
TZOFFSETTO:-0500
TZNAME:EST
DTSTART:20251102T060000
END:STANDARD
END:VTIMEZONE
BEGIN:VEVENT
DTSTART;TZID=America/New_York:20240623T080000
DTEND;TZID=America/New_York:20240623T170000
DTSTAMP:20260421T153259
CREATED:20231126T215002Z
LAST-MODIFIED:20231126T215002Z
UID:10001046-1719129600-1719162000@esdcta.org
SUMMARY:Red Tail Farm June II
DESCRIPTION:USEF/USDF Dressage
URL:https://esdcta.org/event/red-tail-farm-june-ii-9/
LOCATION:Red Tail Farm\, 1100 Rattlesnake Bridge Rd\, Bedminster Township\, NJ\, 07921\, United States
CATEGORIES:Dressage
GEO:40.6437934;-74.7160768
X-APPLE-STRUCTURED-LOCATION;VALUE=URI;X-ADDRESS=Red Tail Farm 1100 Rattlesnake Bridge Rd Bedminster Township NJ 07921 United States;X-APPLE-RADIUS=500;X-TITLE=1100 Rattlesnake Bridge Rd:geo:-74.7160768,40.6437934
END:VEVENT
BEGIN:VEVENT
DTSTART;TZID=America/New_York:20240622T080000
DTEND;TZID=America/New_York:20240623T170000
DTSTAMP:20260421T153259
CREATED:20231126T205435Z
LAST-MODIFIED:20231126T205435Z
UID:10001034-1719043200-1719162000@esdcta.org
SUMMARY:USDF Region 1 Youth Team Challenge
DESCRIPTION:Dressage Schooling
URL:https://esdcta.org/event/usdf-region-1-youth-team-challenge/
LOCATION:Rose Mount Farm\, 9601 Courthouse Road\, Spotsylvania Courthouse\, VA\, 22553\, United States
CATEGORIES:Dressage
END:VEVENT
BEGIN:VEVENT
DTSTART;TZID=America/New_York:20240622T080000
DTEND;TZID=America/New_York:20240622T170000
DTSTAMP:20260421T153259
CREATED:20240203T184705Z
LAST-MODIFIED:20240203T184705Z
UID:10001085-1719043200-1719075600@esdcta.org
SUMMARY:SLM Dressage
DESCRIPTION:Dressage Schooling w/ Western Classes
URL:https://esdcta.org/event/slm-dressage-29/
LOCATION:SLM Dressage\, 150 Kings Road\, Westampton\, NJ\, 08060
CATEGORIES:Dressage
END:VEVENT
BEGIN:VEVENT
DTSTART;TZID=America/New_York:20240622T080000
DTEND;TZID=America/New_York:20240622T170000
DTSTAMP:20260421T153259
CREATED:20231126T215001Z
LAST-MODIFIED:20231126T215001Z
UID:10001045-1719043200-1719075600@esdcta.org
SUMMARY:Red Tail Farm June I
DESCRIPTION:USEF/USDF Dressage
URL:https://esdcta.org/event/red-tail-farm-june-i-9/
LOCATION:Red Tail Farm\, 1100 Rattlesnake Bridge Rd\, Bedminster Township\, NJ\, 07921\, United States
CATEGORIES:Dressage
GEO:40.6437934;-74.7160768
X-APPLE-STRUCTURED-LOCATION;VALUE=URI;X-ADDRESS=Red Tail Farm 1100 Rattlesnake Bridge Rd Bedminster Township NJ 07921 United States;X-APPLE-RADIUS=500;X-TITLE=1100 Rattlesnake Bridge Rd:geo:-74.7160768,40.6437934
END:VEVENT
BEGIN:VEVENT
DTSTART;TZID=America/New_York:20240619T180000
DTEND;TZID=America/New_York:20240619T203000
DTSTAMP:20260421T153259
CREATED:20240424T181216Z
LAST-MODIFIED:20240424T181216Z
UID:10001175-1718820000-1718829000@esdcta.org
SUMMARY:Ariel Yazid Clinic Series
DESCRIPTION:
URL:https://esdcta.org/event/ariel-yazid-clinic-series/2024-06-19/
LOCATION:Journey’s End Farm\, 124 Templin Road\, Glenmore\, PA\, 19343\, United States
CATEGORIES:Clinic
GEO:41.3247971;-75.3914077
X-APPLE-STRUCTURED-LOCATION;VALUE=URI;X-ADDRESS=Journey’s End Farm 124 Templin Road Glenmore PA 19343 United States;X-APPLE-RADIUS=500;X-TITLE=124 Templin Road:geo:-75.3914077,41.3247971
END:VEVENT
BEGIN:VEVENT
DTSTART;TZID=America/New_York:20240618T020000
DTEND;TZID=America/New_York:20240618T200000
DTSTAMP:20260421T153259
CREATED:20240302T184319Z
LAST-MODIFIED:20240302T184319Z
UID:10001137-1718676000-1718740800@esdcta.org
SUMMARY:Bucks Co Horse Park TEDS
DESCRIPTION:Dressage Schooling\, Tues Eve
URL:https://esdcta.org/event/bucks-co-horse-park-teds-28/
LOCATION:Bucks County Horse Park\, 8934 Easton Rd\, Revere\, PA\, 018953\, United States
CATEGORIES:Dressage
GEO:40.5224751;-75.1684702
X-APPLE-STRUCTURED-LOCATION;VALUE=URI;X-ADDRESS=Bucks County Horse Park 8934 Easton Rd Revere PA 018953 United States;X-APPLE-RADIUS=500;X-TITLE=8934 Easton Rd:geo:-75.1684702,40.5224751
END:VEVENT
BEGIN:VEVENT
DTSTART;TZID=America/New_York:20240616T080000
DTEND;TZID=America/New_York:20240616T170000
DTSTAMP:20260421T153259
CREATED:20240420T174942Z
LAST-MODIFIED:20240420T174942Z
UID:10001167-1718524800-1718557200@esdcta.org
SUMMARY:Rhythm&Blues II
DESCRIPTION:USEF/USDF Dressage
URL:https://esdcta.org/event/rhythmblues-ii-2/
LOCATION:Rhythm & Blues Equestrian Center\, 2450 Steinsburg Rd\, Quakertown\, PA\, 18951\, United States
CATEGORIES:Dressage
GEO:40.4551978;-75.4324816
X-APPLE-STRUCTURED-LOCATION;VALUE=URI;X-ADDRESS=Rhythm & Blues Equestrian Center 2450 Steinsburg Rd Quakertown PA 18951 United States;X-APPLE-RADIUS=500;X-TITLE=2450 Steinsburg Rd:geo:-75.4324816,40.4551978
END:VEVENT
BEGIN:VEVENT
DTSTART;TZID=America/New_York:20240615T080000
DTEND;TZID=America/New_York:20240616T170000
DTSTAMP:20260421T153259
CREATED:20240203T182408Z
LAST-MODIFIED:20240203T182408Z
UID:10001082-1718438400-1718557200@esdcta.org
SUMMARY:Horse Park of NJ Horse Trials I
DESCRIPTION:USEA Horse Trials
URL:https://esdcta.org/event/horse-park-of-nj-horse-trials-i-3/
LOCATION:Horse Park of New Jersey\, 626 Rte 524\, Allentown\, New Jersey\, 08501
CATEGORIES:Eventing
END:VEVENT
BEGIN:VEVENT
DTSTART;TZID=America/New_York:20240615T080000
DTEND;TZID=America/New_York:20240615T170000
DTSTAMP:20260421T153259
CREATED:20240420T174942Z
LAST-MODIFIED:20240420T174942Z
UID:10001166-1718438400-1718470800@esdcta.org
SUMMARY:Rhythm&Blues I
DESCRIPTION:USEF/USDF Dressage
URL:https://esdcta.org/event/rhythmblues-i-2/
LOCATION:Rhythm & Blues Equestrian Center\, 2450 Steinsburg Rd\, Quakertown\, PA\, 18951\, United States
CATEGORIES:Dressage
GEO:40.4551978;-75.4324816
X-APPLE-STRUCTURED-LOCATION;VALUE=URI;X-ADDRESS=Rhythm & Blues Equestrian Center 2450 Steinsburg Rd Quakertown PA 18951 United States;X-APPLE-RADIUS=500;X-TITLE=2450 Steinsburg Rd:geo:-75.4324816,40.4551978
END:VEVENT
BEGIN:VEVENT
DTSTART;TZID=America/New_York:20240612T080000
DTEND;TZID=America/New_York:20240612T170000
DTSTAMP:20260421T153259
CREATED:20231126T203601Z
LAST-MODIFIED:20231126T203601Z
UID:10001025-1718179200-1718211600@esdcta.org
SUMMARY:Applewood Farm
DESCRIPTION:Dressage\, Combined Test\, and Clear Round
URL:https://esdcta.org/event/applewood-farm-41/
LOCATION:Applewood Farm\, 30 Fox Hill Road\, Califon\, NJ\, 07830\, United States
CATEGORIES:Dressage,Eventing
GEO:40.704441;-74.764977
X-APPLE-STRUCTURED-LOCATION;VALUE=URI;X-ADDRESS=Applewood Farm 30 Fox Hill Road Califon NJ 07830 United States;X-APPLE-RADIUS=500;X-TITLE=30 Fox Hill Road:geo:-74.764977,40.704441
END:VEVENT
BEGIN:VEVENT
DTSTART;TZID=America/New_York:20240609T080000
DTEND;TZID=America/New_York:20240609T170000
DTSTAMP:20260421T153259
CREATED:20240511T190448Z
LAST-MODIFIED:20240511T190448Z
UID:10001187-1717920000-1717952400@esdcta.org
SUMMARY:Windy Hollow Hunt June II
DESCRIPTION:USEF/USDF Dressage
URL:https://esdcta.org/event/windy-hollow-hunt-june-ii-3/
LOCATION:Sussex County Fairgrounds\, 37 Plains Rd\, Augusta\, NJ\, 07822\, United States
CATEGORIES:Dressage
GEO:41.1362927;-74.7164249
X-APPLE-STRUCTURED-LOCATION;VALUE=URI;X-ADDRESS=Sussex County Fairgrounds 37 Plains Rd Augusta NJ 07822 United States;X-APPLE-RADIUS=500;X-TITLE=37 Plains Rd:geo:-74.7164249,41.1362927
END:VEVENT
BEGIN:VEVENT
DTSTART;TZID=America/New_York:20240609T080000
DTEND;TZID=America/New_York:20240609T170000
DTSTAMP:20260421T153259
CREATED:20240330T181942Z
LAST-MODIFIED:20240330T181942Z
UID:10001153-1717920000-1717952400@esdcta.org
SUMMARY:Phoenix Eq. Center
DESCRIPTION:Dressage\, Combined Test\, and Horse Trials
URL:https://esdcta.org/event/phoenix-eq-center-25/
LOCATION:Phoenix Equestrian Center\, 39 Orts Rd\, Hamburg\, NJ\, 07419\, United States
CATEGORIES:Dressage,Eventing
END:VEVENT
BEGIN:VEVENT
DTSTART;TZID=America/New_York:20240609T080000
DTEND;TZID=America/New_York:20240609T170000
DTSTAMP:20260421T153259
CREATED:20240309T160146Z
LAST-MODIFIED:20240309T160146Z
UID:10001146-1717920000-1717952400@esdcta.org
SUMMARY:Dressage at Jericho
DESCRIPTION:USEF/USDF Dressage
URL:https://esdcta.org/event/dressage-at-jericho-13/
LOCATION:Jericho Sport Horses\, 426 Pineville Rd.\, Newtown\, PA\, 18940\, United States
CATEGORIES:Dressage
GEO:40.2931234305;-74.9668876027
X-APPLE-STRUCTURED-LOCATION;VALUE=URI;X-ADDRESS=Jericho Sport Horses 426 Pineville Rd. Newtown PA 18940 United States;X-APPLE-RADIUS=500;X-TITLE=426 Pineville Rd.:geo:-74.9668876027,40.2931234305
END:VEVENT
BEGIN:VEVENT
DTSTART;TZID=America/New_York:20240609T080000
DTEND;TZID=America/New_York:20240609T170000
DTSTAMP:20260421T153259
CREATED:20240203T203828Z
LAST-MODIFIED:20240203T203828Z
UID:10001099-1717920000-1717952400@esdcta.org
SUMMARY:Painted Dreams Schooling Show Series
DESCRIPTION:Dressage Schooling w/ Western Classes
URL:https://esdcta.org/event/painted-dreams-schooling-show-series-2/
LOCATION:Painted Dreams Horse Farm\, 941 Park Avenue\, Wrightstown\, PA\, 18940\, United States
CATEGORIES:Dressage
ORGANIZER;CN="Painted Dreams Horse Farm":MAILTO:maria@painteddreamshorsefarm.com
END:VEVENT
BEGIN:VEVENT
DTSTART;TZID=America/New_York:20240609T080000
DTEND;TZID=America/New_York:20240609T170000
DTSTAMP:20260421T153259
CREATED:20231126T211304Z
LAST-MODIFIED:20231126T211304Z
UID:10001037-1717920000-1717952400@esdcta.org
SUMMARY:Hidden Creek Eq. Ctr
DESCRIPTION:Dressage\, Combined Test\, and Clear Round
URL:https://esdcta.org/event/hidden-creek-eq-ctr-19/
LOCATION:New Jersey
CATEGORIES:Dressage,Eventing
END:VEVENT
BEGIN:VEVENT
DTSTART;TZID=America/New_York:20240608T090000
DTEND;TZID=America/New_York:20240609T170000
DTSTAMP:20260421T153259
CREATED:20240424T181841Z
LAST-MODIFIED:20240424T181841Z
UID:10001183-1717837200-1717952400@esdcta.org
SUMMARY:Austin Webster Clinic
DESCRIPTION:
URL:https://esdcta.org/event/austin-webster-clinic/
LOCATION:Journey’s End Farm\, 124 Templin Road\, Glenmore\, PA\, 19343\, United States
CATEGORIES:Clinic
ORGANIZER;CN="French Creek Equestrian Association":MAILTO:NHF2054@GMAIL.COM
GEO:41.3247971;-75.3914077
X-APPLE-STRUCTURED-LOCATION;VALUE=URI;X-ADDRESS=Journey’s End Farm 124 Templin Road Glenmore PA 19343 United States;X-APPLE-RADIUS=500;X-TITLE=124 Templin Road:geo:-75.3914077,41.3247971
END:VEVENT
BEGIN:VEVENT
DTSTART;TZID=America/New_York:20240608T080000
DTEND;TZID=America/New_York:20240608T170000
DTSTAMP:20260421T153259
CREATED:20240203T194422Z
LAST-MODIFIED:20240203T194422Z
UID:10001093-1717833600-1717866000@esdcta.org
SUMMARY:Level Up Equestrian
DESCRIPTION:Dressage Schooling w/ Western Classes
URL:https://esdcta.org/event/level-up-equestrian-2/
LOCATION:Level Up Equestrian/Augusta Training Center\, 8 Linn Smith Road\, Augusta\, NJ\, 07822\, United States
CATEGORIES:Dressage
GEO:41.138794;-74.7039379
X-APPLE-STRUCTURED-LOCATION;VALUE=URI;X-ADDRESS=Level Up Equestrian/Augusta Training Center 8 Linn Smith Road Augusta NJ 07822 United States;X-APPLE-RADIUS=500;X-TITLE=8 Linn Smith Road:geo:-74.7039379,41.138794
END:VEVENT
BEGIN:VEVENT
DTSTART;TZID=America/New_York:20240607T080000
DTEND;TZID=America/New_York:20240608T170000
DTSTAMP:20260421T153259
CREATED:20240511T190448Z
LAST-MODIFIED:20240511T190448Z
UID:10001186-1717747200-1717866000@esdcta.org
SUMMARY:Windy Hollow Hunt June I
DESCRIPTION:USEF/USDF Dressage
URL:https://esdcta.org/event/windy-hollow-hunt-june-i-3/
LOCATION:Sussex County Fairgrounds\, 37 Plains Rd\, Augusta\, NJ\, 07822\, United States
CATEGORIES:Dressage
GEO:41.1362927;-74.7164249
X-APPLE-STRUCTURED-LOCATION;VALUE=URI;X-ADDRESS=Sussex County Fairgrounds 37 Plains Rd Augusta NJ 07822 United States;X-APPLE-RADIUS=500;X-TITLE=37 Plains Rd:geo:-74.7164249,41.1362927
END:VEVENT
BEGIN:VEVENT
DTSTART;TZID=America/New_York:20240607T080000
DTEND;TZID=America/New_York:20240607T170000
DTSTAMP:20260421T153259
CREATED:20241208T210943Z
LAST-MODIFIED:20241208T212116Z
UID:10001222-1717747200-1717779600@esdcta.org
SUMMARY:Saddlebrook Ridge
DESCRIPTION:Dressage w/ Western Classes\, CT\, and Clear Round
URL:https://esdcta.org/event/saddlebrook-ridge-54/
LOCATION:Saddlebrook Ridge Equestrian Center\, 10 Saddlebrook Court\, Shamong\, NJ\, 08088\, United States
CATEGORIES:Dressage,Eventing
GEO:39.8205251;-74.7828144
X-APPLE-STRUCTURED-LOCATION;VALUE=URI;X-ADDRESS=Saddlebrook Ridge Equestrian Center 10 Saddlebrook Court Shamong NJ 08088 United States;X-APPLE-RADIUS=500;X-TITLE=10 Saddlebrook Court:geo:-74.7828144,39.8205251
END:VEVENT
BEGIN:VEVENT
DTSTART;TZID=America/New_York:20240606T080000
DTEND;TZID=America/New_York:20240608T170000
DTSTAMP:20260421T153259
CREATED:20240513T220520Z
LAST-MODIFIED:20240513T220520Z
UID:10001188-1717660800-1717866000@esdcta.org
SUMMARY:Dressage at the Park
DESCRIPTION:
URL:https://esdcta.org/event/dressage-at-the-park-5/
LOCATION:Horse Park of New Jersey\, 626 Rte 524\, Allentown\, New Jersey\, 08501
CATEGORIES:Dressage
END:VEVENT
BEGIN:VEVENT
DTSTART;TZID=America/New_York:20240605T180000
DTEND;TZID=America/New_York:20240605T203000
DTSTAMP:20260421T153259
CREATED:20240424T181216Z
LAST-MODIFIED:20240424T181216Z
UID:10001174-1717610400-1717619400@esdcta.org
SUMMARY:Ariel Yazid Clinic Series
DESCRIPTION:
URL:https://esdcta.org/event/ariel-yazid-clinic-series/2024-06-05/
LOCATION:Journey’s End Farm\, 124 Templin Road\, Glenmore\, PA\, 19343\, United States
CATEGORIES:Clinic
GEO:41.3247971;-75.3914077
X-APPLE-STRUCTURED-LOCATION;VALUE=URI;X-ADDRESS=Journey’s End Farm 124 Templin Road Glenmore PA 19343 United States;X-APPLE-RADIUS=500;X-TITLE=124 Templin Road:geo:-75.3914077,41.3247971
END:VEVENT
BEGIN:VEVENT
DTSTART;TZID=America/New_York:20240604T020000
DTEND;TZID=America/New_York:20240604T200000
DTSTAMP:20260421T153259
CREATED:20240302T184319Z
LAST-MODIFIED:20240302T184319Z
UID:10001136-1717466400-1717531200@esdcta.org
SUMMARY:Bucks Co Horse Park TEDS
DESCRIPTION:Dressage Schooling\, Tues Eve
URL:https://esdcta.org/event/bucks-co-horse-park-teds-27/
LOCATION:Bucks County Horse Park\, 8934 Easton Rd\, Revere\, PA\, 018953\, United States
CATEGORIES:Dressage
GEO:40.5224751;-75.1684702
X-APPLE-STRUCTURED-LOCATION;VALUE=URI;X-ADDRESS=Bucks County Horse Park 8934 Easton Rd Revere PA 018953 United States;X-APPLE-RADIUS=500;X-TITLE=8934 Easton Rd:geo:-75.1684702,40.5224751
END:VEVENT
BEGIN:VEVENT
DTSTART;TZID=America/New_York:20240602T080000
DTEND;TZID=America/New_York:20240602T170000
DTSTAMP:20260421T153259
CREATED:20240302T183034Z
LAST-MODIFIED:20240302T183034Z
UID:10001131-1717315200-1717347600@esdcta.org
SUMMARY:Bucks Co Horse Park - Dressage at the Park II
DESCRIPTION:USEF/USDF Dressage
URL:https://esdcta.org/event/bucks-co-horse-park-dressage-at-the-park-ii-4/
LOCATION:Bucks County Horse Park\, 8934 Easton Rd\, Revere\, PA\, 018953\, United States
CATEGORIES:Dressage
GEO:40.5224751;-75.1684702
X-APPLE-STRUCTURED-LOCATION;VALUE=URI;X-ADDRESS=Bucks County Horse Park 8934 Easton Rd Revere PA 018953 United States;X-APPLE-RADIUS=500;X-TITLE=8934 Easton Rd:geo:-75.1684702,40.5224751
END:VEVENT
BEGIN:VEVENT
DTSTART;TZID=America/New_York:20240602T080000
DTEND;TZID=America/New_York:20240602T170000
DTSTAMP:20260421T153259
CREATED:20231126T212302Z
LAST-MODIFIED:20231126T212302Z
UID:10001040-1717315200-1717347600@esdcta.org
SUMMARY:Square One
DESCRIPTION:Dressage Schooling
URL:https://esdcta.org/event/square-one-30/
LOCATION:Square One\, 315 Mattison Reservoir Avenue\, Branchville\, NJ\, 07826\, United States
CATEGORIES:Dressage
GEO:41.200032;-74.680259
X-APPLE-STRUCTURED-LOCATION;VALUE=URI;X-ADDRESS=Square One 315 Mattison Reservoir Avenue Branchville NJ 07826 United States;X-APPLE-RADIUS=500;X-TITLE=315 Mattison Reservoir Avenue:geo:-74.680259,41.200032
END:VEVENT
BEGIN:VEVENT
DTSTART;TZID=America/New_York:20240601T080000
DTEND;TZID=America/New_York:20240601T170000
DTSTAMP:20260421T153259
CREATED:20240217T171002Z
LAST-MODIFIED:20240302T174144Z
UID:10001103-1717228800-1717261200@esdcta.org
SUMMARY:LVDA Schooling Show II
DESCRIPTION:Dressage Schooling
URL:https://esdcta.org/event/lvda-schooling-show-ii-3/
LOCATION:Hearts Journey Stables\, 425 Kromer Road\, Wind Gap\, PA\, 18091\, United States
CATEGORIES:Dressage
GEO:40.8204999;-75.3000835
X-APPLE-STRUCTURED-LOCATION;VALUE=URI;X-ADDRESS=Hearts Journey Stables 425 Kromer Road Wind Gap PA 18091 United States;X-APPLE-RADIUS=500;X-TITLE=425 Kromer Road:geo:-75.3000835,40.8204999
END:VEVENT
BEGIN:VEVENT
DTSTART;TZID=America/New_York:20240601T080000
DTEND;TZID=America/New_York:20240601T170000
DTSTAMP:20260421T153259
CREATED:20231223T193757Z
LAST-MODIFIED:20231223T193757Z
UID:10001068-1717228800-1717261200@esdcta.org
SUMMARY:Saddlebrook Ridge
DESCRIPTION:Dressage w/ Western Classes\, CT\, and Clear Round
URL:https://esdcta.org/event/saddlebrook-ridge-48/
LOCATION:Saddlebrook Ridge Equestrian Center\, 10 Saddlebrook Court\, Shamong\, NJ\, 08088\, United States
CATEGORIES:Dressage,Eventing
GEO:39.8205251;-74.7828144
X-APPLE-STRUCTURED-LOCATION;VALUE=URI;X-ADDRESS=Saddlebrook Ridge Equestrian Center 10 Saddlebrook Court Shamong NJ 08088 United States;X-APPLE-RADIUS=500;X-TITLE=10 Saddlebrook Court:geo:-74.7828144,39.8205251
END:VEVENT
BEGIN:VEVENT
DTSTART;TZID=America/New_York:20240529T080000
DTEND;TZID=America/New_York:20240529T170000
DTSTAMP:20260421T153259
CREATED:20240113T173612Z
LAST-MODIFIED:20240113T173612Z
UID:10001072-1716969600-1717002000@esdcta.org
SUMMARY:Sara Schmitt Dressage
DESCRIPTION:USEF/USDF Dressage
URL:https://esdcta.org/event/sara-schmitt-dressage-6/
LOCATION:New Jersey
CATEGORIES:Dressage
END:VEVENT
BEGIN:VEVENT
DTSTART;TZID=America/New_York:20240526T080000
DTEND;TZID=America/New_York:20240526T170000
DTSTAMP:20260421T153259
CREATED:20240218T155332Z
LAST-MODIFIED:20240218T155629Z
UID:10001113-1716710400-1716742800@esdcta.org
SUMMARY:ESDCTA Memorial W/E Dressage 2
DESCRIPTION:USEF/USDF Dressage
URL:https://esdcta.org/event/esdcta-memorial-w-e-dressage-2-3/
LOCATION:Horse Park of New Jersey\, 626 Rte 524\, Allentown\, New Jersey\, 08501
CATEGORIES:Dressage
END:VEVENT
BEGIN:VEVENT
DTSTART;TZID=America/New_York:20240525T080000
DTEND;TZID=America/New_York:20240525T170000
DTSTAMP:20260421T153259
CREATED:20240218T155332Z
LAST-MODIFIED:20240218T155552Z
UID:10001112-1716624000-1716656400@esdcta.org
SUMMARY:ESDCTA Memorial W/E Dressage
DESCRIPTION:USEF/USDF Dressage
URL:https://esdcta.org/event/esdcta-memorial-w-e-dressage-4/
LOCATION:Horse Park of New Jersey\, 626 Rte 524\, Allentown\, New Jersey\, 08501
CATEGORIES:Dressage
END:VEVENT
BEGIN:VEVENT
DTSTART;TZID=America/New_York:20240522T180000
DTEND;TZID=America/New_York:20240522T203000
DTSTAMP:20260421T153259
CREATED:20240424T181216Z
LAST-MODIFIED:20240424T181216Z
UID:10001173-1716400800-1716409800@esdcta.org
SUMMARY:Ariel Yazid Clinic Series
DESCRIPTION:
URL:https://esdcta.org/event/ariel-yazid-clinic-series/2024-05-22/
LOCATION:Journey’s End Farm\, 124 Templin Road\, Glenmore\, PA\, 19343\, United States
CATEGORIES:Clinic
GEO:41.3247971;-75.3914077
X-APPLE-STRUCTURED-LOCATION;VALUE=URI;X-ADDRESS=Journey’s End Farm 124 Templin Road Glenmore PA 19343 United States;X-APPLE-RADIUS=500;X-TITLE=124 Templin Road:geo:-75.3914077,41.3247971
END:VEVENT
END:VCALENDAR