BEGIN:VCALENDAR
VERSION:2.0
PRODID:-//ESDCTA - ECPv6.15.20//NONSGML v1.0//EN
CALSCALE:GREGORIAN
METHOD:PUBLISH
X-WR-CALNAME:ESDCTA
X-ORIGINAL-URL:https://esdcta.org
X-WR-CALDESC:Events for ESDCTA
REFRESH-INTERVAL;VALUE=DURATION:PT1H
X-Robots-Tag:noindex
X-PUBLISHED-TTL:PT1H
BEGIN:VTIMEZONE
TZID:America/New_York
BEGIN:DAYLIGHT
TZOFFSETFROM:-0500
TZOFFSETTO:-0400
TZNAME:EDT
DTSTART:20230312T070000
END:DAYLIGHT
BEGIN:STANDARD
TZOFFSETFROM:-0400
TZOFFSETTO:-0500
TZNAME:EST
DTSTART:20231105T060000
END:STANDARD
BEGIN:DAYLIGHT
TZOFFSETFROM:-0500
TZOFFSETTO:-0400
TZNAME:EDT
DTSTART:20240310T070000
END:DAYLIGHT
BEGIN:STANDARD
TZOFFSETFROM:-0400
TZOFFSETTO:-0500
TZNAME:EST
DTSTART:20241103T060000
END:STANDARD
BEGIN:DAYLIGHT
TZOFFSETFROM:-0500
TZOFFSETTO:-0400
TZNAME:EDT
DTSTART:20250309T070000
END:DAYLIGHT
BEGIN:STANDARD
TZOFFSETFROM:-0400
TZOFFSETTO:-0500
TZNAME:EST
DTSTART:20251102T060000
END:STANDARD
END:VTIMEZONE
BEGIN:VEVENT
DTSTART;TZID=America/New_York:20240720T080000
DTEND;TZID=America/New_York:20240720T170000
DTSTAMP:20260421T115237
CREATED:20240302T183033Z
LAST-MODIFIED:20240302T183033Z
UID:10001128-1721462400-1721494800@esdcta.org
SUMMARY:Bucks Co Horse Park Schooling Dressage
DESCRIPTION:Dressage Schooling
URL:https://esdcta.org/event/bucks-co-horse-park-schooling-dressage/
LOCATION:Bucks County Horse Park\, 8934 Easton Rd\, Revere\, PA\, 018953\, United States
CATEGORIES:Dressage
GEO:40.5224751;-75.1684702
X-APPLE-STRUCTURED-LOCATION;VALUE=URI;X-ADDRESS=Bucks County Horse Park 8934 Easton Rd Revere PA 018953 United States;X-APPLE-RADIUS=500;X-TITLE=8934 Easton Rd:geo:-75.1684702,40.5224751
END:VEVENT
BEGIN:VEVENT
DTSTART;TZID=America/New_York:20240719T080000
DTEND;TZID=America/New_York:20240720T170000
DTSTAMP:20260421T115237
CREATED:20240511T190447Z
LAST-MODIFIED:20240513T140228Z
UID:10001184-1721376000-1721494800@esdcta.org
SUMMARY:Sussex County Dressage I
DESCRIPTION:USEF/USDF Dressage
URL:https://esdcta.org/event/sussex-county-dressage-i-2/
LOCATION:Sussex County Fairgrounds\, 37 Plains Rd\, Augusta\, NJ\, 07822\, United States
CATEGORIES:Dressage
GEO:41.1362927;-74.7164249
X-APPLE-STRUCTURED-LOCATION;VALUE=URI;X-ADDRESS=Sussex County Fairgrounds 37 Plains Rd Augusta NJ 07822 United States;X-APPLE-RADIUS=500;X-TITLE=37 Plains Rd:geo:-74.7164249,41.1362927
END:VEVENT
BEGIN:VEVENT
DTSTART;TZID=America/New_York:20240717T180000
DTEND;TZID=America/New_York:20240717T203000
DTSTAMP:20260421T115237
CREATED:20240424T181216Z
LAST-MODIFIED:20240424T181216Z
UID:10001177-1721239200-1721248200@esdcta.org
SUMMARY:Ariel Yazid Clinic Series
DESCRIPTION:
URL:https://esdcta.org/event/ariel-yazid-clinic-series/2024-07-17/
LOCATION:Journey’s End Farm\, 124 Templin Road\, Glenmore\, PA\, 19343\, United States
CATEGORIES:Clinic
GEO:41.3247971;-75.3914077
X-APPLE-STRUCTURED-LOCATION;VALUE=URI;X-ADDRESS=Journey’s End Farm 124 Templin Road Glenmore PA 19343 United States;X-APPLE-RADIUS=500;X-TITLE=124 Templin Road:geo:-75.3914077,41.3247971
END:VEVENT
BEGIN:VEVENT
DTSTART;TZID=America/New_York:20240717T080000
DTEND;TZID=America/New_York:20240717T170000
DTSTAMP:20260421T115237
CREATED:20231126T215003Z
LAST-MODIFIED:20231126T215003Z
UID:10001048-1721203200-1721235600@esdcta.org
SUMMARY:Red Tail Farm July II
DESCRIPTION:USEF/USDF Dressage
URL:https://esdcta.org/event/red-tail-farm-july-ii-4/
LOCATION:Red Tail Farm\, 1100 Rattlesnake Bridge Rd\, Bedminster Township\, NJ\, 07921\, United States
CATEGORIES:Dressage
GEO:40.6437934;-74.7160768
X-APPLE-STRUCTURED-LOCATION;VALUE=URI;X-ADDRESS=Red Tail Farm 1100 Rattlesnake Bridge Rd Bedminster Township NJ 07921 United States;X-APPLE-RADIUS=500;X-TITLE=1100 Rattlesnake Bridge Rd:geo:-74.7160768,40.6437934
END:VEVENT
BEGIN:VEVENT
DTSTART;TZID=America/New_York:20240717T080000
DTEND;TZID=America/New_York:20240717T170000
DTSTAMP:20260421T115237
CREATED:20231126T203608Z
LAST-MODIFIED:20231126T203608Z
UID:10001030-1721203200-1721235600@esdcta.org
SUMMARY:Applewood Farm YEH/FEH & Mini Event
DESCRIPTION:USEA Young Event Horse & Mini Event
URL:https://esdcta.org/event/applewood-farm-yeh-feh-mini-event-5/
LOCATION:Applewood Farm\, 30 Fox Hill Road\, Califon\, NJ\, 07830\, United States
CATEGORIES:Eventing
GEO:40.704441;-74.764977
X-APPLE-STRUCTURED-LOCATION;VALUE=URI;X-ADDRESS=Applewood Farm 30 Fox Hill Road Califon NJ 07830 United States;X-APPLE-RADIUS=500;X-TITLE=30 Fox Hill Road:geo:-74.764977,40.704441
END:VEVENT
BEGIN:VEVENT
DTSTART;TZID=America/New_York:20240716T080000
DTEND;TZID=America/New_York:20240716T170000
DTSTAMP:20260421T115237
CREATED:20231126T215002Z
LAST-MODIFIED:20231126T215002Z
UID:10001047-1721116800-1721149200@esdcta.org
SUMMARY:Red Tail Farm July I
DESCRIPTION:USEF/USDF Dressage
URL:https://esdcta.org/event/red-tail-farm-july-i-4/
LOCATION:Red Tail Farm\, 1100 Rattlesnake Bridge Rd\, Bedminster Township\, NJ\, 07921\, United States
CATEGORIES:Dressage
GEO:40.6437934;-74.7160768
X-APPLE-STRUCTURED-LOCATION;VALUE=URI;X-ADDRESS=Red Tail Farm 1100 Rattlesnake Bridge Rd Bedminster Township NJ 07921 United States;X-APPLE-RADIUS=500;X-TITLE=1100 Rattlesnake Bridge Rd:geo:-74.7160768,40.6437934
END:VEVENT
BEGIN:VEVENT
DTSTART;TZID=America/New_York:20240716T020000
DTEND;TZID=America/New_York:20240716T200000
DTSTAMP:20260421T115237
CREATED:20240302T184322Z
LAST-MODIFIED:20240302T184322Z
UID:10001139-1721095200-1721160000@esdcta.org
SUMMARY:Bucks Co Horse Park TEDS
DESCRIPTION:Dressage Schooling\, Tues Eve
URL:https://esdcta.org/event/bucks-co-horse-park-teds-30/
LOCATION:Bucks County Horse Park\, 8934 Easton Rd\, Revere\, PA\, 018953\, United States
CATEGORIES:Dressage
GEO:40.5224751;-75.1684702
X-APPLE-STRUCTURED-LOCATION;VALUE=URI;X-ADDRESS=Bucks County Horse Park 8934 Easton Rd Revere PA 018953 United States;X-APPLE-RADIUS=500;X-TITLE=8934 Easton Rd:geo:-75.1684702,40.5224751
END:VEVENT
BEGIN:VEVENT
DTSTART;TZID=America/New_York:20240714T080000
DTEND;TZID=America/New_York:20240714T170000
DTSTAMP:20260421T115237
CREATED:20240330T181943Z
LAST-MODIFIED:20240330T181943Z
UID:10001154-1720944000-1720976400@esdcta.org
SUMMARY:Phoenix Eq. Center
DESCRIPTION:Dressage\, Combined Test\, and Horse Trials
URL:https://esdcta.org/event/phoenix-eq-center-26/
LOCATION:Phoenix Equestrian Center\, 39 Orts Rd\, Hamburg\, NJ\, 07419\, United States
CATEGORIES:Dressage,Eventing
END:VEVENT
BEGIN:VEVENT
DTSTART;TZID=America/New_York:20240713T080000
DTEND;TZID=America/New_York:20240713T170000
DTSTAMP:20260421T115237
CREATED:20240302T183036Z
LAST-MODIFIED:20240302T183036Z
UID:10001132-1720857600-1720890000@esdcta.org
SUMMARY:Bucks Co Horse Park - Dressage at the Park III
DESCRIPTION:USEF/USDF Dressage
URL:https://esdcta.org/event/bucks-co-horse-park-dressage-at-the-park-iii-4/
LOCATION:Bucks County Horse Park\, 8934 Easton Rd\, Revere\, PA\, 018953\, United States
CATEGORIES:Dressage
GEO:40.5224751;-75.1684702
X-APPLE-STRUCTURED-LOCATION;VALUE=URI;X-ADDRESS=Bucks County Horse Park 8934 Easton Rd Revere PA 018953 United States;X-APPLE-RADIUS=500;X-TITLE=8934 Easton Rd:geo:-75.1684702,40.5224751
END:VEVENT
BEGIN:VEVENT
DTSTART;TZID=America/New_York:20240713T080000
DTEND;TZID=America/New_York:20240713T170000
DTSTAMP:20260421T115237
CREATED:20231223T190726Z
LAST-MODIFIED:20231223T190726Z
UID:10001060-1720857600-1720890000@esdcta.org
SUMMARY:Bit O Woods Farm
DESCRIPTION:Dressage and Clear Round
URL:https://esdcta.org/event/bit-o-woods-farm-27/
LOCATION:Bit O Woods Farm\, 2207 Fostertown Road\, Hainesport\, NJ\, 08036\, United States
CATEGORIES:Dressage,Eventing
GEO:39.963529;-74.8435267
X-APPLE-STRUCTURED-LOCATION;VALUE=URI;X-ADDRESS=Bit O Woods Farm 2207 Fostertown Road Hainesport NJ 08036 United States;X-APPLE-RADIUS=500;X-TITLE=2207 Fostertown Road:geo:-74.8435267,39.963529
END:VEVENT
BEGIN:VEVENT
DTSTART;TZID=America/New_York:20240710T080000
DTEND;TZID=America/New_York:20240710T170000
DTSTAMP:20260421T115237
CREATED:20231126T203601Z
LAST-MODIFIED:20231126T203601Z
UID:10001026-1720598400-1720630800@esdcta.org
SUMMARY:Applewood Farm
DESCRIPTION:Dressage\, Combined Test\, and Clear Round
URL:https://esdcta.org/event/applewood-farm-42/
LOCATION:Applewood Farm\, 30 Fox Hill Road\, Califon\, NJ\, 07830\, United States
CATEGORIES:Dressage,Eventing
GEO:40.704441;-74.764977
X-APPLE-STRUCTURED-LOCATION;VALUE=URI;X-ADDRESS=Applewood Farm 30 Fox Hill Road Califon NJ 07830 United States;X-APPLE-RADIUS=500;X-TITLE=30 Fox Hill Road:geo:-74.764977,40.704441
END:VEVENT
BEGIN:VEVENT
DTSTART;TZID=America/New_York:20240707T080000
DTEND;TZID=America/New_York:20240707T170000
DTSTAMP:20260421T115237
CREATED:20231126T211305Z
LAST-MODIFIED:20231126T211305Z
UID:10001038-1720339200-1720371600@esdcta.org
SUMMARY:Hidden Creek Eq. Ctr
DESCRIPTION:Dressage\, Combined Test\, and Clear Round
URL:https://esdcta.org/event/hidden-creek-eq-ctr-20/
LOCATION:PA
CATEGORIES:Dressage,Eventing
END:VEVENT
BEGIN:VEVENT
DTSTART;TZID=America/New_York:20240703T180000
DTEND;TZID=America/New_York:20240703T203000
DTSTAMP:20260421T115237
CREATED:20240424T181216Z
LAST-MODIFIED:20240424T181216Z
UID:10001176-1720029600-1720038600@esdcta.org
SUMMARY:Ariel Yazid Clinic Series
DESCRIPTION:
URL:https://esdcta.org/event/ariel-yazid-clinic-series/2024-07-03/
LOCATION:Journey’s End Farm\, 124 Templin Road\, Glenmore\, PA\, 19343\, United States
CATEGORIES:Clinic
GEO:41.3247971;-75.3914077
X-APPLE-STRUCTURED-LOCATION;VALUE=URI;X-ADDRESS=Journey’s End Farm 124 Templin Road Glenmore PA 19343 United States;X-APPLE-RADIUS=500;X-TITLE=124 Templin Road:geo:-75.3914077,41.3247971
END:VEVENT
BEGIN:VEVENT
DTSTART;TZID=America/New_York:20240703T080000
DTEND;TZID=America/New_York:20240703T170000
DTSTAMP:20260421T115237
CREATED:20240113T173613Z
LAST-MODIFIED:20240113T173613Z
UID:10001074-1719993600-1720026000@esdcta.org
SUMMARY:Sara Schmitt Dressage Schooling
DESCRIPTION:Dressage Schooling w/ Western Classes
URL:https://esdcta.org/event/sara-schmitt-dressage-schooling-2/
LOCATION:PA
CATEGORIES:Dressage
END:VEVENT
BEGIN:VEVENT
DTSTART;TZID=America/New_York:20240702T020000
DTEND;TZID=America/New_York:20240702T200000
DTSTAMP:20260421T115237
CREATED:20240302T184320Z
LAST-MODIFIED:20240302T184320Z
UID:10001138-1719885600-1719950400@esdcta.org
SUMMARY:Bucks Co Horse Park TEDS
DESCRIPTION:Dressage Schooling\, Tues Eve
URL:https://esdcta.org/event/bucks-co-horse-park-teds-29/
LOCATION:Bucks County Horse Park\, 8934 Easton Rd\, Revere\, PA\, 018953\, United States
CATEGORIES:Dressage
GEO:40.5224751;-75.1684702
X-APPLE-STRUCTURED-LOCATION;VALUE=URI;X-ADDRESS=Bucks County Horse Park 8934 Easton Rd Revere PA 018953 United States;X-APPLE-RADIUS=500;X-TITLE=8934 Easton Rd:geo:-75.1684702,40.5224751
END:VEVENT
BEGIN:VEVENT
DTSTART;TZID=America/New_York:20240630T080000
DTEND;TZID=America/New_York:20240630T170000
DTSTAMP:20260421T115237
CREATED:20240420T173727Z
LAST-MODIFIED:20240515T154522Z
UID:10001164-1719734400-1719766800@esdcta.org
SUMMARY:Mane View Dressage & Mini Event
DESCRIPTION:Dressage Schooling + HT
URL:https://esdcta.org/event/mane-view-dressage-mini-event/
LOCATION:Mane View Stables\, 24 Oriental Road\, Shamong\, NJ\, 08088\, United States
CATEGORIES:Eventing
ORGANIZER;CN="Mane View Stables":MAILTO:mvstables@outlook.com
END:VEVENT
BEGIN:VEVENT
DTSTART;TZID=America/New_York:20240630T080000
DTEND;TZID=America/New_York:20240630T170000
DTSTAMP:20260421T115237
CREATED:20240203T184710Z
LAST-MODIFIED:20240203T184710Z
UID:10001091-1719734400-1719766800@esdcta.org
SUMMARY:SLM Dressage
DESCRIPTION:USEF/USDF Dressage
URL:https://esdcta.org/event/slm-dressage-35/
LOCATION:SLM Dressage\, 150 Kings Road\, Westampton\, NJ\, 08060
CATEGORIES:Dressage
END:VEVENT
BEGIN:VEVENT
DTSTART;TZID=America/New_York:20240630T080000
DTEND;TZID=America/New_York:20240630T170000
DTSTAMP:20260421T115237
CREATED:20231223T192837Z
LAST-MODIFIED:20231223T192837Z
UID:10001064-1719734400-1719766800@esdcta.org
SUMMARY:Four Farthing Farm
DESCRIPTION:Dressage & Western Dressage Schooling
URL:https://esdcta.org/event/four-farthing-farm-4/
LOCATION:Four Farthing Farm\, 151 Holland Road\, Wantage\, NJ\, 07461\, United States
CATEGORIES:Dressage
ORGANIZER;CN="Four Farthing Farm":MAILTO:fourfarthing@gmail.com
END:VEVENT
BEGIN:VEVENT
DTSTART;TZID=America/New_York:20240629T080000
DTEND;TZID=America/New_York:20240629T170000
DTSTAMP:20260421T115237
CREATED:20240203T184709Z
LAST-MODIFIED:20240203T184709Z
UID:10001090-1719648000-1719680400@esdcta.org
SUMMARY:SLM Dressage
DESCRIPTION:USEF/USDF Dressage
URL:https://esdcta.org/event/slm-dressage-34/
LOCATION:SLM Dressage\, 150 Kings Road\, Westampton\, NJ\, 08060
CATEGORIES:Dressage
END:VEVENT
BEGIN:VEVENT
DTSTART;TZID=America/New_York:20240629T080000
DTEND;TZID=America/New_York:20240629T170000
DTSTAMP:20260421T115237
CREATED:20231126T211303Z
LAST-MODIFIED:20231126T211303Z
UID:10001035-1719648000-1719680400@esdcta.org
SUMMARY:Hearts Journey Stables
DESCRIPTION:Dressage Schooling \, Combined Test
URL:https://esdcta.org/event/hearts-journey-stables-24/
LOCATION:Hearts Journey Stables\, 425 Kromer Road\, Wind Gap\, PA\, 18091\, United States
CATEGORIES:Dressage,Eventing
GEO:40.8204999;-75.3000835
X-APPLE-STRUCTURED-LOCATION;VALUE=URI;X-ADDRESS=Hearts Journey Stables 425 Kromer Road Wind Gap PA 18091 United States;X-APPLE-RADIUS=500;X-TITLE=425 Kromer Road:geo:-75.3000835,40.8204999
END:VEVENT
BEGIN:VEVENT
DTSTART;TZID=America/New_York:20240623T080000
DTEND;TZID=America/New_York:20240623T170000
DTSTAMP:20260421T115237
CREATED:20240406T161613Z
LAST-MODIFIED:20240406T161613Z
UID:10001161-1719129600-1719162000@esdcta.org
SUMMARY:FCEA Schooling Dressage
DESCRIPTION:Dressage Schooling
URL:https://esdcta.org/event/fcea-schooling-dressage-3/
LOCATION:Journey’s End Farm\, 124 Templin Road\, Glenmore\, PA\, 19343\, United States
CATEGORIES:Dressage
ORGANIZER;CN="French Creek Equestrian Association":MAILTO:NHF2054@GMAIL.COM
GEO:41.3247971;-75.3914077
X-APPLE-STRUCTURED-LOCATION;VALUE=URI;X-ADDRESS=Journey’s End Farm 124 Templin Road Glenmore PA 19343 United States;X-APPLE-RADIUS=500;X-TITLE=124 Templin Road:geo:-75.3914077,41.3247971
END:VEVENT
BEGIN:VEVENT
DTSTART;TZID=America/New_York:20240623T080000
DTEND;TZID=America/New_York:20240623T170000
DTSTAMP:20260421T115237
CREATED:20240302T181635Z
LAST-MODIFIED:20240302T181635Z
UID:10001125-1719129600-1719162000@esdcta.org
SUMMARY:Bucks Co Horse Park USEA
DESCRIPTION:USEA Horse Trials
URL:https://esdcta.org/event/bucks-co-horse-park-usea-3/
LOCATION:Bucks County Horse Park\, 8934 Easton Rd\, Revere\, PA\, 018953\, United States
CATEGORIES:Eventing
GEO:40.5224751;-75.1684702
X-APPLE-STRUCTURED-LOCATION;VALUE=URI;X-ADDRESS=Bucks County Horse Park 8934 Easton Rd Revere PA 018953 United States;X-APPLE-RADIUS=500;X-TITLE=8934 Easton Rd:geo:-75.1684702,40.5224751
END:VEVENT
BEGIN:VEVENT
DTSTART;TZID=America/New_York:20240623T080000
DTEND;TZID=America/New_York:20240623T170000
DTSTAMP:20260421T115237
CREATED:20240203T200953Z
LAST-MODIFIED:20240203T200953Z
UID:10001096-1719129600-1719162000@esdcta.org
SUMMARY:Dressage at Bella Rosa Stables
DESCRIPTION:Dressage Schooling w/ Western Classes
URL:https://esdcta.org/event/dressage-at-bella-rosa-stables-2/
LOCATION:Bella Rosa Stables\, 151 Oak Glen Road\, Howell\, NJ\, 07731\, United States
CATEGORIES:Dressage
ORGANIZER;CN="Bella Rosa Stables":MAILTO:ktz10@aol.com
END:VEVENT
BEGIN:VEVENT
DTSTART;TZID=America/New_York:20240623T080000
DTEND;TZID=America/New_York:20240623T170000
DTSTAMP:20260421T115237
CREATED:20231126T220915Z
LAST-MODIFIED:20231126T220915Z
UID:10001054-1719129600-1719162000@esdcta.org
SUMMARY:Old Field Farm Hudson Valley Dressage Schooling Show
DESCRIPTION:Dressage Schooling w/ Western Classes
URL:https://esdcta.org/event/old-field-farm-hudson-valley-dressage-schooling-show/
LOCATION:Old Field Farm\, 349 Sarah Wells Trail\, Goshen\, NY\, 10924\, United States
CATEGORIES:Dressage
ORGANIZER;CN="Old Field Farm":MAILTO:debcorr10924@gmail.com
END:VEVENT
BEGIN:VEVENT
DTSTART;TZID=America/New_York:20240623T080000
DTEND;TZID=America/New_York:20240623T170000
DTSTAMP:20260421T115237
CREATED:20231126T215002Z
LAST-MODIFIED:20231126T215002Z
UID:10001046-1719129600-1719162000@esdcta.org
SUMMARY:Red Tail Farm June II
DESCRIPTION:USEF/USDF Dressage
URL:https://esdcta.org/event/red-tail-farm-june-ii-9/
LOCATION:Red Tail Farm\, 1100 Rattlesnake Bridge Rd\, Bedminster Township\, NJ\, 07921\, United States
CATEGORIES:Dressage
GEO:40.6437934;-74.7160768
X-APPLE-STRUCTURED-LOCATION;VALUE=URI;X-ADDRESS=Red Tail Farm 1100 Rattlesnake Bridge Rd Bedminster Township NJ 07921 United States;X-APPLE-RADIUS=500;X-TITLE=1100 Rattlesnake Bridge Rd:geo:-74.7160768,40.6437934
END:VEVENT
BEGIN:VEVENT
DTSTART;TZID=America/New_York:20240622T080000
DTEND;TZID=America/New_York:20240623T170000
DTSTAMP:20260421T115237
CREATED:20231126T205435Z
LAST-MODIFIED:20231126T205435Z
UID:10001034-1719043200-1719162000@esdcta.org
SUMMARY:USDF Region 1 Youth Team Challenge
DESCRIPTION:Dressage Schooling
URL:https://esdcta.org/event/usdf-region-1-youth-team-challenge/
LOCATION:Rose Mount Farm\, 9601 Courthouse Road\, Spotsylvania Courthouse\, VA\, 22553\, United States
CATEGORIES:Dressage
END:VEVENT
BEGIN:VEVENT
DTSTART;TZID=America/New_York:20240622T080000
DTEND;TZID=America/New_York:20240622T170000
DTSTAMP:20260421T115237
CREATED:20240203T184705Z
LAST-MODIFIED:20240203T184705Z
UID:10001085-1719043200-1719075600@esdcta.org
SUMMARY:SLM Dressage
DESCRIPTION:Dressage Schooling w/ Western Classes
URL:https://esdcta.org/event/slm-dressage-29/
LOCATION:SLM Dressage\, 150 Kings Road\, Westampton\, NJ\, 08060
CATEGORIES:Dressage
END:VEVENT
BEGIN:VEVENT
DTSTART;TZID=America/New_York:20240622T080000
DTEND;TZID=America/New_York:20240622T170000
DTSTAMP:20260421T115237
CREATED:20231126T215001Z
LAST-MODIFIED:20231126T215001Z
UID:10001045-1719043200-1719075600@esdcta.org
SUMMARY:Red Tail Farm June I
DESCRIPTION:USEF/USDF Dressage
URL:https://esdcta.org/event/red-tail-farm-june-i-9/
LOCATION:Red Tail Farm\, 1100 Rattlesnake Bridge Rd\, Bedminster Township\, NJ\, 07921\, United States
CATEGORIES:Dressage
GEO:40.6437934;-74.7160768
X-APPLE-STRUCTURED-LOCATION;VALUE=URI;X-ADDRESS=Red Tail Farm 1100 Rattlesnake Bridge Rd Bedminster Township NJ 07921 United States;X-APPLE-RADIUS=500;X-TITLE=1100 Rattlesnake Bridge Rd:geo:-74.7160768,40.6437934
END:VEVENT
BEGIN:VEVENT
DTSTART;TZID=America/New_York:20240619T180000
DTEND;TZID=America/New_York:20240619T203000
DTSTAMP:20260421T115237
CREATED:20240424T181216Z
LAST-MODIFIED:20240424T181216Z
UID:10001175-1718820000-1718829000@esdcta.org
SUMMARY:Ariel Yazid Clinic Series
DESCRIPTION:
URL:https://esdcta.org/event/ariel-yazid-clinic-series/2024-06-19/
LOCATION:Journey’s End Farm\, 124 Templin Road\, Glenmore\, PA\, 19343\, United States
CATEGORIES:Clinic
GEO:41.3247971;-75.3914077
X-APPLE-STRUCTURED-LOCATION;VALUE=URI;X-ADDRESS=Journey’s End Farm 124 Templin Road Glenmore PA 19343 United States;X-APPLE-RADIUS=500;X-TITLE=124 Templin Road:geo:-75.3914077,41.3247971
END:VEVENT
BEGIN:VEVENT
DTSTART;TZID=America/New_York:20240618T020000
DTEND;TZID=America/New_York:20240618T200000
DTSTAMP:20260421T115237
CREATED:20240302T184319Z
LAST-MODIFIED:20240302T184319Z
UID:10001137-1718676000-1718740800@esdcta.org
SUMMARY:Bucks Co Horse Park TEDS
DESCRIPTION:Dressage Schooling\, Tues Eve
URL:https://esdcta.org/event/bucks-co-horse-park-teds-28/
LOCATION:Bucks County Horse Park\, 8934 Easton Rd\, Revere\, PA\, 018953\, United States
CATEGORIES:Dressage
GEO:40.5224751;-75.1684702
X-APPLE-STRUCTURED-LOCATION;VALUE=URI;X-ADDRESS=Bucks County Horse Park 8934 Easton Rd Revere PA 018953 United States;X-APPLE-RADIUS=500;X-TITLE=8934 Easton Rd:geo:-75.1684702,40.5224751
END:VEVENT
END:VCALENDAR