BEGIN:VCALENDAR
VERSION:2.0
PRODID:-//ESDCTA - ECPv6.15.20//NONSGML v1.0//EN
CALSCALE:GREGORIAN
METHOD:PUBLISH
X-ORIGINAL-URL:https://esdcta.org
X-WR-CALDESC:Events for ESDCTA
REFRESH-INTERVAL;VALUE=DURATION:PT1H
X-Robots-Tag:noindex
X-PUBLISHED-TTL:PT1H
BEGIN:VTIMEZONE
TZID:America/New_York
BEGIN:DAYLIGHT
TZOFFSETFROM:-0500
TZOFFSETTO:-0400
TZNAME:EDT
DTSTART:20230312T070000
END:DAYLIGHT
BEGIN:STANDARD
TZOFFSETFROM:-0400
TZOFFSETTO:-0500
TZNAME:EST
DTSTART:20231105T060000
END:STANDARD
BEGIN:DAYLIGHT
TZOFFSETFROM:-0500
TZOFFSETTO:-0400
TZNAME:EDT
DTSTART:20240310T070000
END:DAYLIGHT
BEGIN:STANDARD
TZOFFSETFROM:-0400
TZOFFSETTO:-0500
TZNAME:EST
DTSTART:20241103T060000
END:STANDARD
BEGIN:DAYLIGHT
TZOFFSETFROM:-0500
TZOFFSETTO:-0400
TZNAME:EDT
DTSTART:20250309T070000
END:DAYLIGHT
BEGIN:STANDARD
TZOFFSETFROM:-0400
TZOFFSETTO:-0500
TZNAME:EST
DTSTART:20251102T060000
END:STANDARD
END:VTIMEZONE
BEGIN:VEVENT
DTSTART;TZID=America/New_York:20240901T080000
DTEND;TZID=America/New_York:20240901T170000
DTSTAMP:20260421T071933
CREATED:20240302T181636Z
LAST-MODIFIED:20240302T181636Z
UID:10001126-1725177600-1725210000@esdcta.org
SUMMARY:Bucks Co Horse Park USEA
DESCRIPTION:USEA Horse Trials
URL:https://esdcta.org/event/bucks-co-horse-park-usea-4/
LOCATION:Bucks County Horse Park\, 8934 Easton Rd\, Revere\, PA\, 018953\, United States
CATEGORIES:Eventing
GEO:40.5224751;-75.1684702
X-APPLE-STRUCTURED-LOCATION;VALUE=URI;X-ADDRESS=Bucks County Horse Park 8934 Easton Rd Revere PA 018953 United States;X-APPLE-RADIUS=500;X-TITLE=8934 Easton Rd:geo:-75.1684702,40.5224751
END:VEVENT
BEGIN:VEVENT
DTSTART;TZID=America/New_York:20240830T080000
DTEND;TZID=America/New_York:20240831T170000
DTSTAMP:20260421T071933
CREATED:20240724T201839Z
LAST-MODIFIED:20240724T201839Z
UID:10001190-1725004800-1725123600@esdcta.org
SUMMARY:Dressage at Stone Tavern I
DESCRIPTION:
URL:https://esdcta.org/event/dressage-at-stone-tavern-i-7/
LOCATION:Horse Park of New Jersey\, 626 Rte 524\, Allentown\, New Jersey\, 08501
CATEGORIES:Dressage
END:VEVENT
BEGIN:VEVENT
DTSTART;TZID=America/New_York:20240828T180000
DTEND;TZID=America/New_York:20240828T203000
DTSTAMP:20260421T071933
CREATED:20240424T181216Z
LAST-MODIFIED:20240424T181216Z
UID:10001180-1724868000-1724877000@esdcta.org
SUMMARY:Ariel Yazid Clinic Series
DESCRIPTION:
URL:https://esdcta.org/event/ariel-yazid-clinic-series/2024-08-28/
LOCATION:Journey’s End Farm\, 124 Templin Road\, Glenmore\, PA\, 19343\, United States
CATEGORIES:Clinic
GEO:41.3247971;-75.3914077
X-APPLE-STRUCTURED-LOCATION;VALUE=URI;X-ADDRESS=Journey’s End Farm 124 Templin Road Glenmore PA 19343 United States;X-APPLE-RADIUS=500;X-TITLE=124 Templin Road:geo:-75.3914077,41.3247971
END:VEVENT
BEGIN:VEVENT
DTSTART;TZID=America/New_York:20240827T020000
DTEND;TZID=America/New_York:20240827T200000
DTSTAMP:20260421T071933
CREATED:20240302T184324Z
LAST-MODIFIED:20240302T184324Z
UID:10001142-1724724000-1724788800@esdcta.org
SUMMARY:Bucks Co Horse Park TEDS
DESCRIPTION:Dressage Schooling\, Tues Eve
URL:https://esdcta.org/event/bucks-co-horse-park-teds-33/
LOCATION:Bucks County Horse Park\, 8934 Easton Rd\, Revere\, PA\, 018953\, United States
CATEGORIES:Dressage
GEO:40.5224751;-75.1684702
X-APPLE-STRUCTURED-LOCATION;VALUE=URI;X-ADDRESS=Bucks County Horse Park 8934 Easton Rd Revere PA 018953 United States;X-APPLE-RADIUS=500;X-TITLE=8934 Easton Rd:geo:-75.1684702,40.5224751
END:VEVENT
BEGIN:VEVENT
DTSTART;TZID=America/New_York:20240825T080000
DTEND;TZID=America/New_York:20240825T170000
DTSTAMP:20260421T071933
CREATED:20240302T181630Z
LAST-MODIFIED:20240302T181630Z
UID:10001120-1724572800-1724605200@esdcta.org
SUMMARY:Bucks Co Horse Park Schooling CT
DESCRIPTION:Schooling Combined Test
URL:https://esdcta.org/event/bucks-co-horse-park-schooling-ct-2/
LOCATION:Bucks County Horse Park\, 8934 Easton Rd\, Revere\, PA\, 018953\, United States
CATEGORIES:Dressage,Eventing
GEO:40.5224751;-75.1684702
X-APPLE-STRUCTURED-LOCATION;VALUE=URI;X-ADDRESS=Bucks County Horse Park 8934 Easton Rd Revere PA 018953 United States;X-APPLE-RADIUS=500;X-TITLE=8934 Easton Rd:geo:-75.1684702,40.5224751
END:VEVENT
BEGIN:VEVENT
DTSTART;TZID=America/New_York:20240825T080000
DTEND;TZID=America/New_York:20240825T170000
DTSTAMP:20260421T071933
CREATED:20231223T192837Z
LAST-MODIFIED:20231223T192837Z
UID:10001065-1724572800-1724605200@esdcta.org
SUMMARY:Four Farthing Farm
DESCRIPTION:Dressage & Western Dressage Schooling
URL:https://esdcta.org/event/four-farthing-farm-5/
LOCATION:Four Farthing Farm\, 151 Holland Road\, Wantage\, NJ\, 07461\, United States
CATEGORIES:Dressage
ORGANIZER;CN="Four Farthing Farm":MAILTO:fourfarthing@gmail.com
END:VEVENT
BEGIN:VEVENT
DTSTART;TZID=America/New_York:20240824T080000
DTEND;TZID=America/New_York:20240825T170000
DTSTAMP:20260421T071933
CREATED:20231126T205434Z
LAST-MODIFIED:20231126T205434Z
UID:10001033-1724486400-1724605200@esdcta.org
SUMMARY:Dressage Experience Fall Festival
DESCRIPTION:USEF/USDF Dressage
URL:https://esdcta.org/event/dressage-experience-fall-festival-2/
LOCATION:Horse Park of New Jersey\, 626 Rte 524\, Allentown\, New Jersey\, 08501
CATEGORIES:Dressage
END:VEVENT
BEGIN:VEVENT
DTSTART;TZID=America/New_York:20240821T080000
DTEND;TZID=America/New_York:20240821T170000
DTSTAMP:20260421T071933
CREATED:20240113T173613Z
LAST-MODIFIED:20240113T173613Z
UID:10001073-1724227200-1724259600@esdcta.org
SUMMARY:Sara Schmitt Dressage Schooling
DESCRIPTION:Dressage Schooling w/ Western Classes
URL:https://esdcta.org/event/sara-schmitt-dressage-schooling/
LOCATION:PA
CATEGORIES:Dressage
END:VEVENT
BEGIN:VEVENT
DTSTART;TZID=America/New_York:20240818T080000
DTEND;TZID=America/New_York:20240818T170000
DTSTAMP:20260421T071933
CREATED:20240203T203829Z
LAST-MODIFIED:20240203T203829Z
UID:10001100-1723968000-1724000400@esdcta.org
SUMMARY:Painted Dreams Schooling Show Series
DESCRIPTION:Dressage Schooling w/ Western Classes
URL:https://esdcta.org/event/painted-dreams-schooling-show-series-3/
LOCATION:Painted Dreams Horse Farm\, 941 Park Avenue\, Wrightstown\, PA\, 18940\, United States
CATEGORIES:Dressage
ORGANIZER;CN="Painted Dreams Horse Farm":MAILTO:maria@painteddreamshorsefarm.com
END:VEVENT
BEGIN:VEVENT
DTSTART;TZID=America/New_York:20240818T080000
DTEND;TZID=America/New_York:20240818T170000
DTSTAMP:20260421T071933
CREATED:20240203T200953Z
LAST-MODIFIED:20240203T200953Z
UID:10001097-1723968000-1724000400@esdcta.org
SUMMARY:Dressage at Bella Rosa Stables
DESCRIPTION:Dressage Schooling w/ Western Classes
URL:https://esdcta.org/event/dressage-at-bella-rosa-stables-3/
LOCATION:Bella Rosa Stables\, 151 Oak Glen Road\, Howell\, NJ\, 07731\, United States
CATEGORIES:Dressage
ORGANIZER;CN="Bella Rosa Stables":MAILTO:ktz10@aol.com
END:VEVENT
BEGIN:VEVENT
DTSTART;TZID=America/New_York:20240818T080000
DTEND;TZID=America/New_York:20240818T170000
DTSTAMP:20260421T071933
CREATED:20231126T211305Z
LAST-MODIFIED:20231126T211305Z
UID:10001039-1723968000-1724000400@esdcta.org
SUMMARY:Hidden Creek Eq. Ctr
DESCRIPTION:Dressage\, Combined Test\, and Clear Round
URL:https://esdcta.org/event/hidden-creek-eq-ctr-21/
LOCATION:PA
CATEGORIES:Dressage,Eventing
END:VEVENT
BEGIN:VEVENT
DTSTART;TZID=America/New_York:20240814T180000
DTEND;TZID=America/New_York:20240814T203000
DTSTAMP:20260421T071933
CREATED:20240424T181216Z
LAST-MODIFIED:20240424T181216Z
UID:10001179-1723658400-1723667400@esdcta.org
SUMMARY:Ariel Yazid Clinic Series
DESCRIPTION:
URL:https://esdcta.org/event/ariel-yazid-clinic-series/2024-08-14/
LOCATION:Journey’s End Farm\, 124 Templin Road\, Glenmore\, PA\, 19343\, United States
CATEGORIES:Clinic
GEO:41.3247971;-75.3914077
X-APPLE-STRUCTURED-LOCATION;VALUE=URI;X-ADDRESS=Journey’s End Farm 124 Templin Road Glenmore PA 19343 United States;X-APPLE-RADIUS=500;X-TITLE=124 Templin Road:geo:-75.3914077,41.3247971
END:VEVENT
BEGIN:VEVENT
DTSTART;TZID=America/New_York:20240814T080000
DTEND;TZID=America/New_York:20240814T170000
DTSTAMP:20260421T071933
CREATED:20231126T203608Z
LAST-MODIFIED:20231126T203608Z
UID:10001031-1723622400-1723654800@esdcta.org
SUMMARY:Applewood Farm YEH/FEH & Mini Event
DESCRIPTION:USEA Young Event Horse & Mini Event
URL:https://esdcta.org/event/applewood-farm-yeh-feh-mini-event-6/
LOCATION:Applewood Farm\, 30 Fox Hill Road\, Califon\, NJ\, 07830\, United States
CATEGORIES:Eventing
GEO:40.704441;-74.764977
X-APPLE-STRUCTURED-LOCATION;VALUE=URI;X-ADDRESS=Applewood Farm 30 Fox Hill Road Califon NJ 07830 United States;X-APPLE-RADIUS=500;X-TITLE=30 Fox Hill Road:geo:-74.764977,40.704441
END:VEVENT
BEGIN:VEVENT
DTSTART;TZID=America/New_York:20240813T020000
DTEND;TZID=America/New_York:20240813T200000
DTSTAMP:20260421T071933
CREATED:20240302T184323Z
LAST-MODIFIED:20240302T184323Z
UID:10001141-1723514400-1723579200@esdcta.org
SUMMARY:Bucks Co Horse Park TEDS
DESCRIPTION:Dressage Schooling\, Tues Eve
URL:https://esdcta.org/event/bucks-co-horse-park-teds-32/
LOCATION:Bucks County Horse Park\, 8934 Easton Rd\, Revere\, PA\, 018953\, United States
CATEGORIES:Dressage
GEO:40.5224751;-75.1684702
X-APPLE-STRUCTURED-LOCATION;VALUE=URI;X-ADDRESS=Bucks County Horse Park 8934 Easton Rd Revere PA 018953 United States;X-APPLE-RADIUS=500;X-TITLE=8934 Easton Rd:geo:-75.1684702,40.5224751
END:VEVENT
BEGIN:VEVENT
DTSTART;TZID=America/New_York:20240811T080000
DTEND;TZID=America/New_York:20240811T170000
DTSTAMP:20260421T071933
CREATED:20240420T173728Z
LAST-MODIFIED:20240420T173728Z
UID:10001165-1723363200-1723395600@esdcta.org
SUMMARY:Mane View Dressage & Mini Event
DESCRIPTION:Dressage Schooling + HT
URL:https://esdcta.org/event/mane-view-dressage-mini-event-2/
LOCATION:Mane View Stables\, 24 Oriental Road\, Shamong\, NJ\, 08088\, United States
CATEGORIES:Eventing
ORGANIZER;CN="Mane View Stables":MAILTO:mvstables@outlook.com
END:VEVENT
BEGIN:VEVENT
DTSTART;TZID=America/New_York:20240811T080000
DTEND;TZID=America/New_York:20240811T170000
DTSTAMP:20260421T071933
CREATED:20240330T181943Z
LAST-MODIFIED:20240330T181943Z
UID:10001155-1723363200-1723395600@esdcta.org
SUMMARY:Phoenix Eq. Center
DESCRIPTION:Dressage\, Combined Test\, and Horse Trials
URL:https://esdcta.org/event/phoenix-eq-center-27/
LOCATION:Phoenix Equestrian Center\, 39 Orts Rd\, Hamburg\, NJ\, 07419\, United States
CATEGORIES:Dressage,Eventing
END:VEVENT
BEGIN:VEVENT
DTSTART;TZID=America/New_York:20240811T080000
DTEND;TZID=America/New_York:20240811T170000
DTSTAMP:20260421T071933
CREATED:20240217T171003Z
LAST-MODIFIED:20240810T174048Z
UID:10001106-1723363200-1723395600@esdcta.org
SUMMARY:LVDA Schooling Show IV
DESCRIPTION:Dressage Schooling
URL:https://esdcta.org/event/lvda-schooling-show-v/
LOCATION:Rhythm & Blues Equestrian Center\, 2450 Steinsburg Rd\, Quakertown\, PA\, 18951\, United States
CATEGORIES:Dressage
GEO:40.4551978;-75.4324816
X-APPLE-STRUCTURED-LOCATION;VALUE=URI;X-ADDRESS=Rhythm & Blues Equestrian Center 2450 Steinsburg Rd Quakertown PA 18951 United States;X-APPLE-RADIUS=500;X-TITLE=2450 Steinsburg Rd:geo:-75.4324816,40.4551978
END:VEVENT
BEGIN:VEVENT
DTSTART;TZID=America/New_York:20240807T080000
DTEND;TZID=America/New_York:20240807T170000
DTSTAMP:20260421T071933
CREATED:20240420T174943Z
LAST-MODIFIED:20240420T174943Z
UID:10001168-1723017600-1723050000@esdcta.org
SUMMARY:Rhythm&Blues III
DESCRIPTION:USEF/USDF Dressage
URL:https://esdcta.org/event/rhythmblues-iii-2/
LOCATION:Rhythm & Blues Equestrian Center\, 2450 Steinsburg Rd\, Quakertown\, PA\, 18951\, United States
CATEGORIES:Dressage
GEO:40.4551978;-75.4324816
X-APPLE-STRUCTURED-LOCATION;VALUE=URI;X-ADDRESS=Rhythm & Blues Equestrian Center 2450 Steinsburg Rd Quakertown PA 18951 United States;X-APPLE-RADIUS=500;X-TITLE=2450 Steinsburg Rd:geo:-75.4324816,40.4551978
END:VEVENT
BEGIN:VEVENT
DTSTART;TZID=America/New_York:20240807T080000
DTEND;TZID=America/New_York:20240807T170000
DTSTAMP:20260421T071933
CREATED:20231126T203602Z
LAST-MODIFIED:20231126T203602Z
UID:10001027-1723017600-1723050000@esdcta.org
SUMMARY:Applewood Farm
DESCRIPTION:Dressage\, Combined Test\, and Clear Round
URL:https://esdcta.org/event/applewood-farm-43/
LOCATION:Applewood Farm\, 30 Fox Hill Road\, Califon\, NJ\, 07830\, United States
CATEGORIES:Dressage,Eventing
GEO:40.704441;-74.764977
X-APPLE-STRUCTURED-LOCATION;VALUE=URI;X-ADDRESS=Applewood Farm 30 Fox Hill Road Califon NJ 07830 United States;X-APPLE-RADIUS=500;X-TITLE=30 Fox Hill Road:geo:-74.764977,40.704441
END:VEVENT
BEGIN:VEVENT
DTSTART;TZID=America/New_York:20240806T080000
DTEND;TZID=America/New_York:20240806T170000
DTSTAMP:20260421T071933
CREATED:20231126T215009Z
LAST-MODIFIED:20231126T215009Z
UID:10001050-1722931200-1722963600@esdcta.org
SUMMARY:Red Tail Farm Aug II
DESCRIPTION:USEF/USDF Dressage
URL:https://esdcta.org/event/red-tail-farm-aug-ii-4/
LOCATION:Red Tail Farm\, 1100 Rattlesnake Bridge Rd\, Bedminster Township\, NJ\, 07921\, United States
CATEGORIES:Dressage
GEO:40.6437934;-74.7160768
X-APPLE-STRUCTURED-LOCATION;VALUE=URI;X-ADDRESS=Red Tail Farm 1100 Rattlesnake Bridge Rd Bedminster Township NJ 07921 United States;X-APPLE-RADIUS=500;X-TITLE=1100 Rattlesnake Bridge Rd:geo:-74.7160768,40.6437934
END:VEVENT
BEGIN:VEVENT
DTSTART;TZID=America/New_York:20240805T080000
DTEND;TZID=America/New_York:20240805T170000
DTSTAMP:20260421T071933
CREATED:20231126T215008Z
LAST-MODIFIED:20231126T215008Z
UID:10001049-1722844800-1722877200@esdcta.org
SUMMARY:Red Tail Farm Aug I
DESCRIPTION:USEF/USDF Dressage
URL:https://esdcta.org/event/red-tail-farm-aug-i-4/
LOCATION:Red Tail Farm\, 1100 Rattlesnake Bridge Rd\, Bedminster Township\, NJ\, 07921\, United States
CATEGORIES:Dressage
GEO:40.6437934;-74.7160768
X-APPLE-STRUCTURED-LOCATION;VALUE=URI;X-ADDRESS=Red Tail Farm 1100 Rattlesnake Bridge Rd Bedminster Township NJ 07921 United States;X-APPLE-RADIUS=500;X-TITLE=1100 Rattlesnake Bridge Rd:geo:-74.7160768,40.6437934
END:VEVENT
BEGIN:VEVENT
DTSTART;TZID=America/New_York:20240804T080000
DTEND;TZID=America/New_York:20240804T170000
DTSTAMP:20260421T071933
CREATED:20240302T183037Z
LAST-MODIFIED:20240302T183037Z
UID:10001133-1722758400-1722790800@esdcta.org
SUMMARY:Bucks Co Horse Park - Dressage at the Park IV
DESCRIPTION:USEF/USDF Dressage
URL:https://esdcta.org/event/bucks-co-horse-park-dressage-at-the-park-iv-4/
LOCATION:Bucks County Horse Park\, 8934 Easton Rd\, Revere\, PA\, 018953\, United States
CATEGORIES:Dressage
GEO:40.5224751;-75.1684702
X-APPLE-STRUCTURED-LOCATION;VALUE=URI;X-ADDRESS=Bucks County Horse Park 8934 Easton Rd Revere PA 018953 United States;X-APPLE-RADIUS=500;X-TITLE=8934 Easton Rd:geo:-75.1684702,40.5224751
END:VEVENT
BEGIN:VEVENT
DTSTART;TZID=America/New_York:20240804T080000
DTEND;TZID=America/New_York:20240804T170000
DTSTAMP:20260421T071933
CREATED:20231126T212302Z
LAST-MODIFIED:20231126T212302Z
UID:10001041-1722758400-1722790800@esdcta.org
SUMMARY:Square One
DESCRIPTION:Dressage Schooling
URL:https://esdcta.org/event/square-one-31/
LOCATION:Square One\, 315 Mattison Reservoir Avenue\, Branchville\, NJ\, 07826\, United States
CATEGORIES:Dressage
GEO:41.200032;-74.680259
X-APPLE-STRUCTURED-LOCATION;VALUE=URI;X-ADDRESS=Square One 315 Mattison Reservoir Avenue Branchville NJ 07826 United States;X-APPLE-RADIUS=500;X-TITLE=315 Mattison Reservoir Avenue:geo:-74.680259,41.200032
END:VEVENT
BEGIN:VEVENT
DTSTART;TZID=America/New_York:20240803T080000
DTEND;TZID=America/New_York:20240803T170000
DTSTAMP:20260421T071933
CREATED:20240217T173845Z
LAST-MODIFIED:20240217T173845Z
UID:10001109-1722672000-1722704400@esdcta.org
SUMMARY:WillsWay HVDS Summer Sizzle
DESCRIPTION:Dressage Schooling w/ Western Classes
URL:https://esdcta.org/event/willsway-hvds-summer-sizzle/
LOCATION:WillsWay Equestrian Center\, 120 Conklingtown Road\, Goshen\, NY\, 10924\, United States
CATEGORIES:Dressage
END:VEVENT
BEGIN:VEVENT
DTSTART;TZID=America/New_York:20240803T080000
DTEND;TZID=America/New_York:20240803T170000
DTSTAMP:20260421T071933
CREATED:20231223T190727Z
LAST-MODIFIED:20240612T185641Z
UID:10001061-1722672000-1722704400@esdcta.org
SUMMARY:Bit O Woods Farm
DESCRIPTION:Dressage and Clear Round
URL:https://esdcta.org/event/bit-o-woods-farm-28/
LOCATION:Bit O Woods Farm\, 2207 Fostertown Road\, Hainesport\, NJ\, 08036\, United States
CATEGORIES:Dressage,Eventing
GEO:39.963529;-74.8435267
X-APPLE-STRUCTURED-LOCATION;VALUE=URI;X-ADDRESS=Bit O Woods Farm 2207 Fostertown Road Hainesport NJ 08036 United States;X-APPLE-RADIUS=500;X-TITLE=2207 Fostertown Road:geo:-74.8435267,39.963529
END:VEVENT
BEGIN:VEVENT
DTSTART;TZID=America/New_York:20240803T080000
DTEND;TZID=America/New_York:20240803T170000
DTSTAMP:20260421T071933
CREATED:20231126T211304Z
LAST-MODIFIED:20231126T211304Z
UID:10001036-1722672000-1722704400@esdcta.org
SUMMARY:Hearts Journey Stables
DESCRIPTION:Dressage Schooling \, Combined Test
URL:https://esdcta.org/event/hearts-journey-stables-25/
LOCATION:Hearts Journey Stables\, 425 Kromer Road\, Wind Gap\, PA\, 18091\, United States
CATEGORIES:Dressage,Eventing
GEO:40.8204999;-75.3000835
X-APPLE-STRUCTURED-LOCATION;VALUE=URI;X-ADDRESS=Hearts Journey Stables 425 Kromer Road Wind Gap PA 18091 United States;X-APPLE-RADIUS=500;X-TITLE=425 Kromer Road:geo:-75.3000835,40.8204999
END:VEVENT
BEGIN:VEVENT
DTSTART;TZID=America/New_York:20240731T180000
DTEND;TZID=America/New_York:20240731T203000
DTSTAMP:20260421T071933
CREATED:20240424T181216Z
LAST-MODIFIED:20240424T181216Z
UID:10001178-1722448800-1722457800@esdcta.org
SUMMARY:Ariel Yazid Clinic Series
DESCRIPTION:
URL:https://esdcta.org/event/ariel-yazid-clinic-series/2024-07-31/
LOCATION:Journey’s End Farm\, 124 Templin Road\, Glenmore\, PA\, 19343\, United States
CATEGORIES:Clinic
GEO:41.3247971;-75.3914077
X-APPLE-STRUCTURED-LOCATION;VALUE=URI;X-ADDRESS=Journey’s End Farm 124 Templin Road Glenmore PA 19343 United States;X-APPLE-RADIUS=500;X-TITLE=124 Templin Road:geo:-75.3914077,41.3247971
END:VEVENT
BEGIN:VEVENT
DTSTART;TZID=America/New_York:20240730T020000
DTEND;TZID=America/New_York:20240730T200000
DTSTAMP:20260421T071933
CREATED:20240302T184323Z
LAST-MODIFIED:20240302T184323Z
UID:10001140-1722304800-1722369600@esdcta.org
SUMMARY:Bucks Co Horse Park TEDS
DESCRIPTION:Dressage Schooling\, Tues Eve
URL:https://esdcta.org/event/bucks-co-horse-park-teds-31/
LOCATION:Bucks County Horse Park\, 8934 Easton Rd\, Revere\, PA\, 018953\, United States
CATEGORIES:Dressage
GEO:40.5224751;-75.1684702
X-APPLE-STRUCTURED-LOCATION;VALUE=URI;X-ADDRESS=Bucks County Horse Park 8934 Easton Rd Revere PA 018953 United States;X-APPLE-RADIUS=500;X-TITLE=8934 Easton Rd:geo:-75.1684702,40.5224751
END:VEVENT
BEGIN:VEVENT
DTSTART;TZID=America/New_York:20240728T080000
DTEND;TZID=America/New_York:20240728T170000
DTSTAMP:20260421T071933
CREATED:20240302T181631Z
LAST-MODIFIED:20240302T181631Z
UID:10001122-1722153600-1722186000@esdcta.org
SUMMARY:Bucks Co Horse Park Schooling HT
DESCRIPTION:Schooling Horse Trials
URL:https://esdcta.org/event/bucks-co-horse-park-schooling-ht-2/
LOCATION:Bucks County Horse Park\, 8934 Easton Rd\, Revere\, PA\, 018953\, United States
CATEGORIES:Eventing
GEO:40.5224751;-75.1684702
X-APPLE-STRUCTURED-LOCATION;VALUE=URI;X-ADDRESS=Bucks County Horse Park 8934 Easton Rd Revere PA 018953 United States;X-APPLE-RADIUS=500;X-TITLE=8934 Easton Rd:geo:-75.1684702,40.5224751
END:VEVENT
BEGIN:VEVENT
DTSTART;TZID=America/New_York:20240728T080000
DTEND;TZID=America/New_York:20240728T170000
DTSTAMP:20260421T071933
CREATED:20240217T171003Z
LAST-MODIFIED:20240723T130611Z
UID:10001105-1722153600-1722186000@esdcta.org
SUMMARY:LVDA Decades of Dressage
DESCRIPTION:Dressage Schooling
URL:https://esdcta.org/event/lvda-schooling-show-iv/
LOCATION:Sterling Hill Stables\, 7897 Spring House Road\, New Tripoli\, PA\, 18066\, United States
CATEGORIES:Dressage
END:VEVENT
END:VCALENDAR